BEGIN:VCALENDAR
VERSION:2.0
PRODID:-//South Texas Prime Timers - ECPv6.15.20//NONSGML v1.0//EN
CALSCALE:GREGORIAN
METHOD:PUBLISH
X-WR-CALNAME:South Texas Prime Timers
X-ORIGINAL-URL:https://chapters.theprimetimersww.com/riogrande
X-WR-CALDESC:Events for South Texas Prime Timers
REFRESH-INTERVAL;VALUE=DURATION:PT1H
X-Robots-Tag:noindex
X-PUBLISHED-TTL:PT1H
BEGIN:VTIMEZONE
TZID:America/Chicago
BEGIN:DAYLIGHT
TZOFFSETFROM:-0600
TZOFFSETTO:-0500
TZNAME:CDT
DTSTART:20250309T080000
END:DAYLIGHT
BEGIN:STANDARD
TZOFFSETFROM:-0500
TZOFFSETTO:-0600
TZNAME:CST
DTSTART:20251102T070000
END:STANDARD
BEGIN:DAYLIGHT
TZOFFSETFROM:-0600
TZOFFSETTO:-0500
TZNAME:CDT
DTSTART:20260308T080000
END:DAYLIGHT
BEGIN:STANDARD
TZOFFSETFROM:-0500
TZOFFSETTO:-0600
TZNAME:CST
DTSTART:20261101T070000
END:STANDARD
BEGIN:DAYLIGHT
TZOFFSETFROM:-0600
TZOFFSETTO:-0500
TZNAME:CDT
DTSTART:20270314T080000
END:DAYLIGHT
BEGIN:STANDARD
TZOFFSETFROM:-0500
TZOFFSETTO:-0600
TZNAME:CST
DTSTART:20271107T070000
END:STANDARD
END:VTIMEZONE
BEGIN:VEVENT
DTSTART;TZID=America/Chicago:20260122T111500
DTEND;TZID=America/Chicago:20260122T150000
DTSTAMP:20260423T162127
CREATED:20260102T185029Z
LAST-MODIFIED:20260115T164800Z
UID:10000800-1769080500-1769094000@chapters.theprimetimersww.com
SUMMARY:Friday 11:15am Lunch and Trolley Tour RSVP please
DESCRIPTION:South Texas Prime Timers are planning a Historical Tour of Rio Grande City with Bessie III Trolley Tours on January 22 at 1:30 pm. The tour is 1.5 hours long and is $10.00 per person cash or check only. (Veterans are free) Reservations must be made 1 day in advance. We plan to meet first at 11:15am for lunch at Caro’s Mexican Restaurant. Their address is 607 W 2nd Street in Rio Grande City. If you plan to attend please RSVP by Jan. 20 to southtxprimetimers@gmail.com
URL:https://chapters.theprimetimersww.com/riogrande/event/friday-1115am-lunch-and-trolley-tour-rsvp-please/
LOCATION:Bessie Trolley\, 406 E. Main Street\, Rio Grande City\, TX\, 78582\, United States
ATTACH;FMTTYPE=image/png:https://chapters.theprimetimersww.com/riogrande/wp-content/uploads/2026/01/bessie3.png
END:VEVENT
END:VCALENDAR