BEGIN:VCALENDAR
VERSION:2.0
PRODID:-//South Texas Prime Timers - ECPv6.15.20//NONSGML v1.0//EN
CALSCALE:GREGORIAN
METHOD:PUBLISH
X-ORIGINAL-URL:https://chapters.theprimetimersww.com/riogrande
X-WR-CALDESC:Events for South Texas Prime Timers
REFRESH-INTERVAL;VALUE=DURATION:PT1H
X-Robots-Tag:noindex
X-PUBLISHED-TTL:PT1H
BEGIN:VTIMEZONE
TZID:America/Chicago
BEGIN:DAYLIGHT
TZOFFSETFROM:-0600
TZOFFSETTO:-0500
TZNAME:CDT
DTSTART:20240310T080000
END:DAYLIGHT
BEGIN:STANDARD
TZOFFSETFROM:-0500
TZOFFSETTO:-0600
TZNAME:CST
DTSTART:20241103T070000
END:STANDARD
BEGIN:DAYLIGHT
TZOFFSETFROM:-0600
TZOFFSETTO:-0500
TZNAME:CDT
DTSTART:20250309T080000
END:DAYLIGHT
BEGIN:STANDARD
TZOFFSETFROM:-0500
TZOFFSETTO:-0600
TZNAME:CST
DTSTART:20251102T070000
END:STANDARD
BEGIN:DAYLIGHT
TZOFFSETFROM:-0600
TZOFFSETTO:-0500
TZNAME:CDT
DTSTART:20260308T080000
END:DAYLIGHT
BEGIN:STANDARD
TZOFFSETFROM:-0500
TZOFFSETTO:-0600
TZNAME:CST
DTSTART:20261101T070000
END:STANDARD
END:VTIMEZONE
BEGIN:VEVENT
DTSTART;TZID=America/Chicago:20251122T130000
DTEND;TZID=America/Chicago:20251122T143000
DTSTAMP:20260424T210206
CREATED:20251102T192755Z
LAST-MODIFIED:20251102T192755Z
UID:10000533-1763816400-1763821800@chapters.theprimetimersww.com
SUMMARY:Saturday 1 pm - Lunch at Cheddars RSVP please.
DESCRIPTION:Prime Timers monthly lunch for November is at Cheddar’s Scratch Kitchen in McAllen.  Please RSVP to southtxprimetimers@gmail.com if you plan to attend.
URL:https://chapters.theprimetimersww.com/riogrande/event/saturday-1-pm-lunch-at-cheddars-rsvp-please-2/
LOCATION:Cheddars McAllen\, 3020 W Expressway 83\, McAllen\, TX\, 78501\, United States
ATTACH;FMTTYPE=image/png:https://chapters.theprimetimersww.com/riogrande/wp-content/uploads/2025/05/cheddars-logo.png
END:VEVENT
BEGIN:VEVENT
DTSTART;TZID=America/Chicago:20250524T130000
DTEND;TZID=America/Chicago:20250524T143000
DTSTAMP:20260424T210206
CREATED:20250505T232713Z
LAST-MODIFIED:20250505T233944Z
UID:10000517-1748091600-1748097000@chapters.theprimetimersww.com
SUMMARY:Saturday 1 pm - Lunch at Cheddars RSVP please.
DESCRIPTION:Prime Timers monthly lunch for May is at Cheddar’s Scratch Kitchen in McAllen.  Please RSVP to southtxprimetimers@gmail.com if you plan to attend.
URL:https://chapters.theprimetimersww.com/riogrande/event/saturday-1-pm-lunch-at-cheddars-rsvp-please/
LOCATION:Cheddars McAllen\, 3020 W Expressway 83\, McAllen\, TX\, 78501\, United States
ATTACH;FMTTYPE=image/png:https://chapters.theprimetimersww.com/riogrande/wp-content/uploads/2025/05/cheddars-logo.png
END:VEVENT
END:VCALENDAR