BEGIN:VCALENDAR
VERSION:2.0
PRODID:-//South Texas Prime Timers - ECPv6.15.20//NONSGML v1.0//EN
CALSCALE:GREGORIAN
METHOD:PUBLISH
X-ORIGINAL-URL:https://chapters.theprimetimersww.com/riogrande
X-WR-CALDESC:Events for South Texas Prime Timers
REFRESH-INTERVAL;VALUE=DURATION:PT1H
X-Robots-Tag:noindex
X-PUBLISHED-TTL:PT1H
BEGIN:VTIMEZONE
TZID:America/Chicago
BEGIN:DAYLIGHT
TZOFFSETFROM:-0600
TZOFFSETTO:-0500
TZNAME:CDT
DTSTART:20220313T080000
END:DAYLIGHT
BEGIN:STANDARD
TZOFFSETFROM:-0500
TZOFFSETTO:-0600
TZNAME:CST
DTSTART:20221106T070000
END:STANDARD
BEGIN:DAYLIGHT
TZOFFSETFROM:-0600
TZOFFSETTO:-0500
TZNAME:CDT
DTSTART:20230312T080000
END:DAYLIGHT
BEGIN:STANDARD
TZOFFSETFROM:-0500
TZOFFSETTO:-0600
TZNAME:CST
DTSTART:20231105T070000
END:STANDARD
BEGIN:DAYLIGHT
TZOFFSETFROM:-0600
TZOFFSETTO:-0500
TZNAME:CDT
DTSTART:20240310T080000
END:DAYLIGHT
BEGIN:STANDARD
TZOFFSETFROM:-0500
TZOFFSETTO:-0600
TZNAME:CST
DTSTART:20241103T070000
END:STANDARD
END:VTIMEZONE
BEGIN:VEVENT
DTSTART;TZID=America/Chicago:20231109T100000
DTEND;TZID=America/Chicago:20231109T120000
DTSTAMP:20260424T062135
CREATED:20231102T202738Z
LAST-MODIFIED:20231102T203037Z
UID:10000166-1699524000-1699531200@chapters.theprimetimersww.com
SUMMARY:Thursday 10am Coffee Social - RSVP requested
DESCRIPTION:Join us for a midweek morning gathering to drink coffee and socialize at Kreative Grounds Cafe in McAllen. Click here to RSVP.
URL:https://chapters.theprimetimersww.com/riogrande/event/thursday-10am-coffee-social-rsvp-requested/
LOCATION:Kreative Grounds Cafe\, 609 N 10th Street\, McAllen\, TX\, 78501\, United States
ATTACH;FMTTYPE=image/png:https://chapters.theprimetimersww.com/riogrande/wp-content/uploads/2023/11/KG-Facade-e1698953879701.png
END:VEVENT
END:VCALENDAR