BEGIN:VCALENDAR
VERSION:2.0
PRODID:-//South Texas Prime Timers - ECPv6.15.20//NONSGML v1.0//EN
CALSCALE:GREGORIAN
METHOD:PUBLISH
X-WR-CALNAME:South Texas Prime Timers
X-ORIGINAL-URL:https://chapters.theprimetimersww.com/riogrande
X-WR-CALDESC:Events for South Texas Prime Timers
REFRESH-INTERVAL;VALUE=DURATION:PT1H
X-Robots-Tag:noindex
X-PUBLISHED-TTL:PT1H
BEGIN:VTIMEZONE
TZID:America/Chicago
BEGIN:DAYLIGHT
TZOFFSETFROM:-0600
TZOFFSETTO:-0500
TZNAME:CDT
DTSTART:20230312T080000
END:DAYLIGHT
BEGIN:STANDARD
TZOFFSETFROM:-0500
TZOFFSETTO:-0600
TZNAME:CST
DTSTART:20231105T070000
END:STANDARD
BEGIN:DAYLIGHT
TZOFFSETFROM:-0600
TZOFFSETTO:-0500
TZNAME:CDT
DTSTART:20240310T080000
END:DAYLIGHT
BEGIN:STANDARD
TZOFFSETFROM:-0500
TZOFFSETTO:-0600
TZNAME:CST
DTSTART:20241103T070000
END:STANDARD
BEGIN:DAYLIGHT
TZOFFSETFROM:-0600
TZOFFSETTO:-0500
TZNAME:CDT
DTSTART:20250309T080000
END:DAYLIGHT
BEGIN:STANDARD
TZOFFSETFROM:-0500
TZOFFSETTO:-0600
TZNAME:CST
DTSTART:20251102T070000
END:STANDARD
END:VTIMEZONE
BEGIN:VEVENT
DTSTART;TZID=America/Chicago:20240210T113000
DTEND;TZID=America/Chicago:20240210T150000
DTSTAMP:20260423T162457
CREATED:20240124T035054Z
LAST-MODIFIED:20240124T035054Z
UID:10000449-1707564600-1707577200@chapters.theprimetimersww.com
SUMMARY:Saturday 11:30am - Chili Cook Off - RSVP
DESCRIPTION:The Walk for Women Chili Cook Off is on South Padre Island at Louie’s backyard. This year also includes Gumbo. Doors open at 11:00am and tasting begins at noon. Admission for tasting is $10. We are considering carpooling so please indicate your transportation expectations when you RSVP to southtxprimetimers@gmail.com.
URL:https://chapters.theprimetimersww.com/riogrande/event/saturday-1130am-chili-cook-off-rsvp/
LOCATION:Louie’s Backyard SPI\, 2305 Laguna Blvd\, South Padre Island\, TX\, 78597\, United States
ATTACH;FMTTYPE=image/jpeg:https://chapters.theprimetimersww.com/riogrande/wp-content/uploads/2024/01/chili_03.jpg
END:VEVENT
END:VCALENDAR