BEGIN:VCALENDAR
VERSION:2.0
PRODID:-//South Texas Prime Timers - ECPv6.15.20//NONSGML v1.0//EN
CALSCALE:GREGORIAN
METHOD:PUBLISH
X-WR-CALNAME:South Texas Prime Timers
X-ORIGINAL-URL:https://chapters.theprimetimersww.com/riogrande
X-WR-CALDESC:Events for South Texas Prime Timers
REFRESH-INTERVAL;VALUE=DURATION:PT1H
X-Robots-Tag:noindex
X-PUBLISHED-TTL:PT1H
BEGIN:VTIMEZONE
TZID:America/Chicago
BEGIN:DAYLIGHT
TZOFFSETFROM:-0600
TZOFFSETTO:-0500
TZNAME:CDT
DTSTART:20230312T080000
END:DAYLIGHT
BEGIN:STANDARD
TZOFFSETFROM:-0500
TZOFFSETTO:-0600
TZNAME:CST
DTSTART:20231105T070000
END:STANDARD
BEGIN:DAYLIGHT
TZOFFSETFROM:-0600
TZOFFSETTO:-0500
TZNAME:CDT
DTSTART:20240310T080000
END:DAYLIGHT
BEGIN:STANDARD
TZOFFSETFROM:-0500
TZOFFSETTO:-0600
TZNAME:CST
DTSTART:20241103T070000
END:STANDARD
BEGIN:DAYLIGHT
TZOFFSETFROM:-0600
TZOFFSETTO:-0500
TZNAME:CDT
DTSTART:20250309T080000
END:DAYLIGHT
BEGIN:STANDARD
TZOFFSETFROM:-0500
TZOFFSETTO:-0600
TZNAME:CST
DTSTART:20251102T070000
END:STANDARD
BEGIN:DAYLIGHT
TZOFFSETFROM:-0600
TZOFFSETTO:-0500
TZNAME:CDT
DTSTART:20260308T080000
END:DAYLIGHT
BEGIN:STANDARD
TZOFFSETFROM:-0500
TZOFFSETTO:-0600
TZNAME:CST
DTSTART:20261101T070000
END:STANDARD
BEGIN:DAYLIGHT
TZOFFSETFROM:-0600
TZOFFSETTO:-0500
TZNAME:CDT
DTSTART:20270314T080000
END:DAYLIGHT
BEGIN:STANDARD
TZOFFSETFROM:-0500
TZOFFSETTO:-0600
TZNAME:CST
DTSTART:20271107T070000
END:STANDARD
END:VTIMEZONE
BEGIN:VEVENT
DTSTART;TZID=America/Chicago:20260207T100000
DTEND;TZID=America/Chicago:20260207T113000
DTSTAMP:20260423T134537
CREATED:20260202T180349Z
LAST-MODIFIED:20260202T180349Z
UID:10000802-1770458400-1770463800@chapters.theprimetimersww.com
SUMMARY:Saturday 10 am - Harlingen Market Days
DESCRIPTION:Monthly\, on the first Saturday\, Harlingen holds their Market Days street fair on Jackson street between 4th and Commerce. Live music\, good food\, antiques\, and locally created arts and crafts are featured at this event. Afterwards join us at La Playa for lunch.
URL:https://chapters.theprimetimersww.com/riogrande/event/saturday-10-am-harlingen-market-days/
LOCATION:Market Days Harlingen\, 214 W Jackson Street\, Harlingen\, TX\, 78550\, United States
ATTACH;FMTTYPE=image/png:https://chapters.theprimetimersww.com/riogrande/wp-content/uploads/2023/12/marketDay.png
END:VEVENT
BEGIN:VEVENT
DTSTART;TZID=America/Chicago:20241102T100000
DTEND;TZID=America/Chicago:20241102T120000
DTSTAMP:20260423T134537
CREATED:20240401T170424Z
LAST-MODIFIED:20241021T165657Z
UID:10000460-1730541600-1730548800@chapters.theprimetimersww.com
SUMMARY:Saturday 10 am - Harlingen Market Days RSVP please.
DESCRIPTION:Meet at the corner of Commerce and Jackson streets for the monthly Market Days. Live music\, good food\, antiques\, and locally created arts and crafts are featured at this event. Afterwards join us in San Benito for lunch (10 minutes away). Please RSVP to southtxprimetimers@gmail.com.
URL:https://chapters.theprimetimersww.com/riogrande/event/saturday-10-am-harlingen-market-days-rsvp-please-2/
LOCATION:Market Days Harlingen\, 214 W Jackson Street\, Harlingen\, TX\, 78550\, United States
ATTACH;FMTTYPE=image/png:https://chapters.theprimetimersww.com/riogrande/wp-content/uploads/2023/12/marketDay.png
END:VEVENT
BEGIN:VEVENT
DTSTART;TZID=America/Chicago:20240106T100000
DTEND;TZID=America/Chicago:20240106T150000
DTSTAMP:20260423T134537
CREATED:20231223T031332Z
LAST-MODIFIED:20231223T032456Z
UID:10000182-1704535200-1704553200@chapters.theprimetimersww.com
SUMMARY:Saturday 10 am - Harlingen Market Days RSVP please.
DESCRIPTION:Meet at the corner of Commerce and Jackson streets for the monthly Market Days. Live music\, good food\, antiques\, and locally created art and crafts are featured at this event. Anyone interested may also attend lunch at Longhorn BBQ in San Benito around 12 or 12:30. Please RSVP to southtxprimetimers@gmail.com.
URL:https://chapters.theprimetimersww.com/riogrande/event/saturday-10-am-harlingen-market-days-rsvp-please/
LOCATION:Market Days Harlingen\, 214 W Jackson Street\, Harlingen\, TX\, 78550\, United States
ATTACH;FMTTYPE=image/png:https://chapters.theprimetimersww.com/riogrande/wp-content/uploads/2023/12/marketDay.png
END:VEVENT
END:VCALENDAR