BEGIN:VCALENDAR
VERSION:2.0
PRODID:-//South Texas Prime Timers - ECPv6.15.20//NONSGML v1.0//EN
CALSCALE:GREGORIAN
METHOD:PUBLISH
X-ORIGINAL-URL:https://chapters.theprimetimersww.com/riogrande
X-WR-CALDESC:Events for South Texas Prime Timers
REFRESH-INTERVAL;VALUE=DURATION:PT1H
X-Robots-Tag:noindex
X-PUBLISHED-TTL:PT1H
BEGIN:VTIMEZONE
TZID:America/Chicago
BEGIN:DAYLIGHT
TZOFFSETFROM:-0600
TZOFFSETTO:-0500
TZNAME:CDT
DTSTART:20220313T080000
END:DAYLIGHT
BEGIN:STANDARD
TZOFFSETFROM:-0500
TZOFFSETTO:-0600
TZNAME:CST
DTSTART:20221106T070000
END:STANDARD
BEGIN:DAYLIGHT
TZOFFSETFROM:-0600
TZOFFSETTO:-0500
TZNAME:CDT
DTSTART:20230312T080000
END:DAYLIGHT
BEGIN:STANDARD
TZOFFSETFROM:-0500
TZOFFSETTO:-0600
TZNAME:CST
DTSTART:20231105T070000
END:STANDARD
BEGIN:DAYLIGHT
TZOFFSETFROM:-0600
TZOFFSETTO:-0500
TZNAME:CDT
DTSTART:20240310T080000
END:DAYLIGHT
BEGIN:STANDARD
TZOFFSETFROM:-0500
TZOFFSETTO:-0600
TZNAME:CST
DTSTART:20241103T070000
END:STANDARD
END:VTIMEZONE
BEGIN:VEVENT
DTSTART;TZID=America/Chicago:20230916T103000
DTEND;TZID=America/Chicago:20230916T120000
DTSTAMP:20260424T105811
CREATED:20230823T160819Z
LAST-MODIFIED:20230823T161557Z
UID:10000132-1694860200-1694865600@chapters.theprimetimersww.com
SUMMARY:Walking Tour Museum of South Texas History - No RSVP needed
DESCRIPTION:Join us on Saturday morning at 10:30 on September 16\, 2023\, for a walking tour of the Museum of South Texas in Edinburgh\, TX.  One of our own members\, an anthropology expert\, will be on hand to guide us through the exhibits.  Admission is FREE on Saturdays between 10am and 12pm! \nAfterwards please join us for lunch at Ace’s BBQ Edinburgh at 12:30pm. \n 
URL:https://chapters.theprimetimersww.com/riogrande/event/walking-tour-museum-of-south-texas-history/
LOCATION:Museum of South Texas History\, 200 N. Closer Blvd\, Edinburgh\, TX\, 78541\, United States
ATTACH;FMTTYPE=image/png:https://chapters.theprimetimersww.com/riogrande/wp-content/uploads/2023/08/MOSTHistory-e1692735029819.png
END:VEVENT
END:VCALENDAR