BEGIN:VCALENDAR
VERSION:2.0
PRODID:-//South Texas Prime Timers - ECPv6.15.20//NONSGML v1.0//EN
CALSCALE:GREGORIAN
METHOD:PUBLISH
X-WR-CALNAME:South Texas Prime Timers
X-ORIGINAL-URL:https://chapters.theprimetimersww.com/riogrande
X-WR-CALDESC:Events for South Texas Prime Timers
REFRESH-INTERVAL;VALUE=DURATION:PT1H
X-Robots-Tag:noindex
X-PUBLISHED-TTL:PT1H
BEGIN:VTIMEZONE
TZID:America/Chicago
BEGIN:DAYLIGHT
TZOFFSETFROM:-0600
TZOFFSETTO:-0500
TZNAME:CDT
DTSTART:20230312T080000
END:DAYLIGHT
BEGIN:STANDARD
TZOFFSETFROM:-0500
TZOFFSETTO:-0600
TZNAME:CST
DTSTART:20231105T070000
END:STANDARD
BEGIN:DAYLIGHT
TZOFFSETFROM:-0600
TZOFFSETTO:-0500
TZNAME:CDT
DTSTART:20240310T080000
END:DAYLIGHT
BEGIN:STANDARD
TZOFFSETFROM:-0500
TZOFFSETTO:-0600
TZNAME:CST
DTSTART:20241103T070000
END:STANDARD
BEGIN:DAYLIGHT
TZOFFSETFROM:-0600
TZOFFSETTO:-0500
TZNAME:CDT
DTSTART:20250309T080000
END:DAYLIGHT
BEGIN:STANDARD
TZOFFSETFROM:-0500
TZOFFSETTO:-0600
TZNAME:CST
DTSTART:20251102T070000
END:STANDARD
BEGIN:DAYLIGHT
TZOFFSETFROM:-0600
TZOFFSETTO:-0500
TZNAME:CDT
DTSTART:20260308T080000
END:DAYLIGHT
BEGIN:STANDARD
TZOFFSETFROM:-0500
TZOFFSETTO:-0600
TZNAME:CST
DTSTART:20261101T070000
END:STANDARD
END:VTIMEZONE
BEGIN:VEVENT
DTSTART;TZID=America/Chicago:20250514T130000
DTEND;TZID=America/Chicago:20250514T150000
DTSTAMP:20260424T062941
CREATED:20250430T200859Z
LAST-MODIFIED:20250430T200859Z
UID:10000515-1747227600-1747234800@chapters.theprimetimersww.com
SUMMARY:Wednesday - 1pm. Lunch at Roosevelt's at 7 please RSVP
DESCRIPTION:Prime Timers midweek lunch will be at Roosevelt’s at 7 in McAllen on Wednesday\, May14 at 1pm. Please RSVP to southtxprimetimers@gmail.com.
URL:https://chapters.theprimetimersww.com/riogrande/event/wednesday-1pm-lunch-at-roosevelts-at-7-please-rsvp/
LOCATION:Roosevelt’s\, 821 N Main St.\, McAllen\, TX\, 78501\, United States
ATTACH;FMTTYPE=image/png:https://chapters.theprimetimersww.com/riogrande/wp-content/uploads/2024/07/image1.png
END:VEVENT
BEGIN:VEVENT
DTSTART;TZID=America/Chicago:20250222T130000
DTEND;TZID=America/Chicago:20250222T150000
DTSTAMP:20260424T062941
CREATED:20250129T204325Z
LAST-MODIFIED:20250129T204325Z
UID:10000503-1740229200-1740236400@chapters.theprimetimersww.com
SUMMARY:Saturday - 1pm. Lunch at Roosevelt's at 7 please RSVP
DESCRIPTION:Prime Timers monthly lunch will be at Roosevelt’s at 7 in McAllen on Saturday\, February 22 . Please RSVP by 2/20/25 to southtxprimetimers@gmail.com.
URL:https://chapters.theprimetimersww.com/riogrande/event/saturday-1pm-lunch-at-roosevelts-at-7-please-rsvp-2/
LOCATION:Roosevelt’s\, 821 N Main St.\, McAllen\, TX\, 78501\, United States
ATTACH;FMTTYPE=image/png:https://chapters.theprimetimersww.com/riogrande/wp-content/uploads/2024/07/image1.png
END:VEVENT
BEGIN:VEVENT
DTSTART;TZID=America/Chicago:20240824T130000
DTEND;TZID=America/Chicago:20240824T150000
DTSTAMP:20260424T062941
CREATED:20240730T012718Z
LAST-MODIFIED:20240730T012946Z
UID:10000492-1724504400-1724511600@chapters.theprimetimersww.com
SUMMARY:Saturday - 1pm. Lunch at Roosevelt's at 7 please RSVP
DESCRIPTION:Prime Timers monthly lunch will be at Roosevelt’s at 7 in McAllen on Saturday\, August 24 . Please RSVP by 8/22/24 to southtxprimetimers@gmail.com.
URL:https://chapters.theprimetimersww.com/riogrande/event/saturday-1pm-lunch-at-roosevelts-at-7-please-rsvp/
LOCATION:Roosevelt’s\, 821 N Main St.\, McAllen\, TX\, 78501\, United States
ATTACH;FMTTYPE=image/png:https://chapters.theprimetimersww.com/riogrande/wp-content/uploads/2024/07/image1.png
END:VEVENT
END:VCALENDAR