BEGIN:VCALENDAR
VERSION:2.0
PRODID:-//South Texas Prime Timers - ECPv6.15.20//NONSGML v1.0//EN
CALSCALE:GREGORIAN
METHOD:PUBLISH
X-ORIGINAL-URL:https://chapters.theprimetimersww.com/riogrande
X-WR-CALDESC:Events for South Texas Prime Timers
REFRESH-INTERVAL;VALUE=DURATION:PT1H
X-Robots-Tag:noindex
X-PUBLISHED-TTL:PT1H
BEGIN:VTIMEZONE
TZID:America/Chicago
BEGIN:DAYLIGHT
TZOFFSETFROM:-0600
TZOFFSETTO:-0500
TZNAME:CDT
DTSTART:20230312T080000
END:DAYLIGHT
BEGIN:STANDARD
TZOFFSETFROM:-0500
TZOFFSETTO:-0600
TZNAME:CST
DTSTART:20231105T070000
END:STANDARD
BEGIN:DAYLIGHT
TZOFFSETFROM:-0600
TZOFFSETTO:-0500
TZNAME:CDT
DTSTART:20240310T080000
END:DAYLIGHT
BEGIN:STANDARD
TZOFFSETFROM:-0500
TZOFFSETTO:-0600
TZNAME:CST
DTSTART:20241103T070000
END:STANDARD
BEGIN:DAYLIGHT
TZOFFSETFROM:-0600
TZOFFSETTO:-0500
TZNAME:CDT
DTSTART:20250309T080000
END:DAYLIGHT
BEGIN:STANDARD
TZOFFSETFROM:-0500
TZOFFSETTO:-0600
TZNAME:CST
DTSTART:20251102T070000
END:STANDARD
END:VTIMEZONE
BEGIN:VEVENT
DTSTART;TZID=America/Chicago:20240630T150000
DTEND;TZID=America/Chicago:20240630T170000
DTSTAMP:20260425T055204
CREATED:20240531T175218Z
LAST-MODIFIED:20240531T175506Z
UID:10000486-1719759600-1719766800@chapters.theprimetimersww.com
SUMMARY:Sunday - 3pm Happy Hour at Toucan Lounge
DESCRIPTION:Join the Prime Timers for happy hour Sunday June 30 at 3pm. The Toucan Lounge has plenty of room and is not too loud.
URL:https://chapters.theprimetimersww.com/riogrande/event/sunday-3pm-happy-hour-at-toucan-lounge/
LOCATION:Toucan Lounge\, 300 E. Expressway 83 (I-2)\, McAllen\, TX\, 78503\, United States
ATTACH;FMTTYPE=image/jpeg:https://chapters.theprimetimersww.com/riogrande/wp-content/uploads/2022/01/Toucan-Lounge-logo-2-e1717177217671.jpg
END:VEVENT
END:VCALENDAR