BEGIN:VCALENDAR
VERSION:2.0
PRODID:-//Prime Timers St. Louis - ECPv6.15.20//NONSGML v1.0//EN
CALSCALE:GREGORIAN
METHOD:PUBLISH
X-WR-CALNAME:Prime Timers St. Louis
X-ORIGINAL-URL:https://chapters.theprimetimersww.com/stlouis
X-WR-CALDESC:Events for Prime Timers St. Louis
REFRESH-INTERVAL;VALUE=DURATION:PT1H
X-Robots-Tag:noindex
X-PUBLISHED-TTL:PT1H
BEGIN:VTIMEZONE
TZID:America/Chicago
BEGIN:DAYLIGHT
TZOFFSETFROM:-0600
TZOFFSETTO:-0500
TZNAME:CDT
DTSTART:20220313T080000
END:DAYLIGHT
BEGIN:STANDARD
TZOFFSETFROM:-0500
TZOFFSETTO:-0600
TZNAME:CST
DTSTART:20221106T070000
END:STANDARD
BEGIN:DAYLIGHT
TZOFFSETFROM:-0600
TZOFFSETTO:-0500
TZNAME:CDT
DTSTART:20230312T080000
END:DAYLIGHT
BEGIN:STANDARD
TZOFFSETFROM:-0500
TZOFFSETTO:-0600
TZNAME:CST
DTSTART:20231105T070000
END:STANDARD
BEGIN:DAYLIGHT
TZOFFSETFROM:-0600
TZOFFSETTO:-0500
TZNAME:CDT
DTSTART:20240310T080000
END:DAYLIGHT
BEGIN:STANDARD
TZOFFSETFROM:-0500
TZOFFSETTO:-0600
TZNAME:CST
DTSTART:20241103T070000
END:STANDARD
END:VTIMEZONE
BEGIN:VEVENT
DTSTART;TZID=America/Chicago:20230701T120000
DTEND;TZID=America/Chicago:20230701T170000
DTSTAMP:20260424T013121
CREATED:20230612T174840Z
LAST-MODIFIED:20230906T014927Z
UID:10000034-1688212800-1688230800@chapters.theprimetimersww.com
SUMMARY:SAT 12 Noon - 13th Annual Independence Day Potluck Banquet - RSVP Required (Accepts Only)
DESCRIPTION:Join Us for the 13th Annual Independence Day Potluck Banquet! \n \nJoin your fellow Prime Timers for this event on Saturday\, July 1\, 2023 at 12 Noon at the O’Fallon St. building\, just North of the Arch in downtown St. Louis.  Exact location with directions will be sent to those that RSVP. \n(Note: there will be no walking down the block after the party to see the riverfront fireworks.  Fair St. Louis is only having the fireworks on Tuesday\, July 4.)\n \nWe will provide the main dishes (to be announced)\, soft drinks\, coffee\, and bottled water.  Alcohol is BYOB.  You should bring a suitable side dish\, appetizer\, or dessert to share. \nEmail your RSVP by Thursday\, June 29 (Accepts only) to: rsvp@primetimersstl.org and indicate the number in your party and what potluck dish you wish to bring. \nCost is FREE for members and a $5 donation for non-member guests (it’s FREE to guests if they join PTSL that evening). \nMembership renewals will also be accepted for those members that wish to renew at the gathering (Cash\, Check\, Credit Card). \nHope you will join us for this holiday event!!
URL:https://chapters.theprimetimersww.com/stlouis/event/sat-12-noon-13th-annual-independence-day-potluck-banquet-rsvp-required-accepts-only/
LOCATION:William A. Kerr Foundation\, 21 O'Fallon Street\, St. Louis\, MO\, 63102\, United States
ATTACH;FMTTYPE=image/jpeg:https://chapters.theprimetimersww.com/stlouis/wp-content/uploads/2023/06/fireworks23586275_0a9e2da29fsmall.jpg
END:VEVENT
END:VCALENDAR