BEGIN:VCALENDAR
VERSION:2.0
PRODID:-//Prime Timers St. Louis - ECPv6.15.20//NONSGML v1.0//EN
CALSCALE:GREGORIAN
METHOD:PUBLISH
X-WR-CALNAME:Prime Timers St. Louis
X-ORIGINAL-URL:https://chapters.theprimetimersww.com/stlouis
X-WR-CALDESC:Events for Prime Timers St. Louis
REFRESH-INTERVAL;VALUE=DURATION:PT1H
X-Robots-Tag:noindex
X-PUBLISHED-TTL:PT1H
BEGIN:VTIMEZONE
TZID:America/Chicago
BEGIN:DAYLIGHT
TZOFFSETFROM:-0600
TZOFFSETTO:-0500
TZNAME:CDT
DTSTART:20220313T080000
END:DAYLIGHT
BEGIN:STANDARD
TZOFFSETFROM:-0500
TZOFFSETTO:-0600
TZNAME:CST
DTSTART:20221106T070000
END:STANDARD
BEGIN:DAYLIGHT
TZOFFSETFROM:-0600
TZOFFSETTO:-0500
TZNAME:CDT
DTSTART:20230312T080000
END:DAYLIGHT
BEGIN:STANDARD
TZOFFSETFROM:-0500
TZOFFSETTO:-0600
TZNAME:CST
DTSTART:20231105T070000
END:STANDARD
BEGIN:DAYLIGHT
TZOFFSETFROM:-0600
TZOFFSETTO:-0500
TZNAME:CDT
DTSTART:20240310T080000
END:DAYLIGHT
BEGIN:STANDARD
TZOFFSETFROM:-0500
TZOFFSETTO:-0600
TZNAME:CST
DTSTART:20241103T070000
END:STANDARD
END:VTIMEZONE
BEGIN:VEVENT
DTSTART;TZID=America/Chicago:20230906T190000
DTEND;TZID=America/Chicago:20230906T200000
DTSTAMP:20260423T012724
CREATED:20230717T010156Z
LAST-MODIFIED:20230906T013601Z
UID:10000042-1694026800-1694030400@chapters.theprimetimersww.com
SUMMARY:ONLINE: PTSL FREE Talk – Missouri’s Highway 36\, The Highway of American Genius
DESCRIPTION:Missouri Federal Highway 36 snakes across the northern part of the state\, and many innovators have lived along this highway.  Innovators in art\, aviation\, movies\, healthcare\, food\, literature\, warfare\, retail\, communication – plus a woman who had an entire Broadway show written about her.  This armchair tour will take you to where these innovators lived\, as well as the many quaint and notable towns along the route.  And you will find out about many interesting places to visit along the highway which goes from Hannibal to St. Joseph.\n\n\nAll PTSL members will receive a Zoom link for this free online talk.  RSVP is not required for PTSL members. Non-members will need to RSVP by Tuesday\, September 5 (Accepts only) by clicking on this link: ParadiseDouglas@gmail.com (or send an email to this address). All members and guests will later receive an email with connection instructions for the gathering.
URL:https://chapters.theprimetimersww.com/stlouis/event/online-ptsl-free-talk-missouris-highway-36-the-highway-of-american-genius/
LOCATION:ONLINE: PTSL FREE Talk\, St. Louis\, MO\, United States
ATTACH;FMTTYPE=image/jpeg:https://chapters.theprimetimersww.com/stlouis/wp-content/uploads/2023/07/Logo-Highway36.jpg
END:VEVENT
END:VCALENDAR