BEGIN:VCALENDAR
VERSION:2.0
PRODID:-//Prime Timers St. Louis - ECPv6.15.20//NONSGML v1.0//EN
CALSCALE:GREGORIAN
METHOD:PUBLISH
X-WR-CALNAME:Prime Timers St. Louis
X-ORIGINAL-URL:https://chapters.theprimetimersww.com/stlouis
X-WR-CALDESC:Events for Prime Timers St. Louis
REFRESH-INTERVAL;VALUE=DURATION:PT1H
X-Robots-Tag:noindex
X-PUBLISHED-TTL:PT1H
BEGIN:VTIMEZONE
TZID:America/Chicago
BEGIN:DAYLIGHT
TZOFFSETFROM:-0600
TZOFFSETTO:-0500
TZNAME:CDT
DTSTART:20220313T080000
END:DAYLIGHT
BEGIN:STANDARD
TZOFFSETFROM:-0500
TZOFFSETTO:-0600
TZNAME:CST
DTSTART:20221106T070000
END:STANDARD
BEGIN:DAYLIGHT
TZOFFSETFROM:-0600
TZOFFSETTO:-0500
TZNAME:CDT
DTSTART:20230312T080000
END:DAYLIGHT
BEGIN:STANDARD
TZOFFSETFROM:-0500
TZOFFSETTO:-0600
TZNAME:CST
DTSTART:20231105T070000
END:STANDARD
BEGIN:DAYLIGHT
TZOFFSETFROM:-0600
TZOFFSETTO:-0500
TZNAME:CDT
DTSTART:20240310T080000
END:DAYLIGHT
BEGIN:STANDARD
TZOFFSETFROM:-0500
TZOFFSETTO:-0600
TZNAME:CST
DTSTART:20241103T070000
END:STANDARD
END:VTIMEZONE
BEGIN:VEVENT
DTSTART;TZID=America/Chicago:20230916T110000
DTEND;TZID=America/Chicago:20230916T143000
DTSTAMP:20260423T012719
CREATED:20230728T154157Z
LAST-MODIFIED:20230906T013411Z
UID:10000055-1694862000-1694874600@chapters.theprimetimersww.com
SUMMARY:IN PERSON: PTSL Fall Picnic at Wehner Park in Shrewsbury MO
DESCRIPTION:JOIN US FOR THIS LONG-AWAITED IN-PERSON EVENT!! \nPTSL FALL PICNIC AT WEHNER PARK IN SHREWSBURY\, MO. on Saturday\, September 16\, 2023\, 11:00 AM – 2:30 PM. \nThe event will be held at the Center Pavilion in Wehner Park in Shrewsbury.  The pavilion is close to semi-handicap accessible bathrooms and has seating at picnic tables for up to 80 persons.  Parking is free and is 50 feet from the pavilion.  Wheelchair accessible.  Bring a lawn chair if picnic tables are not your preference. \nEveryone will need to bring their own food.  Bottled water and soda (with ice) will be provided by the chapter\, although you can bring your own beverages.  Alcohol is permitted\, but is BYOB.  NOTE: No glass bottles are allowed.  Electricity is available at the shelter\, and there is also a concrete path to see the park and surrounding areas. \nAn RSVP is required to attend by Thursday\, September 14 (Accepts only) by clicking on this link or emailing rsvp@primetimersstl.org.  You will then receive a reply email with directions for how to get to the park\, as well as the location of the picnic in the park. \nThe event will be held at the Center Pavilion in Wehner Park in Shrewsbury\, rain or shine. The pavilion provides plenty of shelter in case of rain\, and is close to semi-handicap accessible bathrooms. \n  The shelter is wheelchair accessible from the parking lot.  Please call (314) 467-0445 or email rsvp@primetimersstl.org ahead of time if you need assistance in accessing this location.
URL:https://chapters.theprimetimersww.com/stlouis/event/in-person-ptsl-fall-picnic-at-wehner-park-in-shrewsbury-mo/
ATTACH;FMTTYPE=image/jpeg:https://chapters.theprimetimersww.com/stlouis/wp-content/uploads/2023/07/Picnic-in-the-Park-Clipart.jpg
END:VEVENT
END:VCALENDAR