BEGIN:VCALENDAR
VERSION:2.0
PRODID:-//Prime Timers St. Louis - ECPv6.15.20//NONSGML v1.0//EN
CALSCALE:GREGORIAN
METHOD:PUBLISH
X-WR-CALNAME:Prime Timers St. Louis
X-ORIGINAL-URL:https://chapters.theprimetimersww.com/stlouis
X-WR-CALDESC:Events for Prime Timers St. Louis
REFRESH-INTERVAL;VALUE=DURATION:PT1H
X-Robots-Tag:noindex
X-PUBLISHED-TTL:PT1H
BEGIN:VTIMEZONE
TZID:America/Chicago
BEGIN:DAYLIGHT
TZOFFSETFROM:-0600
TZOFFSETTO:-0500
TZNAME:CDT
DTSTART:20220313T080000
END:DAYLIGHT
BEGIN:STANDARD
TZOFFSETFROM:-0500
TZOFFSETTO:-0600
TZNAME:CST
DTSTART:20221106T070000
END:STANDARD
BEGIN:DAYLIGHT
TZOFFSETFROM:-0600
TZOFFSETTO:-0500
TZNAME:CDT
DTSTART:20230312T080000
END:DAYLIGHT
BEGIN:STANDARD
TZOFFSETFROM:-0500
TZOFFSETTO:-0600
TZNAME:CST
DTSTART:20231105T070000
END:STANDARD
BEGIN:DAYLIGHT
TZOFFSETFROM:-0600
TZOFFSETTO:-0500
TZNAME:CDT
DTSTART:20240310T080000
END:DAYLIGHT
BEGIN:STANDARD
TZOFFSETFROM:-0500
TZOFFSETTO:-0600
TZNAME:CST
DTSTART:20241103T070000
END:STANDARD
END:VTIMEZONE
BEGIN:VEVENT
DTSTART;TZID=America/Chicago:20231005T100000
DTEND;TZID=America/Chicago:20231005T130000
DTSTAMP:20260423T012742
CREATED:20230925T213748Z
LAST-MODIFIED:20230930T000037Z
UID:10000061-1696500000-1696510800@chapters.theprimetimersww.com
SUMMARY:"URBAN ARCHEOLOGY” AT THE PULITZER ARTS FOUNDATION
DESCRIPTION:Thursday October 05 at 10:00 AM \n3716 Washington Ave. 63108    Admission and parking are free. \nDrawn from the rich collection of the National Building Arts Center\, Urban Archaeology brings together salvaged architectural elements from landmark buildings\, residential homes\, and neighborhood institutions built in St. Louis between 1840 and 1950. The artifacts on display represent important histories of material innovation\, labor\, and the everyday lives of the people who inhabit the city. The exhibition sheds light on the city’s history\, revealing complicated legacies of power\, wealth\, and neglect that shape our experience of the built environment and daily life. \nAfter viewing the exhibit\, we will drive over to Vito’s Sicilian Pizzeria and Ristorante for an optional lunch.  Vito’s is at 3515 Lindell Blvd 63103. \nSend an RSVP to Doug Schneider at ParadiseDouglas@gmail.com if you plan to attend the event. \n 
URL:https://chapters.theprimetimersww.com/stlouis/event/urban-archeology-at-the-pulitzer-arts-foundation/
LOCATION:Pulitzer Arts Foundation\, 3716 Washington Ave\, St. Louis\, 63108
ATTACH;FMTTYPE=image/jpeg:https://chapters.theprimetimersww.com/stlouis/wp-content/uploads/2023/09/Terra-Cotta-Panels_National-Budiling-Arts-Center-scaled-e1678305546580.jpg
END:VEVENT
END:VCALENDAR