BEGIN:VCALENDAR
VERSION:2.0
PRODID:-//Prime Timers St. Louis - ECPv6.15.20//NONSGML v1.0//EN
CALSCALE:GREGORIAN
METHOD:PUBLISH
X-ORIGINAL-URL:https://chapters.theprimetimersww.com/stlouis
X-WR-CALDESC:Events for Prime Timers St. Louis
REFRESH-INTERVAL;VALUE=DURATION:PT1H
X-Robots-Tag:noindex
X-PUBLISHED-TTL:PT1H
BEGIN:VTIMEZONE
TZID:America/Chicago
BEGIN:DAYLIGHT
TZOFFSETFROM:-0600
TZOFFSETTO:-0500
TZNAME:CDT
DTSTART:20220313T080000
END:DAYLIGHT
BEGIN:STANDARD
TZOFFSETFROM:-0500
TZOFFSETTO:-0600
TZNAME:CST
DTSTART:20221106T070000
END:STANDARD
BEGIN:DAYLIGHT
TZOFFSETFROM:-0600
TZOFFSETTO:-0500
TZNAME:CDT
DTSTART:20230312T080000
END:DAYLIGHT
BEGIN:STANDARD
TZOFFSETFROM:-0500
TZOFFSETTO:-0600
TZNAME:CST
DTSTART:20231105T070000
END:STANDARD
BEGIN:DAYLIGHT
TZOFFSETFROM:-0600
TZOFFSETTO:-0500
TZNAME:CDT
DTSTART:20240310T080000
END:DAYLIGHT
BEGIN:STANDARD
TZOFFSETFROM:-0500
TZOFFSETTO:-0600
TZNAME:CST
DTSTART:20241103T070000
END:STANDARD
END:VTIMEZONE
BEGIN:VEVENT
DTSTART;TZID=America/Chicago:20231009T170000
DTEND;TZID=America/Chicago:20231009T200000
DTSTAMP:20260422T174035
CREATED:20230612T172504Z
LAST-MODIFIED:20230612T173037Z
UID:10000023-1696870800-1696881600@chapters.theprimetimersww.com
SUMMARY:MON 5:00 PM - Golden Happy Hour at Just John's Nightclub - No RSVP
DESCRIPTION:Join your fellow Prime Timers at Just John’s for: \nGolden Happy Hour from 5 to 8 PM. \nAn RSVP is not necessary for this event. Just show up any time during happy hour and enjoy the evening with fellow Prime Timers. Complimentary food is served during the happy hour. \nThis event does not have a coordinator. Prime Timers can be found in a group in the rear of the bar or out on the patio in nice weather. If you don’t see us\, ask the bartender.
URL:https://chapters.theprimetimersww.com/stlouis/event/mon-500-pm-golden-happy-hour-at-just-johns-nightclub-no-rsvp/2023-10-09/
LOCATION:Just John\, 4112 Manchester Avenue\, St. Louis\, MO\, 63110\, United States
ATTACH;FMTTYPE=image/jpeg:https://chapters.theprimetimersww.com/stlouis/wp-content/uploads/2023/06/Logo-JustJohn-e1686590650364.jpg
END:VEVENT
END:VCALENDAR