BEGIN:VCALENDAR
VERSION:2.0
PRODID:-//Prime Timers St. Louis - ECPv6.15.20//NONSGML v1.0//EN
CALSCALE:GREGORIAN
METHOD:PUBLISH
X-ORIGINAL-URL:https://chapters.theprimetimersww.com/stlouis
X-WR-CALDESC:Events for Prime Timers St. Louis
REFRESH-INTERVAL;VALUE=DURATION:PT1H
X-Robots-Tag:noindex
X-PUBLISHED-TTL:PT1H
BEGIN:VTIMEZONE
TZID:America/Chicago
BEGIN:DAYLIGHT
TZOFFSETFROM:-0600
TZOFFSETTO:-0500
TZNAME:CDT
DTSTART:20220313T080000
END:DAYLIGHT
BEGIN:STANDARD
TZOFFSETFROM:-0500
TZOFFSETTO:-0600
TZNAME:CST
DTSTART:20221106T070000
END:STANDARD
BEGIN:DAYLIGHT
TZOFFSETFROM:-0600
TZOFFSETTO:-0500
TZNAME:CDT
DTSTART:20230312T080000
END:DAYLIGHT
BEGIN:STANDARD
TZOFFSETFROM:-0500
TZOFFSETTO:-0600
TZNAME:CST
DTSTART:20231105T070000
END:STANDARD
BEGIN:DAYLIGHT
TZOFFSETFROM:-0600
TZOFFSETTO:-0500
TZNAME:CDT
DTSTART:20240310T080000
END:DAYLIGHT
BEGIN:STANDARD
TZOFFSETFROM:-0500
TZOFFSETTO:-0600
TZNAME:CST
DTSTART:20241103T070000
END:STANDARD
END:VTIMEZONE
BEGIN:VEVENT
DTSTART;TZID=America/Chicago:20231010T190000
DTEND;TZID=America/Chicago:20231010T200000
DTSTAMP:20260422T204702
CREATED:20230925T215858Z
LAST-MODIFIED:20230929T235855Z
UID:10000062-1696964400-1696968000@chapters.theprimetimersww.com
SUMMARY:INDIGENOUS PEOPLE OF MISSOURI: a free Zoom talk
DESCRIPTION:Tuesday October 10 at 7:00 PM. \nThis free Zoom talk will focus on the Osage\, because of their connections to St. Louis.  Other native peoples within Missouri included the Kickapoo\, Shawnee\, Ioway\, Otoe\, Delaware\, Osage\, and others.  Some of these groups lived in Missouri for centuries; some of them came to Missouri because of the growing number of white inhabitants in the east.  Doug Schneider will discuss what indigenous life was like before Missouri was settled and after it was settled.  He will also cover the reasons why there are no federally-recognized tribes in Missouri today. \nEvery PTSL member will receive an email with a Zoom link for the talk.  Non-members can request a Zoom link by emailing Doug at ParadiseDouglas@gmail.com
URL:https://chapters.theprimetimersww.com/stlouis/event/indigenous-people-of-missouri-a-free-zoom-talk/
ATTACH;FMTTYPE=image/jpeg:https://chapters.theprimetimersww.com/stlouis/wp-content/uploads/2023/09/NezPerce-A.jpg
END:VEVENT
END:VCALENDAR