BEGIN:VCALENDAR
VERSION:2.0
PRODID:-//Prime Timers St. Louis - ECPv6.15.20//NONSGML v1.0//EN
CALSCALE:GREGORIAN
METHOD:PUBLISH
X-ORIGINAL-URL:https://chapters.theprimetimersww.com/stlouis
X-WR-CALDESC:Events for Prime Timers St. Louis
REFRESH-INTERVAL;VALUE=DURATION:PT1H
X-Robots-Tag:noindex
X-PUBLISHED-TTL:PT1H
BEGIN:VTIMEZONE
TZID:America/Chicago
BEGIN:DAYLIGHT
TZOFFSETFROM:-0600
TZOFFSETTO:-0500
TZNAME:CDT
DTSTART:20220313T080000
END:DAYLIGHT
BEGIN:STANDARD
TZOFFSETFROM:-0500
TZOFFSETTO:-0600
TZNAME:CST
DTSTART:20221106T070000
END:STANDARD
BEGIN:DAYLIGHT
TZOFFSETFROM:-0600
TZOFFSETTO:-0500
TZNAME:CDT
DTSTART:20230312T080000
END:DAYLIGHT
BEGIN:STANDARD
TZOFFSETFROM:-0500
TZOFFSETTO:-0600
TZNAME:CST
DTSTART:20231105T070000
END:STANDARD
BEGIN:DAYLIGHT
TZOFFSETFROM:-0600
TZOFFSETTO:-0500
TZNAME:CDT
DTSTART:20240310T080000
END:DAYLIGHT
BEGIN:STANDARD
TZOFFSETFROM:-0500
TZOFFSETTO:-0600
TZNAME:CST
DTSTART:20241103T070000
END:STANDARD
END:VTIMEZONE
BEGIN:VEVENT
DTSTART;TZID=America/Chicago:20231104T130000
DTEND;TZID=America/Chicago:20231104T180000
DTSTAMP:20260423T213501
CREATED:20230928T044413Z
LAST-MODIFIED:20231018T014835Z
UID:10000063-1699102800-1699120800@chapters.theprimetimersww.com
SUMMARY:November Potluck at Tom & Eldon's House
DESCRIPTION:Please join us for our Potluck on Saturday\, November 4 from 1:00pm until 6:00pm.  It will be held at Tom & Eldon’s house in Fenton.\nThe main courses\, fried chicken and ham\, will be provided by our hosts.  Soft drinks and bottled water will also be provided.  Bring a side dish\, appetizer\, salad or dessert.  Lunch will be served promptly at 1:30pm.\n\nAlcohol is BYOB and smoking is outside.  The driveway of their home will accommodate about 9 cars\, but there is plenty of parking across the street.\n\nRSVP no later than November 1 by clicking rsvp@primetimersstl.org.  In your RSVP\, please advise which side dish\, etc. you will bring.  Everyone that RSVP’s will receive an email with a map and directions to Tom & Eldon‘s home.\nJoin us November 4 for great food and fellowship!
URL:https://chapters.theprimetimersww.com/stlouis/event/prime-timers-potluck-on-saturday-november-4-at-1-pm-tom-eldons-house/
ATTACH;FMTTYPE=image/jpeg:https://chapters.theprimetimersww.com/stlouis/wp-content/uploads/2023/09/Buffet-Table-of-Food.jpg
END:VEVENT
END:VCALENDAR