BEGIN:VCALENDAR
VERSION:2.0
PRODID:-//Prime Timers St. Louis - ECPv6.15.20//NONSGML v1.0//EN
CALSCALE:GREGORIAN
METHOD:PUBLISH
X-WR-CALNAME:Prime Timers St. Louis
X-ORIGINAL-URL:https://chapters.theprimetimersww.com/stlouis
X-WR-CALDESC:Events for Prime Timers St. Louis
REFRESH-INTERVAL;VALUE=DURATION:PT1H
X-Robots-Tag:noindex
X-PUBLISHED-TTL:PT1H
BEGIN:VTIMEZONE
TZID:America/Chicago
BEGIN:DAYLIGHT
TZOFFSETFROM:-0600
TZOFFSETTO:-0500
TZNAME:CDT
DTSTART:20220313T080000
END:DAYLIGHT
BEGIN:STANDARD
TZOFFSETFROM:-0500
TZOFFSETTO:-0600
TZNAME:CST
DTSTART:20221106T070000
END:STANDARD
BEGIN:DAYLIGHT
TZOFFSETFROM:-0600
TZOFFSETTO:-0500
TZNAME:CDT
DTSTART:20230312T080000
END:DAYLIGHT
BEGIN:STANDARD
TZOFFSETFROM:-0500
TZOFFSETTO:-0600
TZNAME:CST
DTSTART:20231105T070000
END:STANDARD
BEGIN:DAYLIGHT
TZOFFSETFROM:-0600
TZOFFSETTO:-0500
TZNAME:CDT
DTSTART:20240310T080000
END:DAYLIGHT
BEGIN:STANDARD
TZOFFSETFROM:-0500
TZOFFSETTO:-0600
TZNAME:CST
DTSTART:20241103T070000
END:STANDARD
END:VTIMEZONE
BEGIN:VEVENT
DTSTART;TZID=America/Chicago:20231111T130000
DTEND;TZID=America/Chicago:20231111T160000
DTSTAMP:20260424T191816
CREATED:20231009T024214Z
LAST-MODIFIED:20231110T012312Z
UID:10000066-1699707600-1699718400@chapters.theprimetimersww.com
SUMMARY:PTSL Autumn Celebration/Membership Meeting/Turkey Dinner November 11
DESCRIPTION:1:00pm until 4:00pm \nPlease join us for our Autumn Celebration and Membership Meeting in the upstairs Gymnasium at Lafayette Park United Methodist Church located at 2300 Lafayette Avenue\, St. Louis MO 63104.  Our meeting begins at 1:00pm\, and following the meeting\, you are invited to enjoy a Turkey Dinner downstairs in the Fellowship Hall at the church.  This annual Thanksgiving celebration is held for church members\, and we are invited to join them. \nTOP SIX REASONS TO ATTEND THIS EVENT \nAnother opportunity to renew your membership dues if you haven’t already. \nLearn something new from our guest speaker Steven Brawley of St. Louis LGBT History Project. \nHear a year end summary by our Chapter President of some of the PTSL highlights of this past year as well as a look into upcoming events in the new year. \nEnjoy snacks and refreshments\, compliments of PTSL and set up by board member Mark E. \nVisit with your friends and make new ones at social hour. \nWith a nod to fast approaching Thanksgiving Holiday\, indulge in a bonus turkey dinner with all the fixings for $20.00 given by Lafayette Methodist Church downstairs in the fellowship hall\, after our meeting. If you are staying for dinner\, please bring cash or check only for payment to the church. \nNo RSVP is required for this event\, but if you have further questions\, please contact our Chapter President Tom at president@primetimersstl.org. \nTo join us on Zoom: \nTopic: Host PTSL’s Zoom Meeting\nTime: Nov 11\, 2023 12:00 PM Central Time (US and Canada) \nJoin Zoom Meeting\nhttps://us06web.zoom.us/j/85753260894?pwd=rAattPNVOQ6yZxsC2Se0AkYaQ1YZgU.1 \nMeeting ID: 857 5326 0894\nPasscode: 387388 \n— \nOne tap mobile\n+13017158592\,\,85753260894#\,\,\,\,*387388# US (Washington DC)\n+13052241968\,\,85753260894#\,\,\,\,*387388# US \n— \nDial by your location\n• +1 301 715 8592 US (Washington DC)\n• +1 305 224 1968 US\n• +1 309 205 3325 US\n• +1 312 626 6799 US (Chicago)\n• +1 646 558 8656 US (New York)\n• +1 646 931 3860 US\n• +1 669 444 9171 US\n• +1 689 278 1000 US\n• +1 719 359 4580 US\n• +1 720 707 2699 US (Denver)\n• +1 253 205 0468 US\n• +1 253 215 8782 US (Tacoma)\n• +1 346 248 7799 US (Houston)\n• +1 360 209 5623 US\n• +1 386 347 5053 US\n• +1 507 473 4847 US\n• +1 564 217 2000 US \nMeeting ID: 857 5326 0894\nPasscode: 387388 \nFind your local number: https://us06web.zoom.us/u/kcGNi84UjV \n  \n  \n 
URL:https://chapters.theprimetimersww.com/stlouis/event/ptsl-november-membership-meeting-turkey-dinner/
ATTACH;FMTTYPE=image/jpeg:https://chapters.theprimetimersww.com/stlouis/wp-content/uploads/2023/10/Happy-Thanksgiving.jpeg
END:VEVENT
END:VCALENDAR