BEGIN:VCALENDAR
VERSION:2.0
PRODID:-//Prime Timers St. Louis - ECPv6.15.20//NONSGML v1.0//EN
CALSCALE:GREGORIAN
METHOD:PUBLISH
X-WR-CALNAME:Prime Timers St. Louis
X-ORIGINAL-URL:https://chapters.theprimetimersww.com/stlouis
X-WR-CALDESC:Events for Prime Timers St. Louis
REFRESH-INTERVAL;VALUE=DURATION:PT1H
X-Robots-Tag:noindex
X-PUBLISHED-TTL:PT1H
BEGIN:VTIMEZONE
TZID:America/Chicago
BEGIN:DAYLIGHT
TZOFFSETFROM:-0600
TZOFFSETTO:-0500
TZNAME:CDT
DTSTART:20220313T080000
END:DAYLIGHT
BEGIN:STANDARD
TZOFFSETFROM:-0500
TZOFFSETTO:-0600
TZNAME:CST
DTSTART:20221106T070000
END:STANDARD
BEGIN:DAYLIGHT
TZOFFSETFROM:-0600
TZOFFSETTO:-0500
TZNAME:CDT
DTSTART:20230312T080000
END:DAYLIGHT
BEGIN:STANDARD
TZOFFSETFROM:-0500
TZOFFSETTO:-0600
TZNAME:CST
DTSTART:20231105T070000
END:STANDARD
BEGIN:DAYLIGHT
TZOFFSETFROM:-0600
TZOFFSETTO:-0500
TZNAME:CDT
DTSTART:20240310T080000
END:DAYLIGHT
BEGIN:STANDARD
TZOFFSETFROM:-0500
TZOFFSETTO:-0600
TZNAME:CST
DTSTART:20241103T070000
END:STANDARD
END:VTIMEZONE
BEGIN:VEVENT
DTSTART;TZID=America/Chicago:20231112T123000
DTEND;TZID=America/Chicago:20231112T140000
DTSTAMP:20260424T191819
CREATED:20231020T003554Z
LAST-MODIFIED:20231105T025657Z
UID:10000069-1699792200-1699797600@chapters.theprimetimersww.com
SUMMARY:Sunday Brunch November 12 at Sunny Street Cafe
DESCRIPTION:Join us on Sunday\, November 12\, 2023 from 12:30pm until 2:00pm for our brunch at Sunny Street Cafe.  This restaurant is located at 11692 Manchester Road in Des Peres\, MO 63131.  There is no limit on participants\, but you will need to RSVP with number of attendees to rsvp@primetimersstl.org. \nWe look forward to seeing you there! \n 
URL:https://chapters.theprimetimersww.com/stlouis/event/sunday-brunch-november-12-at-sunny-street-cafe/
LOCATION:Sunny Street Cafe\, 11692 Manchester Road\, Des Peres\, 63131\, United States
ATTACH;FMTTYPE=image/jpeg:https://chapters.theprimetimersww.com/stlouis/wp-content/uploads/2023/10/Sunny-Street-Cafe.jpg
END:VEVENT
END:VCALENDAR