BEGIN:VCALENDAR
VERSION:2.0
PRODID:-//Prime Timers St. Louis - ECPv6.15.20//NONSGML v1.0//EN
CALSCALE:GREGORIAN
METHOD:PUBLISH
X-WR-CALNAME:Prime Timers St. Louis
X-ORIGINAL-URL:https://chapters.theprimetimersww.com/stlouis
X-WR-CALDESC:Events for Prime Timers St. Louis
REFRESH-INTERVAL;VALUE=DURATION:PT1H
X-Robots-Tag:noindex
X-PUBLISHED-TTL:PT1H
BEGIN:VTIMEZONE
TZID:America/Chicago
BEGIN:DAYLIGHT
TZOFFSETFROM:-0600
TZOFFSETTO:-0500
TZNAME:CDT
DTSTART:20220313T080000
END:DAYLIGHT
BEGIN:STANDARD
TZOFFSETFROM:-0500
TZOFFSETTO:-0600
TZNAME:CST
DTSTART:20221106T070000
END:STANDARD
BEGIN:DAYLIGHT
TZOFFSETFROM:-0600
TZOFFSETTO:-0500
TZNAME:CDT
DTSTART:20230312T080000
END:DAYLIGHT
BEGIN:STANDARD
TZOFFSETFROM:-0500
TZOFFSETTO:-0600
TZNAME:CST
DTSTART:20231105T070000
END:STANDARD
BEGIN:DAYLIGHT
TZOFFSETFROM:-0600
TZOFFSETTO:-0500
TZNAME:CDT
DTSTART:20240310T080000
END:DAYLIGHT
BEGIN:STANDARD
TZOFFSETFROM:-0500
TZOFFSETTO:-0600
TZNAME:CST
DTSTART:20241103T070000
END:STANDARD
END:VTIMEZONE
BEGIN:VEVENT
DTSTART;TZID=America/Chicago:20231130T173000
DTEND;TZID=America/Chicago:20231130T210000
DTSTAMP:20260423T161848
CREATED:20231117T053424Z
LAST-MODIFIED:20231125T233450Z
UID:10000072-1701365400-1701378000@chapters.theprimetimersww.com
SUMMARY:Black Pride St. Louis World AIDS Day Movie Screening
DESCRIPTION:Join Black Pride St. Louis for a powerful World AIDS Day Event at MX Movies & Bar!  They are hosting a special movie screening to raise awareness and commemorate this important day. Take charge of your well-being by getting a Sexual Health Screening with CWP\, WPT Cares\, or Black Pride St. Louis and get  FREE VIP Admission. Come dressed in your Renaissance attire and enjoy the VIP event and pre-screening of the most anticipated release in theaters this year.
URL:https://chapters.theprimetimersww.com/stlouis/event/black-pride-st-louis-world-aids-day-movie-screening/
LOCATION:MX Movies & Bar\, 618 Washington Ave 2nd Floor\, St. Louis\, MO\, 63101\, United States
ATTACH;FMTTYPE=image/jpeg:https://chapters.theprimetimersww.com/stlouis/wp-content/uploads/2023/11/World-AIDS-Day-2023.jpg
END:VEVENT
END:VCALENDAR