BEGIN:VCALENDAR
VERSION:2.0
PRODID:-//Prime Timers St. Louis - ECPv6.15.20//NONSGML v1.0//EN
CALSCALE:GREGORIAN
METHOD:PUBLISH
X-ORIGINAL-URL:https://chapters.theprimetimersww.com/stlouis
X-WR-CALDESC:Events for Prime Timers St. Louis
REFRESH-INTERVAL;VALUE=DURATION:PT1H
X-Robots-Tag:noindex
X-PUBLISHED-TTL:PT1H
BEGIN:VTIMEZONE
TZID:America/Chicago
BEGIN:DAYLIGHT
TZOFFSETFROM:-0600
TZOFFSETTO:-0500
TZNAME:CDT
DTSTART:20220313T080000
END:DAYLIGHT
BEGIN:STANDARD
TZOFFSETFROM:-0500
TZOFFSETTO:-0600
TZNAME:CST
DTSTART:20221106T070000
END:STANDARD
BEGIN:DAYLIGHT
TZOFFSETFROM:-0600
TZOFFSETTO:-0500
TZNAME:CDT
DTSTART:20230312T080000
END:DAYLIGHT
BEGIN:STANDARD
TZOFFSETFROM:-0500
TZOFFSETTO:-0600
TZNAME:CST
DTSTART:20231105T070000
END:STANDARD
BEGIN:DAYLIGHT
TZOFFSETFROM:-0600
TZOFFSETTO:-0500
TZNAME:CDT
DTSTART:20240310T080000
END:DAYLIGHT
BEGIN:STANDARD
TZOFFSETFROM:-0500
TZOFFSETTO:-0600
TZNAME:CST
DTSTART:20241103T070000
END:STANDARD
END:VTIMEZONE
BEGIN:VEVENT
DTSTART;TZID=America/Chicago:20231202T120000
DTEND;TZID=America/Chicago:20231202T160000
DTSTAMP:20260423T164936
CREATED:20231009T032104Z
LAST-MODIFIED:20231127T030309Z
UID:10000067-1701518400-1701532800@chapters.theprimetimersww.com
SUMMARY:PTSL Holiday Potluck Banquet December 2
DESCRIPTION:12:00 Noon until 4:00pm \nHappy Holidays!  Please join us for our 17th Annual Holiday Potluck Banquet on Saturday\, December 2 at the William A. Kerr Foundation Building located at 21 O’Fallon St\, St. Louis MO 63102.  Our PrimeTimers St. Louis Chapter will provide the main entrees\, soft drinks\, bottled water and decaf coffee.  Members should bring a side dish and alcohol is BYOB (if you wish). \nThis event is free for our members\, and a $5.00 donation is requested for each non-member. \nRSVPs are required by Thursday\, November 30. Please go to our RSVP Form\, fill out the requested information\, and submit it. \nWe look forward to seeing you on Saturday\, December 2. \n 
URL:https://chapters.theprimetimersww.com/stlouis/event/ptsl-holiday-potluck-banquet-december-2/
ATTACH;FMTTYPE=image/jpeg:https://chapters.theprimetimersww.com/stlouis/wp-content/uploads/2023/10/Christmas-Dinner.jpg
END:VEVENT
END:VCALENDAR