BEGIN:VCALENDAR
VERSION:2.0
PRODID:-//Prime Timers St. Louis - ECPv6.15.20//NONSGML v1.0//EN
CALSCALE:GREGORIAN
METHOD:PUBLISH
X-WR-CALNAME:Prime Timers St. Louis
X-ORIGINAL-URL:https://chapters.theprimetimersww.com/stlouis
X-WR-CALDESC:Events for Prime Timers St. Louis
REFRESH-INTERVAL;VALUE=DURATION:PT1H
X-Robots-Tag:noindex
X-PUBLISHED-TTL:PT1H
BEGIN:VTIMEZONE
TZID:America/Chicago
BEGIN:DAYLIGHT
TZOFFSETFROM:-0600
TZOFFSETTO:-0500
TZNAME:CDT
DTSTART:20220313T080000
END:DAYLIGHT
BEGIN:STANDARD
TZOFFSETFROM:-0500
TZOFFSETTO:-0600
TZNAME:CST
DTSTART:20221106T070000
END:STANDARD
BEGIN:DAYLIGHT
TZOFFSETFROM:-0600
TZOFFSETTO:-0500
TZNAME:CDT
DTSTART:20230312T080000
END:DAYLIGHT
BEGIN:STANDARD
TZOFFSETFROM:-0500
TZOFFSETTO:-0600
TZNAME:CST
DTSTART:20231105T070000
END:STANDARD
BEGIN:DAYLIGHT
TZOFFSETFROM:-0600
TZOFFSETTO:-0500
TZNAME:CDT
DTSTART:20240310T080000
END:DAYLIGHT
BEGIN:STANDARD
TZOFFSETFROM:-0500
TZOFFSETTO:-0600
TZNAME:CST
DTSTART:20241103T070000
END:STANDARD
END:VTIMEZONE
BEGIN:VEVENT
DTSTART;TZID=America/Chicago:20231214T190000
DTEND;TZID=America/Chicago:20231214T200000
DTSTAMP:20260423T201850
CREATED:20231128T001053Z
LAST-MODIFIED:20231128T001322Z
UID:10000073-1702580400-1702584000@chapters.theprimetimersww.com
SUMMARY:ONLINE Free Zoom Talk: Gangs of St. Louis
DESCRIPTION:Gangs\, mobs\, organized crime\, pickpockets\, scoundrels\, thieves\, kidnappers. Organized crime reached St. Louis in the 1880s and was still going strong in 1980\, the year of the Interstate-55 mob car bombing.  The early 20th Century saw the Bottom Gang versus Egan’s Rats.  The Prohibition came along and gang activity multiplied.  This talk by Doug Schneider will cover 100 years of gang activity and its effect on St. Louis and law enforcement. \nAll Prime Timers will be emailed a link for this free talk. \nDOUGLAS E SCHNEIDER \nEmail:             ParadiseDouglas@gmail.com\nBlog:               http://puppyoutofbreath.blogspot.com/
URL:https://chapters.theprimetimersww.com/stlouis/event/online-free-zoom-talk-gangs-of-st-louis/
ATTACH;FMTTYPE=image/png:https://chapters.theprimetimersww.com/stlouis/wp-content/uploads/2023/11/Saloons-and-Speakeasies.png
END:VEVENT
END:VCALENDAR