BEGIN:VCALENDAR
VERSION:2.0
PRODID:-//Prime Timers St. Louis - ECPv6.15.20//NONSGML v1.0//EN
CALSCALE:GREGORIAN
METHOD:PUBLISH
X-ORIGINAL-URL:https://chapters.theprimetimersww.com/stlouis
X-WR-CALDESC:Events for Prime Timers St. Louis
REFRESH-INTERVAL;VALUE=DURATION:PT1H
X-Robots-Tag:noindex
X-PUBLISHED-TTL:PT1H
BEGIN:VTIMEZONE
TZID:America/Chicago
BEGIN:DAYLIGHT
TZOFFSETFROM:-0600
TZOFFSETTO:-0500
TZNAME:CDT
DTSTART:20220313T080000
END:DAYLIGHT
BEGIN:STANDARD
TZOFFSETFROM:-0500
TZOFFSETTO:-0600
TZNAME:CST
DTSTART:20221106T070000
END:STANDARD
BEGIN:DAYLIGHT
TZOFFSETFROM:-0600
TZOFFSETTO:-0500
TZNAME:CDT
DTSTART:20230312T080000
END:DAYLIGHT
BEGIN:STANDARD
TZOFFSETFROM:-0500
TZOFFSETTO:-0600
TZNAME:CST
DTSTART:20231105T070000
END:STANDARD
BEGIN:DAYLIGHT
TZOFFSETFROM:-0600
TZOFFSETTO:-0500
TZNAME:CDT
DTSTART:20240310T080000
END:DAYLIGHT
BEGIN:STANDARD
TZOFFSETFROM:-0500
TZOFFSETTO:-0600
TZNAME:CST
DTSTART:20241103T070000
END:STANDARD
END:VTIMEZONE
BEGIN:VEVENT
DTSTART;TZID=America/Chicago:20231216T180000
DTEND;TZID=America/Chicago:20231216T200000
DTSTAMP:20260423T232835
CREATED:20231201T175619Z
LAST-MODIFIED:20231201T175912Z
UID:10000077-1702749600-1702756800@chapters.theprimetimersww.com
SUMMARY:Give Me A Star 2023 Christmas Concert at MCC
DESCRIPTION:Join the Metropolitan Community Church Choir and soloists as they celebrate the season with music and spoken word.  As always their concert is free to our community!  Join everyone for cookies after the concert.
URL:https://chapters.theprimetimersww.com/stlouis/event/give-me-a-star-2023-christmas-concert-at-mcc/
LOCATION:MCCGSL\, 7423 Michigan Ave\, St. Louis\, MO\, 63111\, United States
ATTACH;FMTTYPE=image/png:https://chapters.theprimetimersww.com/stlouis/wp-content/uploads/2023/12/MCCGSL-Christmas-Concert-2023.png
END:VEVENT
BEGIN:VEVENT
DTSTART;TZID=America/Chicago:20231216T193000
DTEND;TZID=America/Chicago:20231216T210000
DTSTAMP:20260423T232835
CREATED:20231128T002743Z
LAST-MODIFIED:20231128T002743Z
UID:10000074-1702755000-1702760400@chapters.theprimetimersww.com
SUMMARY:Band Together Free Holiday Concert
DESCRIPTION:BandTogether is a volunteer music organization in the greater St. Louis area\, open to performers of all abilities\, providing performances to the community in a safe and relaxed setting. \nThey welcome you to their free Holiday Concert on Saturday\, December 16\, 2023 at 560 Music Center\, 560 Trinity Avenue\, University City MO 63130. \nPlease attend and enjoy this annual holiday tradition performed by the members of BandTogether.
URL:https://chapters.theprimetimersww.com/stlouis/event/band-together-free-holiday-concert/
LOCATION:560 Music Center\, 560 Trinity Ave\, University City\, 63130\, United States
ATTACH;FMTTYPE=image/jpeg:https://chapters.theprimetimersww.com/stlouis/wp-content/uploads/2023/11/Bandtogether_Christmas2023_webimage.jpg
END:VEVENT
END:VCALENDAR