BEGIN:VCALENDAR
VERSION:2.0
PRODID:-//Prime Timers St. Louis - ECPv6.15.20//NONSGML v1.0//EN
CALSCALE:GREGORIAN
METHOD:PUBLISH
X-ORIGINAL-URL:https://chapters.theprimetimersww.com/stlouis
X-WR-CALDESC:Events for Prime Timers St. Louis
REFRESH-INTERVAL;VALUE=DURATION:PT1H
X-Robots-Tag:noindex
X-PUBLISHED-TTL:PT1H
BEGIN:VTIMEZONE
TZID:America/Chicago
BEGIN:DAYLIGHT
TZOFFSETFROM:-0600
TZOFFSETTO:-0500
TZNAME:CDT
DTSTART:20230312T080000
END:DAYLIGHT
BEGIN:STANDARD
TZOFFSETFROM:-0500
TZOFFSETTO:-0600
TZNAME:CST
DTSTART:20231105T070000
END:STANDARD
BEGIN:DAYLIGHT
TZOFFSETFROM:-0600
TZOFFSETTO:-0500
TZNAME:CDT
DTSTART:20240310T080000
END:DAYLIGHT
BEGIN:STANDARD
TZOFFSETFROM:-0500
TZOFFSETTO:-0600
TZNAME:CST
DTSTART:20241103T070000
END:STANDARD
BEGIN:DAYLIGHT
TZOFFSETFROM:-0600
TZOFFSETTO:-0500
TZNAME:CDT
DTSTART:20250309T080000
END:DAYLIGHT
BEGIN:STANDARD
TZOFFSETFROM:-0500
TZOFFSETTO:-0600
TZNAME:CST
DTSTART:20251102T070000
END:STANDARD
END:VTIMEZONE
BEGIN:VEVENT
DTSTART;TZID=America/Chicago:20240817T170000
DTEND;TZID=America/Chicago:20240817T200000
DTSTAMP:20260422T172441
CREATED:20240722T173837Z
LAST-MODIFIED:20240722T173837Z
UID:10000338-1723914000-1723924800@chapters.theprimetimersww.com
SUMMARY:Celebration of Life for Mark Eisenberg
DESCRIPTION:Our long-time member Mark Eisenberg passed away on June 30\, 2024.  The Celebration of His Life will be held Saturday\, August 17\, 2024 from 5:00pm until 8:00pm.  The location will be The Ethical Society of St. Louis at 9001 Clayton Road\, St. Louis MO 63117.  Dessert and beverages will be furnished.  Bringing an appetizer is appreciated but not necessary.  We hope you can join us to honor this man who was a great ambassador for St. Louis and for our Prime Timers St. Louis Chapter. \nPlease RSVP directly to our Club Secretary Randy Martin ranmar@live.com by August 10 if you are able to attend.  There will be a limited amount of seating. \nNOTE:  This is not a Prime Timers St. Louis event.  It has been organized by Mark’s brother and sister-in-law and Randy Martin\, who has known Mark for 45 years.
URL:https://chapters.theprimetimersww.com/stlouis/event/celebration-of-life-for-mark-eisenberg/
LOCATION:The Ethical Society of St. Louis\, 9001 Clayton Rd\, St. Louis\, 63117\, United States
ATTACH;FMTTYPE=image/jpeg:https://chapters.theprimetimersww.com/stlouis/wp-content/uploads/2024/07/Mark-Eisenberg-Copy.jpg
END:VEVENT
END:VCALENDAR