BEGIN:VCALENDAR
VERSION:2.0
PRODID:-//Prime Timers St. Louis - ECPv6.15.20//NONSGML v1.0//EN
CALSCALE:GREGORIAN
METHOD:PUBLISH
X-WR-CALNAME:Prime Timers St. Louis
X-ORIGINAL-URL:https://chapters.theprimetimersww.com/stlouis
X-WR-CALDESC:Events for Prime Timers St. Louis
REFRESH-INTERVAL;VALUE=DURATION:PT1H
X-Robots-Tag:noindex
X-PUBLISHED-TTL:PT1H
BEGIN:VTIMEZONE
TZID:America/Chicago
BEGIN:DAYLIGHT
TZOFFSETFROM:-0600
TZOFFSETTO:-0500
TZNAME:CDT
DTSTART:20230312T080000
END:DAYLIGHT
BEGIN:STANDARD
TZOFFSETFROM:-0500
TZOFFSETTO:-0600
TZNAME:CST
DTSTART:20231105T070000
END:STANDARD
BEGIN:DAYLIGHT
TZOFFSETFROM:-0600
TZOFFSETTO:-0500
TZNAME:CDT
DTSTART:20240310T080000
END:DAYLIGHT
BEGIN:STANDARD
TZOFFSETFROM:-0500
TZOFFSETTO:-0600
TZNAME:CST
DTSTART:20241103T070000
END:STANDARD
BEGIN:DAYLIGHT
TZOFFSETFROM:-0600
TZOFFSETTO:-0500
TZNAME:CDT
DTSTART:20250309T080000
END:DAYLIGHT
BEGIN:STANDARD
TZOFFSETFROM:-0500
TZOFFSETTO:-0600
TZNAME:CST
DTSTART:20251102T070000
END:STANDARD
END:VTIMEZONE
BEGIN:VEVENT
DTSTART;TZID=America/Chicago:20240922T110000
DTEND;TZID=America/Chicago:20240922T150000
DTSTAMP:20260422T174140
CREATED:20240308T040739Z
LAST-MODIFIED:20240910T034024Z
UID:10000239-1727002800-1727017200@chapters.theprimetimersww.com
SUMMARY:PTSL Fall Fling Picnic at Paul C. Wehner Park in Shrewsbury
DESCRIPTION:Please join us for our Fall Fling Picnic at Paul C. Wehner Park in Shrewsbury. \nPrime Timers St. Louis will provide the main entree\, some side dishes\, and soft drinks. Please feel free to bring a side dish or dessert to share. \nPlease click RSVP to let us know how many will be attending. \nWe hope that you are able to celebrate the first day of Autumn with us in this beautiful\, centrally located park. \n 
URL:https://chapters.theprimetimersww.com/stlouis/event/ptsl-autumn-picnic-at-paul-c-wehner-park-in-shrewsbury/
LOCATION:Paul C. Wehner Park\, 7600 Hazel Avenue\, St. Louis\, 63119\, United States
ATTACH;FMTTYPE=image/jpeg:https://chapters.theprimetimersww.com/stlouis/wp-content/uploads/2024/03/Paul-Wehner-Park.jpg
END:VEVENT
END:VCALENDAR