BEGIN:VCALENDAR
VERSION:2.0
PRODID:-//Prime Timers St. Louis - ECPv6.15.20//NONSGML v1.0//EN
CALSCALE:GREGORIAN
METHOD:PUBLISH
X-WR-CALNAME:Prime Timers St. Louis
X-ORIGINAL-URL:https://chapters.theprimetimersww.com/stlouis
X-WR-CALDESC:Events for Prime Timers St. Louis
REFRESH-INTERVAL;VALUE=DURATION:PT1H
X-Robots-Tag:noindex
X-PUBLISHED-TTL:PT1H
BEGIN:VTIMEZONE
TZID:America/Chicago
BEGIN:DAYLIGHT
TZOFFSETFROM:-0600
TZOFFSETTO:-0500
TZNAME:CDT
DTSTART:20230312T080000
END:DAYLIGHT
BEGIN:STANDARD
TZOFFSETFROM:-0500
TZOFFSETTO:-0600
TZNAME:CST
DTSTART:20231105T070000
END:STANDARD
BEGIN:DAYLIGHT
TZOFFSETFROM:-0600
TZOFFSETTO:-0500
TZNAME:CDT
DTSTART:20240310T080000
END:DAYLIGHT
BEGIN:STANDARD
TZOFFSETFROM:-0500
TZOFFSETTO:-0600
TZNAME:CST
DTSTART:20241103T070000
END:STANDARD
BEGIN:DAYLIGHT
TZOFFSETFROM:-0600
TZOFFSETTO:-0500
TZNAME:CDT
DTSTART:20250309T080000
END:DAYLIGHT
BEGIN:STANDARD
TZOFFSETFROM:-0500
TZOFFSETTO:-0600
TZNAME:CST
DTSTART:20251102T070000
END:STANDARD
END:VTIMEZONE
BEGIN:VEVENT
DTSTART;TZID=America/Chicago:20241125T110000
DTEND;TZID=America/Chicago:20241125T150000
DTSTAMP:20260422T071457
CREATED:20241103T213819Z
LAST-MODIFIED:20241103T213819Z
UID:10000371-1732532400-1732546800@chapters.theprimetimersww.com
SUMMARY:VISIT TO EXHIBIT AT WASH U: ST. LOUIS ARCHITECTURE 1930'S TO 1970'S
DESCRIPTION:Doug Schneider is coordinating a visit to the Mildred Lane Kemper Museum at Wash U. The museum is free\, but you will have to pay for the nearby parking garage. Optional lunch on the Wash U campus afterwards. \nDesign Agendas: Modern Architecture in St. Louis\, 1930s–1970s This exhibit explores a remarkably destructive\, creative\, dynamic\, and conflicted time in STL’s architectural and urban history. \nPlease RSVP to Doug at ParadiseDouglas@gmail.com if you plan to attend.
URL:https://chapters.theprimetimersww.com/stlouis/event/visit-to-exhibit-at-wash-u-st-louis-architecture-1930s-to-1970s/
LOCATION:Mildred Lane Kemper Art Museum\, #1 Brookings Dr\, St. Louis\, 63130\, United States
ATTACH;FMTTYPE=image/jpeg:https://chapters.theprimetimersww.com/stlouis/wp-content/uploads/2024/11/Mildred-Lane-Kemper-Art-Museum.jpg
END:VEVENT
END:VCALENDAR