BEGIN:VCALENDAR
VERSION:2.0
PRODID:-//Prime Timers St. Louis - ECPv6.15.20//NONSGML v1.0//EN
CALSCALE:GREGORIAN
METHOD:PUBLISH
X-WR-CALNAME:Prime Timers St. Louis
X-ORIGINAL-URL:https://chapters.theprimetimersww.com/stlouis
X-WR-CALDESC:Events for Prime Timers St. Louis
REFRESH-INTERVAL;VALUE=DURATION:PT1H
X-Robots-Tag:noindex
X-PUBLISHED-TTL:PT1H
BEGIN:VTIMEZONE
TZID:America/Chicago
BEGIN:DAYLIGHT
TZOFFSETFROM:-0600
TZOFFSETTO:-0500
TZNAME:CDT
DTSTART:20230312T080000
END:DAYLIGHT
BEGIN:STANDARD
TZOFFSETFROM:-0500
TZOFFSETTO:-0600
TZNAME:CST
DTSTART:20231105T070000
END:STANDARD
BEGIN:DAYLIGHT
TZOFFSETFROM:-0600
TZOFFSETTO:-0500
TZNAME:CDT
DTSTART:20240310T080000
END:DAYLIGHT
BEGIN:STANDARD
TZOFFSETFROM:-0500
TZOFFSETTO:-0600
TZNAME:CST
DTSTART:20241103T070000
END:STANDARD
BEGIN:DAYLIGHT
TZOFFSETFROM:-0600
TZOFFSETTO:-0500
TZNAME:CDT
DTSTART:20250309T080000
END:DAYLIGHT
BEGIN:STANDARD
TZOFFSETFROM:-0500
TZOFFSETTO:-0600
TZNAME:CST
DTSTART:20251102T070000
END:STANDARD
END:VTIMEZONE
BEGIN:VEVENT
DTSTART;TZID=America/Chicago:20241128T140000
DTEND;TZID=America/Chicago:20241128T180000
DTSTAMP:20260423T010416
CREATED:20241118T193523Z
LAST-MODIFIED:20241118T193724Z
UID:10000376-1732802400-1732816800@chapters.theprimetimersww.com
SUMMARY:St. Louis Pride Committee/BPSL Thanksgiving Dinner
DESCRIPTION:Community Thanksgiving Dinner at St. John’s Episcopal Church. Dinner starts at 2:00pm on Thanksgiving Day\, Thursday\, November 28th\, 2024.  \nPride STL along with Vivent Health\, MEPSI\, TransParent\, Black Pride St. Louis\, The Shades Project\, PROMO\, St. John’s Episcopal Church\, and Tower Grove Pride are sponsoring a dinner at St. John’s Episcopal Church\, 3664 Arsenal Street from 2:00pm to 6:00pm on Thanksgiving Day\, Thursday\, November 28th\, 2024. The groups are offering dine in\, pickup or delivery for anyone who wanted a meal\, or was in need of one.
URL:https://chapters.theprimetimersww.com/stlouis/event/st-louis-pride-committee-bpsl-thanksgiving-dinner/
LOCATION:St John’s Episcopal Church\, 3664 Arsenal St\, St. Louis\, MO\, 63116\, United States
ATTACH;FMTTYPE=image/jpeg:https://chapters.theprimetimersww.com/stlouis/wp-content/uploads/2024/11/PrideSTL.jpg
END:VEVENT
BEGIN:VEVENT
DTSTART;TZID=America/Chicago:20241128T170000
DTEND;TZID=America/Chicago:20241128T200000
DTSTAMP:20260423T010416
CREATED:20241212T223620Z
LAST-MODIFIED:20241212T223620Z
UID:10000418-1732813200-1732824000@chapters.theprimetimersww.com
SUMMARY:MON 5:00 PM - Golden Happy Hour at Just John's Nightclub - RSVP encouraged
DESCRIPTION:Join your fellow Prime Timers at Just John’s for: \nGolden Happy Hour from 5 to 8 PM. \nPlease respond (accepts only) to rsvp@primetimersstl.org so that your host Michael D will know who is attending.  Arrive any time during happy hour and enjoy the evening with fellow Prime Timers. Complimentary food is served during the happy hour. \nThe coordinator for this event is Michael D.  Prime Timers can be found in a group in the rear of the bar or out on the patio in nice weather. If you don’t see us\, ask the bartender. \nAfterwards\, around 8:00 pm\, you are welcome to join Michael and some of the others for a bite to eat at Chao Baan restaurant\, just down the street from Just John’s Bar\, in the Grove neighborhood. 
URL:https://chapters.theprimetimersww.com/stlouis/event/mon-500-pm-golden-happy-hour-at-just-johns-nightclub-rsvp-encouraged/2024-11-28/
LOCATION:Just John\, 4112 Manchester Avenue\, St. Louis\, MO\, 63110\, United States
ATTACH;FMTTYPE=image/jpeg:https://chapters.theprimetimersww.com/stlouis/wp-content/uploads/2023/06/Logo-JustJohn-e1686590650364.jpg
END:VEVENT
END:VCALENDAR