BEGIN:VCALENDAR
VERSION:2.0
PRODID:-//Prime Timers St. Louis - ECPv6.15.20//NONSGML v1.0//EN
CALSCALE:GREGORIAN
METHOD:PUBLISH
X-WR-CALNAME:Prime Timers St. Louis
X-ORIGINAL-URL:https://chapters.theprimetimersww.com/stlouis
X-WR-CALDESC:Events for Prime Timers St. Louis
REFRESH-INTERVAL;VALUE=DURATION:PT1H
X-Robots-Tag:noindex
X-PUBLISHED-TTL:PT1H
BEGIN:VTIMEZONE
TZID:America/Chicago
BEGIN:DAYLIGHT
TZOFFSETFROM:-0600
TZOFFSETTO:-0500
TZNAME:CDT
DTSTART:20240310T080000
END:DAYLIGHT
BEGIN:STANDARD
TZOFFSETFROM:-0500
TZOFFSETTO:-0600
TZNAME:CST
DTSTART:20241103T070000
END:STANDARD
BEGIN:DAYLIGHT
TZOFFSETFROM:-0600
TZOFFSETTO:-0500
TZNAME:CDT
DTSTART:20250309T080000
END:DAYLIGHT
BEGIN:STANDARD
TZOFFSETFROM:-0500
TZOFFSETTO:-0600
TZNAME:CST
DTSTART:20251102T070000
END:STANDARD
BEGIN:DAYLIGHT
TZOFFSETFROM:-0600
TZOFFSETTO:-0500
TZNAME:CDT
DTSTART:20260308T080000
END:DAYLIGHT
BEGIN:STANDARD
TZOFFSETFROM:-0500
TZOFFSETTO:-0600
TZNAME:CST
DTSTART:20261101T070000
END:STANDARD
END:VTIMEZONE
BEGIN:VEVENT
DTSTART;TZID=America/Chicago:20250516T080000
DTEND;TZID=America/Chicago:20250519T200000
DTSTAMP:20260423T161858
CREATED:20250301T050439Z
LAST-MODIFIED:20250301T051034Z
UID:10000686-1747382400-1747684800@chapters.theprimetimersww.com
SUMMARY:Spring Weekend at Wilderness Lodge
DESCRIPTION:Guys\, you’re invited to join us for a getaway to the country. \nWe’re again headed down to the Ozark Mountains near Lesterville\, Missouri. \nThe fresh springtime air and the crystal-clear waters of the Black River flow right beside the property. \nBesides dining with friends and spending evenings by the fireplace\, there are more activities than I can count. On Saturday\, we enjoy attending the free Arcadia Valley Mountain Music Festival. \nThis is an easy drive destination (less than 2 hours from St. Louis). \nThe cost is reasonable with their all-inclusive pricing\, which covers accommodations\, breakfast\, lunch\, appetizers and dinner. \nMitch and I will arrive on Friday\, May 16\, and depart on Monday the 19th (3 nights).  \nChoose the nights that work for you and make reservations\, as they have a very lenient cancellation policy. \nHint:  If you book a Hilltop cabin\, try to get an upper unit since walking to the downstairs unit can be challenging. \nWilderness Lodge details and reservations:  https://enjoywilderness.com/ \nPlease let us know if you’re coming so we can inform the dining staff and send you any additional updates – ejohnson10316@yahoo.com \nYou deserve a vacation\, so come join us!  \nEric Johnson & Mitch Millner  \nejohnson10316@yahoo.com  \nSpecial request: If you take photos\, Doug Schneider asks that you send copies to him for a future PTSL newsletter.   314-221-6381    ParadiseDouglas@gmail.com \nNote: Check out the Prime Timers St. Louis website for calendar and other information.   https://chapters.theprimetimersww.com/stlouis/
URL:https://chapters.theprimetimersww.com/stlouis/event/spring-weekend-at-wilderness-lodge/
LOCATION:Wilderness Lodge Resort\, 2331 County Road 342\, Lesterville\, MO\, 63654\, United States
ATTACH;FMTTYPE=image/png:https://chapters.theprimetimersww.com/stlouis/wp-content/uploads/2025/02/Wilderness-Lodge-Logo.png
END:VEVENT
BEGIN:VEVENT
DTSTART;TZID=America/Chicago:20250519T170000
DTEND;TZID=America/Chicago:20250519T210000
DTSTAMP:20260423T161858
CREATED:20250516T004413Z
LAST-MODIFIED:20250516T005428Z
UID:10000768-1747674000-1747688400@chapters.theprimetimersww.com
SUMMARY:It's Birthday Monday at Just John Club
DESCRIPTION:Just John Birthday Monday takes place on the third Monday of each month from 5:00pm to 9:00pm. \nAll patrons with birthdays this month are gifted a bucket of domestic beer or a bottle of sparkling white wine with champagne glasses. \nWhether you’re celebrating your birthday or just joining in\, come out to enjoy a fantastic time and share in our friendship! \nThis is generally a NO Cards and NO Gifts open event\, but you are free to create a grand\, reserved space & table affair with consent from the establishment. \nCheers\, Eric Johnson \nJust John Club\, 4112 Manchester Ave.\, St. Louis\, MO 63110 \nNote: Check out the Prime Timers St. Louis website for all the fun social events on their calendar and other information. \nhttps://chapters.theprimetimersww.com/stlouis/?post_type=tribe_events&eventDisplay=month \n 
URL:https://chapters.theprimetimersww.com/stlouis/event/its-birthday-monday-at-just-john-club/2025-05-19/
LOCATION:Just John Club\, 4112 Manchester Ave\, St. Louis\, 63110\, United States
ATTACH;FMTTYPE=image/jpeg:https://chapters.theprimetimersww.com/stlouis/wp-content/uploads/2025/05/Just-John-Club.jpg
END:VEVENT
END:VCALENDAR