BEGIN:VCALENDAR
VERSION:2.0
PRODID:-//Prime Timers St. Louis - ECPv6.15.20//NONSGML v1.0//EN
CALSCALE:GREGORIAN
METHOD:PUBLISH
X-WR-CALNAME:Prime Timers St. Louis
X-ORIGINAL-URL:https://chapters.theprimetimersww.com/stlouis
X-WR-CALDESC:Events for Prime Timers St. Louis
REFRESH-INTERVAL;VALUE=DURATION:PT1H
X-Robots-Tag:noindex
X-PUBLISHED-TTL:PT1H
BEGIN:VTIMEZONE
TZID:America/Chicago
BEGIN:DAYLIGHT
TZOFFSETFROM:-0600
TZOFFSETTO:-0500
TZNAME:CDT
DTSTART:20240310T080000
END:DAYLIGHT
BEGIN:STANDARD
TZOFFSETFROM:-0500
TZOFFSETTO:-0600
TZNAME:CST
DTSTART:20241103T070000
END:STANDARD
BEGIN:DAYLIGHT
TZOFFSETFROM:-0600
TZOFFSETTO:-0500
TZNAME:CDT
DTSTART:20250309T080000
END:DAYLIGHT
BEGIN:STANDARD
TZOFFSETFROM:-0500
TZOFFSETTO:-0600
TZNAME:CST
DTSTART:20251102T070000
END:STANDARD
BEGIN:DAYLIGHT
TZOFFSETFROM:-0600
TZOFFSETTO:-0500
TZNAME:CDT
DTSTART:20260308T080000
END:DAYLIGHT
BEGIN:STANDARD
TZOFFSETFROM:-0500
TZOFFSETTO:-0600
TZNAME:CST
DTSTART:20261101T070000
END:STANDARD
END:VTIMEZONE
BEGIN:VEVENT
DTSTART;TZID=America/Chicago:20250601T093000
DTEND;TZID=America/Chicago:20250601T120000
DTSTAMP:20260424T005802
CREATED:20250419T015018Z
LAST-MODIFIED:20250419T015018Z
UID:10000699-1748770200-1748779200@chapters.theprimetimersww.com
SUMMARY:PROMO Annual Brunch of Champions Celebration
DESCRIPTION:Join us for PROMO’s annual Brunch of Champions Celebration Sunday\, June 1 from 9:30 a.m. – 12 p.m. at 4 Hands Brewing Co. It is a fun event with great food and featuring a presentation of the annual Dennis W. Hostetler Award.  Tickets for older adults for that event are discounted to only $25 (instead of the $125 general admission price).  Contact Charles Koehler at ckoehler1904@charter.net or 314-761-4070 for more information.
URL:https://chapters.theprimetimersww.com/stlouis/event/promo-annual-brunch-of-champions-celebration/
LOCATION:4 Hands Brewing Company\, 1220 S 8th St\, St. Louis\, 63104\, United States
ATTACH;FMTTYPE=image/jpeg:https://chapters.theprimetimersww.com/stlouis/wp-content/uploads/2023/06/promo_logoLinksPagel.jpg
END:VEVENT
END:VCALENDAR