BEGIN:VCALENDAR
VERSION:2.0
PRODID:-//Prime Timers St. Louis - ECPv6.15.20//NONSGML v1.0//EN
CALSCALE:GREGORIAN
METHOD:PUBLISH
X-WR-CALNAME:Prime Timers St. Louis
X-ORIGINAL-URL:https://chapters.theprimetimersww.com/stlouis
X-WR-CALDESC:Events for Prime Timers St. Louis
REFRESH-INTERVAL;VALUE=DURATION:PT1H
X-Robots-Tag:noindex
X-PUBLISHED-TTL:PT1H
BEGIN:VTIMEZONE
TZID:America/Chicago
BEGIN:DAYLIGHT
TZOFFSETFROM:-0600
TZOFFSETTO:-0500
TZNAME:CDT
DTSTART:20240310T080000
END:DAYLIGHT
BEGIN:STANDARD
TZOFFSETFROM:-0500
TZOFFSETTO:-0600
TZNAME:CST
DTSTART:20241103T070000
END:STANDARD
BEGIN:DAYLIGHT
TZOFFSETFROM:-0600
TZOFFSETTO:-0500
TZNAME:CDT
DTSTART:20250309T080000
END:DAYLIGHT
BEGIN:STANDARD
TZOFFSETFROM:-0500
TZOFFSETTO:-0600
TZNAME:CST
DTSTART:20251102T070000
END:STANDARD
BEGIN:DAYLIGHT
TZOFFSETFROM:-0600
TZOFFSETTO:-0500
TZNAME:CDT
DTSTART:20260308T080000
END:DAYLIGHT
BEGIN:STANDARD
TZOFFSETFROM:-0500
TZOFFSETTO:-0600
TZNAME:CST
DTSTART:20261101T070000
END:STANDARD
END:VTIMEZONE
BEGIN:VEVENT
DTSTART;TZID=America/Chicago:20250629T110000
DTEND;TZID=America/Chicago:20250629T180000
DTSTAMP:20260419T160216
CREATED:20250124T055710Z
LAST-MODIFIED:20250124T060547Z
UID:10000667-1751194800-1751220000@chapters.theprimetimersww.com
SUMMARY:Pride Fest 2025
DESCRIPTION:Pride Fest 2025 \n\nSaturday 28th & Sunday 29th June\, 2025 – PrideFest takes place on Tucker Blvd. between Market and Olive St. on the last Saturday and Sunday in June. More than 300\,000 people attend PrideFest\, one of the biggest celebrations during Pride weekend\, and every year\, that number increases. This is the traditional downtown STL location and is a welcome return home.\nThe festival includes a food court\, kids and family area\, dance pavilion\, and a main stage featuring local\, national and international acts\, djs\, dancers\, drag queens and performers.\nTucker Blvd is easily accessible by public transit such as MetroLink and MetroBus. Parking is free on Sundays and taxis are easy to catch from this location.
URL:https://chapters.theprimetimersww.com/stlouis/event/pride-fest-2025/
ATTACH;FMTTYPE=image/jpeg:https://chapters.theprimetimersww.com/stlouis/wp-content/uploads/2023/06/Pride-St.-Louis-logo-e1643840210504.jpg
END:VEVENT
BEGIN:VEVENT
DTSTART;TZID=America/Chicago:20250629T120000
DTEND;TZID=America/Chicago:20250629T140000
DTSTAMP:20260419T160216
CREATED:20250124T055937Z
LAST-MODIFIED:20250124T060937Z
UID:10000668-1751198400-1751205600@chapters.theprimetimersww.com
SUMMARY:Pride Parade 2025
DESCRIPTION:Pride Parade 2025 \n\nSunday 29th June\, 2025 – The St Louis Pride parade is held on the Sunday of the pride festivities and begins at 12:00 Noon. The parade runs along the Gateway Mall\, beginning at 8th and Market Streets\, and continuing along Market west to 18th Street. The Arch serves as the backdrop and main focal point to the parade.
URL:https://chapters.theprimetimersww.com/stlouis/event/pride-parade-2025/
ATTACH;FMTTYPE=image/jpeg:https://chapters.theprimetimersww.com/stlouis/wp-content/uploads/2023/06/PrideFest-Float-2017-3.jpg
END:VEVENT
END:VCALENDAR