BEGIN:VCALENDAR
VERSION:2.0
PRODID:-//Prime Timers St. Louis - ECPv6.15.20//NONSGML v1.0//EN
CALSCALE:GREGORIAN
METHOD:PUBLISH
X-WR-CALNAME:Prime Timers St. Louis
X-ORIGINAL-URL:https://chapters.theprimetimersww.com/stlouis
X-WR-CALDESC:Events for Prime Timers St. Louis
REFRESH-INTERVAL;VALUE=DURATION:PT1H
X-Robots-Tag:noindex
X-PUBLISHED-TTL:PT1H
BEGIN:VTIMEZONE
TZID:America/Chicago
BEGIN:DAYLIGHT
TZOFFSETFROM:-0600
TZOFFSETTO:-0500
TZNAME:CDT
DTSTART:20240310T080000
END:DAYLIGHT
BEGIN:STANDARD
TZOFFSETFROM:-0500
TZOFFSETTO:-0600
TZNAME:CST
DTSTART:20241103T070000
END:STANDARD
BEGIN:DAYLIGHT
TZOFFSETFROM:-0600
TZOFFSETTO:-0500
TZNAME:CDT
DTSTART:20250309T080000
END:DAYLIGHT
BEGIN:STANDARD
TZOFFSETFROM:-0500
TZOFFSETTO:-0600
TZNAME:CST
DTSTART:20251102T070000
END:STANDARD
BEGIN:DAYLIGHT
TZOFFSETFROM:-0600
TZOFFSETTO:-0500
TZNAME:CDT
DTSTART:20260308T080000
END:DAYLIGHT
BEGIN:STANDARD
TZOFFSETFROM:-0500
TZOFFSETTO:-0600
TZNAME:CST
DTSTART:20261101T070000
END:STANDARD
END:VTIMEZONE
BEGIN:VEVENT
DTSTART;TZID=America/Chicago:20250630T170000
DTEND;TZID=America/Chicago:20250630T200000
DTSTAMP:20260419T160213
CREATED:20250625T173542Z
LAST-MODIFIED:20250625T173544Z
UID:10000533-1751302800-1751313600@chapters.theprimetimersww.com
SUMMARY:!!! EVENT CANCELLED !!! - Golden Happy Hour at Just John's
DESCRIPTION:Due to Pride Weekend\, Just John’s announced today that their club will be closed on Monday\, June 30\, 2025 \n 
URL:https://chapters.theprimetimersww.com/stlouis/event/mon-500-pm-golden-happy-hour-at-just-johns-nightclub-rsvp-encouraged-5-2/2025-06-30/
LOCATION:Just John\, 4112 Manchester Avenue\, St. Louis\, MO\, 63110\, United States
ATTACH;FMTTYPE=image/jpeg:https://chapters.theprimetimersww.com/stlouis/wp-content/uploads/2023/07/Cancelled-sign.jpg
END:VEVENT
END:VCALENDAR