BEGIN:VCALENDAR
VERSION:2.0
PRODID:-//Prime Timers St. Louis - ECPv6.15.20//NONSGML v1.0//EN
CALSCALE:GREGORIAN
METHOD:PUBLISH
X-ORIGINAL-URL:https://chapters.theprimetimersww.com/stlouis
X-WR-CALDESC:Events for Prime Timers St. Louis
REFRESH-INTERVAL;VALUE=DURATION:PT1H
X-Robots-Tag:noindex
X-PUBLISHED-TTL:PT1H
BEGIN:VTIMEZONE
TZID:America/Chicago
BEGIN:DAYLIGHT
TZOFFSETFROM:-0600
TZOFFSETTO:-0500
TZNAME:CDT
DTSTART:20240310T080000
END:DAYLIGHT
BEGIN:STANDARD
TZOFFSETFROM:-0500
TZOFFSETTO:-0600
TZNAME:CST
DTSTART:20241103T070000
END:STANDARD
BEGIN:DAYLIGHT
TZOFFSETFROM:-0600
TZOFFSETTO:-0500
TZNAME:CDT
DTSTART:20250309T080000
END:DAYLIGHT
BEGIN:STANDARD
TZOFFSETFROM:-0500
TZOFFSETTO:-0600
TZNAME:CST
DTSTART:20251102T070000
END:STANDARD
BEGIN:DAYLIGHT
TZOFFSETFROM:-0600
TZOFFSETTO:-0500
TZNAME:CDT
DTSTART:20260308T080000
END:DAYLIGHT
BEGIN:STANDARD
TZOFFSETFROM:-0500
TZOFFSETTO:-0600
TZNAME:CST
DTSTART:20261101T070000
END:STANDARD
END:VTIMEZONE
BEGIN:VEVENT
DTSTART;TZID=America/Chicago:20250701T123000
DTEND;TZID=America/Chicago:20250701T140000
DTSTAMP:20260419T154700
CREATED:20241231T011557Z
LAST-MODIFIED:20250503T205426Z
UID:10000393-1751373000-1751378400@chapters.theprimetimersww.com
SUMMARY:Lunch N Learn LGBTQ
DESCRIPTION:AgeSmart Lunch N Learn LGBTQ Meeting will be held on Tuesday\, from 12:30 – 2:00pm at 7 Bronze Pointe S\, Ste B\, Swansea\, IL 62226. \nReservations are required.  Call (618) 222-6521 to reserve your space.
URL:https://chapters.theprimetimersww.com/stlouis/event/lunch-n-learn-lgbtq-2/2025-07-01/
LOCATION:Age Smart – Swansea\, IL\, 7 Bronze Pointe South\, Unit B\, Swansea\, IL\, 62226\, United States
ATTACH;FMTTYPE=image/jpeg:https://chapters.theprimetimersww.com/stlouis/wp-content/uploads/2024/10/AgeSmart.jpg
END:VEVENT
END:VCALENDAR