BEGIN:VCALENDAR
VERSION:2.0
PRODID:-//Prime Timers St. Louis - ECPv6.15.20//NONSGML v1.0//EN
CALSCALE:GREGORIAN
METHOD:PUBLISH
X-ORIGINAL-URL:https://chapters.theprimetimersww.com/stlouis
X-WR-CALDESC:Events for Prime Timers St. Louis
REFRESH-INTERVAL;VALUE=DURATION:PT1H
X-Robots-Tag:noindex
X-PUBLISHED-TTL:PT1H
BEGIN:VTIMEZONE
TZID:America/Chicago
BEGIN:DAYLIGHT
TZOFFSETFROM:-0600
TZOFFSETTO:-0500
TZNAME:CDT
DTSTART:20250309T080000
END:DAYLIGHT
BEGIN:STANDARD
TZOFFSETFROM:-0500
TZOFFSETTO:-0600
TZNAME:CST
DTSTART:20251102T070000
END:STANDARD
BEGIN:DAYLIGHT
TZOFFSETFROM:-0600
TZOFFSETTO:-0500
TZNAME:CDT
DTSTART:20260308T080000
END:DAYLIGHT
BEGIN:STANDARD
TZOFFSETFROM:-0500
TZOFFSETTO:-0600
TZNAME:CST
DTSTART:20261101T070000
END:STANDARD
BEGIN:DAYLIGHT
TZOFFSETFROM:-0600
TZOFFSETTO:-0500
TZNAME:CDT
DTSTART:20270314T080000
END:DAYLIGHT
BEGIN:STANDARD
TZOFFSETFROM:-0500
TZOFFSETTO:-0600
TZNAME:CST
DTSTART:20271107T070000
END:STANDARD
END:VTIMEZONE
BEGIN:VEVENT
DTSTART;TZID=America/Chicago:20260329T150000
DTEND;TZID=America/Chicago:20260329T190000
DTSTAMP:20260419T215107
CREATED:20260224T001740Z
LAST-MODIFIED:20260314T022808Z
UID:10001077-1774796400-1774810800@chapters.theprimetimersww.com
SUMMARY:Gateway Men’s Chorus Concert
DESCRIPTION:Tom Kellermann and Tom Bolman are inviting you to sit together in the theater at Second Presbyterian Church\, 4501 Westminster Place\, St. Louis\, MO 63108\, just before the Gateway Men’s Chorus matinee performance at 3pm\, Sunday\, March 29. When you enter\, just tell the GMC ticket people you are with Prime Timer’s St. Louis and they will seat us together.  Tickets are $20.00. You can buy them at the door as well as online.  Afterwards\, we are meeting for dinner at 5:00 pm at the Fountain On Locust\, 3037 Locust St.\, St. Louis\, 63103. Please RSVP to rsvp@primetimersstl.org if you plan on attending the concert\, the dinner\, or both. Order your concert ticket online at the GMC website:  http://www.gmcstl.org  If you have already RSVP’d\, thank you.
URL:https://chapters.theprimetimersww.com/stlouis/event/gateway-mens-chorus-matinee-performance/
LOCATION:Second Presbyterian Church\, 4501 Westminster Place\, St. Louis\, 63108\, United States
ATTACH;FMTTYPE=image/png:https://chapters.theprimetimersww.com/stlouis/wp-content/uploads/2026/03/Season-39-GATEWAY-MENS-CHORUS.png
END:VEVENT
END:VCALENDAR