BEGIN:VCALENDAR
VERSION:2.0
PRODID:-//Prime Timers St. Louis - ECPv6.15.20//NONSGML v1.0//EN
CALSCALE:GREGORIAN
METHOD:PUBLISH
X-ORIGINAL-URL:https://chapters.theprimetimersww.com/stlouis
X-WR-CALDESC:Events for Prime Timers St. Louis
REFRESH-INTERVAL;VALUE=DURATION:PT1H
X-Robots-Tag:noindex
X-PUBLISHED-TTL:PT1H
BEGIN:VTIMEZONE
TZID:America/Chicago
BEGIN:DAYLIGHT
TZOFFSETFROM:-0600
TZOFFSETTO:-0500
TZNAME:CDT
DTSTART:20220313T080000
END:DAYLIGHT
BEGIN:STANDARD
TZOFFSETFROM:-0500
TZOFFSETTO:-0600
TZNAME:CST
DTSTART:20221106T070000
END:STANDARD
BEGIN:DAYLIGHT
TZOFFSETFROM:-0600
TZOFFSETTO:-0500
TZNAME:CDT
DTSTART:20230312T080000
END:DAYLIGHT
BEGIN:STANDARD
TZOFFSETFROM:-0500
TZOFFSETTO:-0600
TZNAME:CST
DTSTART:20231105T070000
END:STANDARD
BEGIN:DAYLIGHT
TZOFFSETFROM:-0600
TZOFFSETTO:-0500
TZNAME:CDT
DTSTART:20240310T080000
END:DAYLIGHT
BEGIN:STANDARD
TZOFFSETFROM:-0500
TZOFFSETTO:-0600
TZNAME:CST
DTSTART:20241103T070000
END:STANDARD
END:VTIMEZONE
BEGIN:VEVENT
DTSTART;TZID=America/Chicago:20230803T190000
DTEND;TZID=America/Chicago:20230803T220000
DTSTAMP:20260422T174024
CREATED:20230716T203057Z
LAST-MODIFIED:20230906T014040Z
UID:10000038-1691089200-1691100000@chapters.theprimetimersww.com
SUMMARY:Black Pride STL Weekend 2023 starts August 3\, 2023 @ 7:00 pm
DESCRIPTION:Time & Location\n\n\nAug 03\, 7:00 PM – Aug 06\, 7:00 PM \nSt. Louis\, St. Louis\, MO\, USA \n\n\n\n\nAbout the event\n\n\nSAVE THE DATE!   Weekend Event Details to Come! Vendor Sign Info to Come! \n\n\nFor the latest information go to Black Pride STL Weekend 2023
URL:https://chapters.theprimetimersww.com/stlouis/event/black-pride-events-aug-3-6-when-august-3-2023-700-pm-whereblack-pride-stl-weekend-aug-3-6-to-be-announced-contact-event-website/
ATTACH;FMTTYPE=image/webp:https://chapters.theprimetimersww.com/stlouis/wp-content/uploads/2023/07/Logo-Black-Pride-Aug-3-e1689539523717.webp
END:VEVENT
BEGIN:VEVENT
DTSTART;TZID=America/Chicago:20230805T170000
DTEND;TZID=America/Chicago:20230805T200000
DTSTAMP:20260422T174024
CREATED:20230716T204408Z
LAST-MODIFIED:20230906T013959Z
UID:10000039-1691254800-1691265600@chapters.theprimetimersww.com
SUMMARY:IN-PERSON: PTSL Monthly Potluck at Bob & Dennis’ Home (RSVP Accepts Only)
DESCRIPTION:Come to the August PTSL Monthly Potluck! \nBob and Dennis H. are hosting the August Potluck at their home in Chesterfield on Saturday\, August 5\, 2023\, at 5:00 pm. \nOur hosts are planning to have Pork Steaks as the main entree.  You will bring a side dish\, appetizer\, salad or dessert.  Soda and bottled water will be provided.  Dinner will be served at 5:30 pm. Alcohol is BYOB\, smoking is outside and ample parking is available on the street. \nRSVP (accepts only) to rsvp@primetimersstl.org by Tuesday\, August 1 and tell us what potluck side dish\, appetizer\, salad or dessert you wish to bring.  The address/location will be sent as a reply email to the RSVP. \nThere will be a limit of 35 RSVPs for this event.
URL:https://chapters.theprimetimersww.com/stlouis/event/in-person-ptsl-monthly-potluck-at-bob-dennis-home-rsvp-accepts-only/
ATTACH;FMTTYPE=image/jpeg:https://chapters.theprimetimersww.com/stlouis/wp-content/uploads/2023/07/buffet-192203_1280-e1689540464880.jpg
END:VEVENT
BEGIN:VEVENT
DTSTART;TZID=America/Chicago:20230808T100000
DTEND;TZID=America/Chicago:20230808T130000
DTSTAMP:20260422T174024
CREATED:20230728T233651Z
LAST-MODIFIED:20230906T013837Z
UID:10000056-1691488800-1691499600@chapters.theprimetimersww.com
SUMMARY:IN PERSON: PTSL Walking Tour – Downtown Clayton & Optional Lunch
DESCRIPTION:As Clayton continues to build itself skyward\, there are lots of fountains and sculptures nestled in its downtown — some of the sculpture on loan from the St. Louis Art Museum.  On this walk\, you will see the oldest building in Clayton (1854) and will see lots of buildings under construction…including buildings by a company whose corporate headquarters is booming and expanding.  If you have memories of shopping at Famous-Barr\, the Clayton store still stands.  Plus\, in downtown Clayton you can see the wind\, thanks to 93\,000 flappers. \nAfterwards\, you can join us for an optional lunch at The Original Pancake House at 8817 Ladue Road\, Ladue\, MO.  The link to their website is: https://ophmo.com/ \nPlease RSVP (Accepts Only) to Doug Schneider at rsvp@primetimersstl.org.  Doug will send you specifics about the exact starting points.
URL:https://chapters.theprimetimersww.com/stlouis/event/in-person-ptsl-walking-tour-downtown-clayton-optional-lunch/
ATTACH;FMTTYPE=image/jpeg:https://chapters.theprimetimersww.com/stlouis/wp-content/uploads/2023/07/Clayton-Downtown.jpg
END:VEVENT
BEGIN:VEVENT
DTSTART;TZID=America/Chicago:20230814T170000
DTEND;TZID=America/Chicago:20230814T200000
DTSTAMP:20260422T174024
CREATED:20230612T172504Z
LAST-MODIFIED:20230612T173037Z
UID:10000021-1692032400-1692043200@chapters.theprimetimersww.com
SUMMARY:MON 5:00 PM - Golden Happy Hour at Just John's Nightclub - No RSVP
DESCRIPTION:Join your fellow Prime Timers at Just John’s for: \nGolden Happy Hour from 5 to 8 PM. \nAn RSVP is not necessary for this event. Just show up any time during happy hour and enjoy the evening with fellow Prime Timers. Complimentary food is served during the happy hour. \nThis event does not have a coordinator. Prime Timers can be found in a group in the rear of the bar or out on the patio in nice weather. If you don’t see us\, ask the bartender.
URL:https://chapters.theprimetimersww.com/stlouis/event/mon-500-pm-golden-happy-hour-at-just-johns-nightclub-no-rsvp/2023-08-14/
LOCATION:Just John\, 4112 Manchester Avenue\, St. Louis\, MO\, 63110\, United States
ATTACH;FMTTYPE=image/jpeg:https://chapters.theprimetimersww.com/stlouis/wp-content/uploads/2023/06/Logo-JustJohn-e1686590650364.jpg
END:VEVENT
BEGIN:VEVENT
DTSTART;TZID=America/Chicago:20230817T173000
DTEND;TZID=America/Chicago:20230817T200000
DTSTAMP:20260422T174024
CREATED:20230720T163315Z
LAST-MODIFIED:20230906T013758Z
UID:10000051-1692293400-1692302400@chapters.theprimetimersww.com
SUMMARY:Free LGBTQ+ Pride DJ Night at Missouri History Museum
DESCRIPTION:Free LBGTQ+ Pride DJ Night (RSVP required) \nJoin fellow Prime Timers at the Missouri History Museum in Forest Park for a fun dose of disco fever and vogue the night away! \nCraig Greene and other local LGBTQ+ DJs will spin memorable music from the local clubs and discos of the ’70s\, ’80s\, ’90s\, and beyond.. \nThis special Pride DJ Night features a Happy Hour and appetizers (for purchase)\, a panel discussion\, after-hours access to other museum exhibits\, and a free insulated tumbler for attendees. \nSponsors include William A. Kerr Foundation (John S.) and AARP St. Louis. \nMore info here:  https://mohistory.org/events/pride-dj-night-2 \nRSVP by clicking rsvp@primetimersstl.org.  Charles K. will be the contact person at this event.
URL:https://chapters.theprimetimersww.com/stlouis/event/free-lgbtq-event-at-missouri-history-museum/
LOCATION:Missouri History Museum\, 5700 Lindell Blvd.\, St. Louis\, MO\, 63112\, United States
ATTACH;FMTTYPE=image/jpeg:https://chapters.theprimetimersww.com/stlouis/wp-content/uploads/2023/07/pexels-gaby-tenda-2123606-e1689889260317.jpg
END:VEVENT
BEGIN:VEVENT
DTSTART;TZID=America/Chicago:20230823T190000
DTEND;TZID=America/Chicago:20230823T200000
DTSTAMP:20260422T174024
CREATED:20230716T205912Z
LAST-MODIFIED:20230906T013719Z
UID:10000040-1692817200-1692820800@chapters.theprimetimersww.com
SUMMARY:ONLINE: PTSL Talk – Foods and Drinks Invented in St. Louis
DESCRIPTION:St. Louis is where a bunch of foods have been invented or made their debut: condiments\, sandwiches\, pastries\, fairy floss\, breakfast items\, lots of confections\, main dishes\, tiger blood\, salads\, desserts\, salad dressings\, secret   sauces\, milk that does not need refrigeration.  Plus\, environmentally friendly crackers.  Classic cocktails have been invented here and craft cocktails are being invented here.  Mr. Lemp turned beer making from a female- dominated trade into a male-dominated industry.  And don’t forget that St. Louis invented Tums! \n\n\n\nAll PTSL members will receive a Zoom link for this free online talk.  RSVP is not required for PTSL members. Non-members will need to RSVP by Monday\, August 21 (Accepts only) by clicking on this link: rsvp@primetimersstlouis.org (or send an email to this address). All members and guests will later receive an email with connection instructions for the gathering. \n  \n        
URL:https://chapters.theprimetimersww.com/stlouis/event/online-ptsl-talk-foods-and-drinks-invented-in-st-louis/
ATTACH;FMTTYPE=image/jpeg:https://chapters.theprimetimersww.com/stlouis/wp-content/uploads/2023/07/Logo-Potluck.jpg
END:VEVENT
END:VCALENDAR