BEGIN:VCALENDAR
VERSION:2.0
PRODID:-//Prime Timers St. Louis - ECPv6.15.20//NONSGML v1.0//EN
CALSCALE:GREGORIAN
METHOD:PUBLISH
X-WR-CALNAME:Prime Timers St. Louis
X-ORIGINAL-URL:https://chapters.theprimetimersww.com/stlouis
X-WR-CALDESC:Events for Prime Timers St. Louis
REFRESH-INTERVAL;VALUE=DURATION:PT1H
X-Robots-Tag:noindex
X-PUBLISHED-TTL:PT1H
BEGIN:VTIMEZONE
TZID:America/Chicago
BEGIN:DAYLIGHT
TZOFFSETFROM:-0600
TZOFFSETTO:-0500
TZNAME:CDT
DTSTART:20230312T080000
END:DAYLIGHT
BEGIN:STANDARD
TZOFFSETFROM:-0500
TZOFFSETTO:-0600
TZNAME:CST
DTSTART:20231105T070000
END:STANDARD
BEGIN:DAYLIGHT
TZOFFSETFROM:-0600
TZOFFSETTO:-0500
TZNAME:CDT
DTSTART:20240310T080000
END:DAYLIGHT
BEGIN:STANDARD
TZOFFSETFROM:-0500
TZOFFSETTO:-0600
TZNAME:CST
DTSTART:20241103T070000
END:STANDARD
BEGIN:DAYLIGHT
TZOFFSETFROM:-0600
TZOFFSETTO:-0500
TZNAME:CDT
DTSTART:20250309T080000
END:DAYLIGHT
BEGIN:STANDARD
TZOFFSETFROM:-0500
TZOFFSETTO:-0600
TZNAME:CST
DTSTART:20251102T070000
END:STANDARD
END:VTIMEZONE
BEGIN:VEVENT
DTSTART;TZID=America/Chicago:20240713T123000
DTEND;TZID=America/Chicago:20240713T170000
DTSTAMP:20260422T172520
CREATED:20240528T223018Z
LAST-MODIFIED:20240710T000755Z
UID:10000321-1720873800-1720890000@chapters.theprimetimersww.com
SUMMARY:14th Annual Independence Day Potluck Banquet - SAT\, JULY 13 @ 12:30pm - RSVP Required (Accepts Only)
DESCRIPTION:Join Us for the 14th Annual Independence Day Potluck Banquet! \n  \nJoin your fellow Prime Timers for this event on Saturday\, July 13\, 2024 at 12:30pm at St. Mark’s Lutheran Church located at 6337 Clayton Road\, Clayton MO 63117. \nWe will provide the main dishes (to be announced)\, soft drinks\, coffee\, and bottled water.  Alcohol is BYOB.  You should bring a suitable side dish\, appetizer\, or dessert to share. \nEmail your RSVP by Thursday\, July 11 (Accepts only) by clicking here RSVP and indicate the number in your party and what potluck dish you wish to bring. \nCost is FREE for members and a $5 donation for non-member guests (it’s FREE to guests if they join PTSL that evening). \nMembership renewals will also be accepted for those members that wish to renew at the gathering (Cash\, Check\, Credit Card). \nHope you will join us for this holiday event!!
URL:https://chapters.theprimetimersww.com/stlouis/event/14th-annual-independence-day-potluck-banquet-sat-july-13-1230pm-rsvp-required-accepts-only/
LOCATION:St. Mark’s Lutheran Church\, 6337 Clayton Road\, Clayton\, 63117\, United States
ATTACH;FMTTYPE=image/jpeg:https://chapters.theprimetimersww.com/stlouis/wp-content/uploads/2023/12/St-Marks-Lutheran-Church.jpg
END:VEVENT
BEGIN:VEVENT
DTSTART;TZID=America/Chicago:20240714T193000
DTEND;TZID=America/Chicago:20240714T220000
DTSTAMP:20260422T172520
CREATED:20240622T020052Z
LAST-MODIFIED:20240622T022814Z
UID:10000328-1720985400-1720994400@chapters.theprimetimersww.com
SUMMARY:Gateway Festival Orchestra Concert
DESCRIPTION:“A Night of Nostalgia” \n560 Music Center \n**** The concert is FREE and there is plenty of FREE street or garage parking\,*** \n560 Trinity Ave\, University City\, MO 63130 \nLeon Burke III\, Guest Conductor \nElizabeth Myers\, bassoon – GFO Young Artist \nAiden Moon\, violin – GFO Young Artist \nThe Gateway Festival Orchestra and Guest Conductor Leon Burke III invite you to “A Night of Nostalgia”\, a blend of classical masterpieces and timeless favorites. Enjoy the grandeur of Glinka’s Ruslan and Ludmilla Overture and the haunting beauty of Schubert’s Symphony No. 8 (Unfinished). Be captivated by the virtuosity of young talents Elizabeth Myers on bassoon and Aiden Moon on violin as they breathe life into Carl Maria von Weber’s Bassoon Concerto and Mendelssohn’s Violin Concerto. Be whisked away by the enchanting sounds of Bernstein’s Candide Overture\, Anderson’s playful compositions\, and Mancini’s iconic theme from Pink Panther.  \nJoin us Sunday\, July 14th at 7:30 PM at the 560 Music Center for a nostalgic evening you won’t soon forget. “Notes to Munch On”\, an informal discussion of the evening’s selections\, begins in the auditorium at 7:10 PM. The concert is free.  \nFind a seat where you like or please join me\, I sit up near the production booth. Your well-being will improve with music. \nEric
URL:https://chapters.theprimetimersww.com/stlouis/event/gateway-festival-orchestra-concert/
LOCATION:560 Music Center\, 560 Trinity Ave\, University City\, 63130\, United States
ATTACH;FMTTYPE=image/jpeg:https://chapters.theprimetimersww.com/stlouis/wp-content/uploads/2024/06/Gateway_Festival_Orch_photo.jpg
END:VEVENT
BEGIN:VEVENT
DTSTART;TZID=America/Chicago:20240719T160000
DTEND;TZID=America/Chicago:20240719T200000
DTSTAMP:20260422T172520
CREATED:20240604T215145Z
LAST-MODIFIED:20240604T220457Z
UID:10000324-1721404800-1721419200@chapters.theprimetimersww.com
SUMMARY:Ice Cream Social with Optional B&B Overnight
DESCRIPTION:You can choose to make this a day trip or an overnight journey. \nEric and Mitch have attended this old-fashioned experience off and on since 1981. (It’s well worth the drive and a good carpool opportunity.) \nA tractor churns the homemade ice cream. They serve chicken dinners in the air-conditioned church hall and have a stand selling – hot dogs – hamburgers – fish sandwiches – and more. There is live music from the bandstand. Tables selling handmade quilts\, baked goods\, produce and crafts. \nFriday\, July 19th.   Hours: 4:00PM – 8:00PM \nSt. James Evangelical Church – about 65 miles / 1hr. 20min. from St. Louis \n4310 Highway E\, Stony Hill\, MO \nTake I-44 W to MO-100 toward Washington. Take exit 251 (MO-100) to Washington\, stay on 100 until just past New Haven go Left on E\, and stay on E until you reach the church. \nWe hope to see you there – FYI – arrive early if you want the dinner so you’ll get a low ticket number. \nEric & Mitch \nFor the Overnighters \nWe are staying the night in New Haven and will likely drive over to the Augusta and Defiance wineries for lunch the next day before returning home. \nCentral Hotel Bed & Breakfast  (Only a couple of rooms left)  \n1017 Maupin Street | New Haven\, MO\, 63068 \nPhone: (573) 237-8540 \nhttps://centralhotelnh.com/ \nJeannie – Mgr. \nParking is right outside the door and very safe. \nIt’s a Short walk down a hill to the historic downtown and the Missouri River. \nThis quaint B&B is located in a picturesque riverfront town. \nLet us know if you’re joining us for the night. \nFYI – As an alternate B&B if the Central Hotel is full\, check out the nearby Senate Grove Inn at https://www.senategroveinn.com/ \n  \n  \n  \n 
URL:https://chapters.theprimetimersww.com/stlouis/event/ice-cream-social-with-optional-bb-overnight/
LOCATION:St. James Evangelical Church\, 4310 Highway E\, New Haven\, 63068\, United States
ATTACH;FMTTYPE=image/jpeg:https://chapters.theprimetimersww.com/stlouis/wp-content/uploads/2024/06/Ice-Cream-Social.jpeg
END:VEVENT
BEGIN:VEVENT
DTSTART;TZID=America/Chicago:20240721T123000
DTEND;TZID=America/Chicago:20240721T143000
DTSTAMP:20260422T172520
CREATED:20240625T022659Z
LAST-MODIFIED:20240711T233239Z
UID:10000332-1721565000-1721572200@chapters.theprimetimersww.com
SUMMARY:Brunch at Molly's Restaurant in Soulard
DESCRIPTION:This event is already full as of 7/11/2024.\nCome to PTSL Sunday Brunch at Molly’s in Soulard\, 816 Geyer Ave.\, St. Louis\, MO 63104  on Sunday\, July 21\, at 12:30 p.m.\nParking is on the street\, and is free on Sundays.
URL:https://chapters.theprimetimersww.com/stlouis/event/brunch-at-mollys-restaurant-in-soulard/
LOCATION:Molly’s in Soulard\, 816 Geyer Ave.\, St. Louis\, MO\, 63104\, United States
ATTACH;FMTTYPE=image/png:https://chapters.theprimetimersww.com/stlouis/wp-content/uploads/2024/06/Mollys-in-Soulard.png
END:VEVENT
BEGIN:VEVENT
DTSTART;TZID=America/Chicago:20240724T190000
DTEND;TZID=America/Chicago:20240724T200000
DTSTAMP:20260422T172520
CREATED:20240507T042924Z
LAST-MODIFIED:20240507T042924Z
UID:10000253-1721847600-1721851200@chapters.theprimetimersww.com
SUMMARY:FREE ZOOM TALK: “INS AND OUTS OF HAMBURGERS IN ST. LOUIS”
DESCRIPTION:St. Louis did not invent the hamburger\, but it catapulted it onto the national scene when 20 million people came to the 1904 World’s Fair where hamburgers were being served.  The hamburger survived the meatpacking scandals of the early 20th Century\, and now they are an iconic food.  St Louis has several different ways of cooking burgers\, and several different styles of burgers\, and several choices of what kind of patty is used.  Chuck-A-Burger has been here for over 70 years\, the White Barn says its burgers are legendary\, and steakburgers have become national thanks to Daniel Meyers.  And\, you can get a St. Louis Burger in any large town in Iceland.  This talk will also cover the love story where hamburgers saved a silent movie star’s marriage. \nAll Prime Timers will be emailed a Zoom link for this free talk. \nJuly 24\, 7:00pm – 8:00pm \n 
URL:https://chapters.theprimetimersww.com/stlouis/event/free-zoom-talk-ins-and-outs-of-hamburgers-in-st-louis/
ATTACH;FMTTYPE=image/jpeg:https://chapters.theprimetimersww.com/stlouis/wp-content/uploads/2024/05/amirali-mirhashemian-sc5sTPMrVfk-unsplash.jpg
END:VEVENT
BEGIN:VEVENT
DTSTART;TZID=America/Chicago:20240724T190000
DTEND;TZID=America/Chicago:20240724T214500
DTSTAMP:20260422T172520
CREATED:20240704T023210Z
LAST-MODIFIED:20240704T023210Z
UID:10000334-1721847600-1721857500@chapters.theprimetimersww.com
SUMMARY:Whitaker Music Festival at the Missouri Botanical Garden
DESCRIPTION:Please join us for the Whitaker Music Festival held at the Missouri Botanical Garden and hosted by John Carroll and Phil Egart\, on our calendar for Wednesday\, July 24\, beginning at 7:00pm.  See link to the website below. \nEnjoy live jazz music under the stars!  Just bring folding chairs or a blanket with a cooler for drinks and food (no bottles) and relax. It’s crowded\, so Phil and John will arrive early to save us a spot. Please click on RSVP so that John and Phil will know who to look for. This free event starts at 7:00pm\, finishing up at 9:45pm\, and can be rained out with bad weather.  There is ample free parking on the lot\, the multi-modal lots across from Gringo Jones\, or on Alfred or Vandeventer streets. So come and have a good time! 
URL:https://chapters.theprimetimersww.com/stlouis/event/whitaker-music-festival-at-the-missouri-botanical-garden/
LOCATION:Missouri Botanical Garden\, 4344 Shaw Blvd\, St. Louis\, 63110\, United States
ATTACH;FMTTYPE=image/jpeg:https://chapters.theprimetimersww.com/stlouis/wp-content/uploads/2024/07/Whitaker-Music-Festival-1.jpeg
END:VEVENT
BEGIN:VEVENT
DTSTART;TZID=America/Chicago:20240725T170000
DTEND;TZID=America/Chicago:20240725T200000
DTSTAMP:20260422T172520
CREATED:20241212T223620Z
LAST-MODIFIED:20241212T223620Z
UID:10000414-1721926800-1721937600@chapters.theprimetimersww.com
SUMMARY:MON 5:00 PM - Golden Happy Hour at Just John's Nightclub - RSVP encouraged
DESCRIPTION:Join your fellow Prime Timers at Just John’s for: \nGolden Happy Hour from 5 to 8 PM. \nPlease respond (accepts only) to rsvp@primetimersstl.org so that your host Michael D will know who is attending.  Arrive any time during happy hour and enjoy the evening with fellow Prime Timers. Complimentary food is served during the happy hour. \nThe coordinator for this event is Michael D.  Prime Timers can be found in a group in the rear of the bar or out on the patio in nice weather. If you don’t see us\, ask the bartender. \nAfterwards\, around 8:00 pm\, you are welcome to join Michael and some of the others for a bite to eat at Chao Baan restaurant\, just down the street from Just John’s Bar\, in the Grove neighborhood. 
URL:https://chapters.theprimetimersww.com/stlouis/event/mon-500-pm-golden-happy-hour-at-just-johns-nightclub-rsvp-encouraged/2024-07-25/
LOCATION:Just John\, 4112 Manchester Avenue\, St. Louis\, MO\, 63110\, United States
ATTACH;FMTTYPE=image/jpeg:https://chapters.theprimetimersww.com/stlouis/wp-content/uploads/2023/06/Logo-JustJohn-e1686590650364.jpg
END:VEVENT
BEGIN:VEVENT
DTSTART;TZID=America/Chicago:20240725T193000
DTEND;TZID=America/Chicago:20240725T213000
DTSTAMP:20260422T172520
CREATED:20240622T031150Z
LAST-MODIFIED:20240622T031150Z
UID:10000330-1721935800-1721943000@chapters.theprimetimersww.com
SUMMARY:St. Louis Banjo Club Concert
DESCRIPTION:Join us for an evening of live music played on “America’s fun instrument- the four-string banjo”. \nSing along and listen to 15 banjo players playing the songs you know. \nLocation: Elks Club\, 6330 Heege Road (near Mackenzie Road)\, Affton\, MO 63123 \nThe air-conditioned room is very spacious and accommodating. \nSeating is at tables and although you may bring your own munchies\, we ask that you purchase your soda\, beer and wine at the concession. \nThere is free well-lit parking in the back with a canopy cover leading to the back door. \nJoin me for this FREE event in an indoor and cool environment. \nCome and stay as long as you like\, \nEric \n 
URL:https://chapters.theprimetimersww.com/stlouis/event/st-louis-banjo-club-concert/
LOCATION:Affton Elks Lodge\, 6330 Heege Rd\, Affton\, 63123\, United States
ATTACH;FMTTYPE=image/jpeg:https://chapters.theprimetimersww.com/stlouis/wp-content/uploads/2024/06/St.-Louis-Banjo-Club-Logo.jpg
END:VEVENT
BEGIN:VEVENT
DTSTART;TZID=America/Chicago:20240728T193000
DTEND;TZID=America/Chicago:20240728T220000
DTSTAMP:20260422T172520
CREATED:20240622T023658Z
LAST-MODIFIED:20240622T023658Z
UID:10000329-1722195000-1722204000@chapters.theprimetimersww.com
SUMMARY:Gateway Festival Orchestra Concert
DESCRIPTION:“Celebrate Gershwin”\n560 Music Center \n**** The concert is FREE and there is plenty of FREE street or garage parking\,*** \n560 Trinity Ave\, University City\, MO 63130\nChristopher Kelts\, Guest Conductor\nJiyeon Lee\, Piano\nThe Gateway Festival Orchestra and Guest Conductor Christopher Kelts invite you to “Celebrate Gershwin”\, an evening dedicated to the timeless compositions of George Gershwin. Experience the tender embrace of Gershwin’s Lullaby\, the iconic melodies of Porgy and Bess\, and the vibrant energy of An American in Paris. The brilliant pianist and Guest Artist Jiyeon Lee performs the spellbinding Rhapsody in Blue. All is enhanced by the outstanding acoustics of the Music Center concert hall. \nJoin us Sunday\, July 28th\, 7:30 PM at the 560 Music Center for an evening that will leave you captivated and inspired. “Notes to Munch On”\, an informal discussion of the evening’s selections\, begins in the auditorium at 7:10 PM. The concert is free.  \nFind a seat where you like or please join me\, I sit up near the production booth. Your well-being will improve with music. \nEric
URL:https://chapters.theprimetimersww.com/stlouis/event/gateway-festival-orchestra-concert-2/
LOCATION:560 Music Center\, 560 Trinity Ave\, University City\, 63130\, United States
ATTACH;FMTTYPE=image/jpeg:https://chapters.theprimetimersww.com/stlouis/wp-content/uploads/2024/06/Gateway_Festival_Orch_photo.jpg
END:VEVENT
BEGIN:VEVENT
DTSTART;TZID=America/Chicago:20240729T170000
DTEND;TZID=America/Chicago:20240729T200000
DTSTAMP:20260422T172520
CREATED:20240111T060633Z
LAST-MODIFIED:20240223T025547Z
UID:10000220-1722272400-1722283200@chapters.theprimetimersww.com
SUMMARY:MON 5:00 PM - Golden Happy Hour at Just John's Nightclub - RSVP encouraged
DESCRIPTION:Join your fellow Prime Timers at Just John’s for: \nGolden Happy Hour from 5 to 8 PM. \nPlease respond (accepts only) to rsvp@primetimersstl.org so that your host Michael D will know who is attending.  Arrive any time during happy hour and enjoy the evening with fellow Prime Timers. Complimentary food is served during the happy hour. \nThe coordinator for this event is Michael D.  Prime Timers can be found in a group in the rear of the bar or out on the patio in nice weather. If you don’t see us\, ask the bartender. \nAfterwards\, around 8:00 pm\, you are welcome to join Michael and some of the others for a bite to eat at Chao Baan restaurant\, just down the street from Just John’s Bar\, in the Grove neighborhood. 
URL:https://chapters.theprimetimersww.com/stlouis/event/mon-500-pm-golden-happy-hour-at-just-johns-nightclub-rsvp-encouraged-2/2024-07-29/
LOCATION:Just John\, 4112 Manchester Avenue\, St. Louis\, MO\, 63110\, United States
ATTACH;FMTTYPE=image/jpeg:https://chapters.theprimetimersww.com/stlouis/wp-content/uploads/2023/06/Logo-JustJohn-e1686590650364.jpg
END:VEVENT
END:VCALENDAR