BEGIN:VCALENDAR
VERSION:2.0
PRODID:-//Prime Timers St. Louis - ECPv6.15.20//NONSGML v1.0//EN
CALSCALE:GREGORIAN
METHOD:PUBLISH
X-ORIGINAL-URL:https://chapters.theprimetimersww.com/stlouis
X-WR-CALDESC:Events for Prime Timers St. Louis
REFRESH-INTERVAL;VALUE=DURATION:PT1H
X-Robots-Tag:noindex
X-PUBLISHED-TTL:PT1H
BEGIN:VTIMEZONE
TZID:America/Chicago
BEGIN:DAYLIGHT
TZOFFSETFROM:-0600
TZOFFSETTO:-0500
TZNAME:CDT
DTSTART:20240310T080000
END:DAYLIGHT
BEGIN:STANDARD
TZOFFSETFROM:-0500
TZOFFSETTO:-0600
TZNAME:CST
DTSTART:20241103T070000
END:STANDARD
BEGIN:DAYLIGHT
TZOFFSETFROM:-0600
TZOFFSETTO:-0500
TZNAME:CDT
DTSTART:20250309T080000
END:DAYLIGHT
BEGIN:STANDARD
TZOFFSETFROM:-0500
TZOFFSETTO:-0600
TZNAME:CST
DTSTART:20251102T070000
END:STANDARD
BEGIN:DAYLIGHT
TZOFFSETFROM:-0600
TZOFFSETTO:-0500
TZNAME:CDT
DTSTART:20260308T080000
END:DAYLIGHT
BEGIN:STANDARD
TZOFFSETFROM:-0500
TZOFFSETTO:-0600
TZNAME:CST
DTSTART:20261101T070000
END:STANDARD
END:VTIMEZONE
BEGIN:VEVENT
DTSTART;TZID=America/Chicago:20250701T123000
DTEND;TZID=America/Chicago:20250701T140000
DTSTAMP:20260419T125358
CREATED:20241231T011557Z
LAST-MODIFIED:20250503T205426Z
UID:10000393-1751373000-1751378400@chapters.theprimetimersww.com
SUMMARY:Lunch N Learn LGBTQ
DESCRIPTION:AgeSmart Lunch N Learn LGBTQ Meeting will be held on Tuesday\, from 12:30 – 2:00pm at 7 Bronze Pointe S\, Ste B\, Swansea\, IL 62226. \nReservations are required.  Call (618) 222-6521 to reserve your space.
URL:https://chapters.theprimetimersww.com/stlouis/event/lunch-n-learn-lgbtq-2/2025-07-01/
LOCATION:Age Smart – Swansea\, IL\, 7 Bronze Pointe South\, Unit B\, Swansea\, IL\, 62226\, United States
ATTACH;FMTTYPE=image/jpeg:https://chapters.theprimetimersww.com/stlouis/wp-content/uploads/2024/10/AgeSmart.jpg
END:VEVENT
BEGIN:VEVENT
DTSTART;TZID=America/Chicago:20250705T120000
DTEND;TZID=America/Chicago:20250705T160000
DTSTAMP:20260419T125358
CREATED:20250108T015758Z
LAST-MODIFIED:20250108T022636Z
UID:10000647-1751716800-1751731200@chapters.theprimetimersww.com
SUMMARY:PTSL Annual Independence Day Potluck Banquet at St. Mark's Church
DESCRIPTION:Please join us for our July PTSL Independence Day Potluck Banquet. This event will be held at St. Mark’s Church located at 6337 Clayton Road\, 63117. \nPTSL will supply the main entrees.  We ask that you bring a side dish or dessert. \nRSVP to let us know how many will attend and what dish you are bringing. \n 
URL:https://chapters.theprimetimersww.com/stlouis/event/ptsl-independence-day-potluck-banquet-at-st-marks-church/
LOCATION:St. Mark’s Lutheran Church\, 6337 Clayton Road\, Clayton\, 63117\, United States
ATTACH;FMTTYPE=image/png:https://chapters.theprimetimersww.com/stlouis/wp-content/uploads/2025/01/Independence-Day.png
END:VEVENT
BEGIN:VEVENT
DTSTART;TZID=America/Chicago:20250707T190000
DTEND;TZID=America/Chicago:20250707T200000
DTSTAMP:20260419T125358
CREATED:20250623T001712Z
LAST-MODIFIED:20250623T001712Z
UID:10000839-1751914800-1751918400@chapters.theprimetimersww.com
SUMMARY:FREE ZOOM TALK: GAMES STL PEOPLE PLAY
DESCRIPTION:This talk looks at the myriad amateur sports and organized games that St. Louisans play from mud pits to video screens.  They play for trophies\, championships\, or the joy of winning.  St. Louisans play games on clay\, on ice\, on sand\, on screen\, on water\, in water\, on grass\, on asphalt\, in mud.  They play games with stumps\, ropes\, poles\, barrels\, sticks\, stones\, pallinos\, gaga balls\, castles\, tree trunks.  And watch out for the game where you get pelted with bags if you make a foul.  The talk will also salute the place in nearby Illinois which is keeping alive a sport that appeared in the 1904 Olympics in St. Louis —the sport has never been played in any other Olympics. \n  \nEvery Prime Timer will receive an email with a Zoom link for the free talk.
URL:https://chapters.theprimetimersww.com/stlouis/event/free-zoom-talk-games-stl-people-play/
ATTACH;FMTTYPE=image/jpeg:https://chapters.theprimetimersww.com/stlouis/wp-content/uploads/2025/06/BattleBeam-A.jpg
END:VEVENT
BEGIN:VEVENT
DTSTART;TZID=America/Chicago:20250714T170000
DTEND;TZID=America/Chicago:20250714T200000
DTSTAMP:20260419T125358
CREATED:20250106T044845Z
LAST-MODIFIED:20250106T044845Z
UID:10000549-1752512400-1752523200@chapters.theprimetimersww.com
SUMMARY:MON 5:00 PM - Golden Happy Hour at Just John's Nightclub - RSVP encouraged
DESCRIPTION:Join your fellow Prime Timers at Just John’s for: \nGolden Happy Hour from 5 to 8 PM. \nPlease respond (accepts only) to rsvp@primetimersstl.org so that your host Michael D will know who is attending.  Arrive any time during happy hour and enjoy the evening with fellow Prime Timers. Complimentary food is served during the happy hour. \nThe coordinator for this event is Michael D.  Prime Timers can be found in a group in the rear of the bar or out on the patio in nice weather. If you don’t see us\, ask the bartender. \nAfterwards\, around 8:00 pm\, you are welcome to join Michael and some of the others for a bite to eat at Chao Baan restaurant\, just down the street from Just John’s Bar\, in the Grove neighborhood. 
URL:https://chapters.theprimetimersww.com/stlouis/event/mon-500-pm-golden-happy-hour-at-just-johns-nightclub-rsvp-encouraged-6/2025-07-14/
LOCATION:Just John\, 4112 Manchester Avenue\, St. Louis\, MO\, 63110\, United States
ATTACH;FMTTYPE=image/jpeg:https://chapters.theprimetimersww.com/stlouis/wp-content/uploads/2023/06/Logo-JustJohn-e1686590650364.jpg
END:VEVENT
BEGIN:VEVENT
DTSTART;TZID=America/Chicago:20250718T160000
DTEND;TZID=America/Chicago:20250718T200000
DTSTAMP:20260419T125358
CREATED:20250307T160842Z
LAST-MODIFIED:20250307T160842Z
UID:10000687-1752854400-1752868800@chapters.theprimetimersww.com
SUMMARY:Friday Afternoon Ice Cream Social with an Optional B&B Stay Over
DESCRIPTION:This is a step back in time experience\, a real Old Fashioned movie set memory maker. Make this a day trip or an overnight journey. We have attended this event off and on since 1981 and it’s well worth the drive and a good carpool opportunity. \nThey use a tractor to churn the homemade ice cream and offer chicken and Ham dinners in the air-conditioned church hall. There is also a stand selling – hot dogs – hamburgers – fish sandwiches – and more. \nEntertainment includes live music from the bandstand. A variety of handmade quilts\, baked goods\, produce and crafts are for sale. \nFriday\, July 18th.   Hours: 4 – 8 PM  \nSt. James Evangelical Church – about 65 miles / 1hr. 20min. from St.Louis \n4310 Highway E\, Stony Hill\, MO \nTake I-44 W to MO-100 toward Washington. \nTake exit 251 (MO-100) to Washington\, stay on 100 until just past New Haven\, then go Left on E\, and stay on E until you reach the church. \nWe hope to see you there. \nEric & Mitch \nFYI – we arrive early for the shorter dinner line. \nFor the Overnighters \nWe are staying the night in New Haven and will likely drive over to the Augusta or Defiance wineries for lunch the next day before returning home. \nCentral Hotel Bed & Breakfast  (5 rooms see FYI below)  \n1017 Maupin Street | New Haven\, MO\, 63068 \nPhone: (573) 237-8540 \nhttps://centralhotelnh.com/  \nJeannie – Mgr. \nParking is right outside the front door. \nThis quaint B&B is located in a picturesque riverfront town and the historic downtown and Missouri River are just a short walk down the hill. \nPlease let us know if you’re joining us for the night. ejohnson10316@yahoo.com \nFYI – As an alternate B&B if the Central Hotel is full\, check out the nearby Senate Grove Inn at https://www.senategroveinn.com/ \nSpecial request: If you take photos\, Doug Schneider asks that you send copies to him for a future PTSL newsletter.   314-221-6381    ParadiseDouglas@gmail.com \nNote: Check out the Prime Timers St. Louis website for calendar and other information.   https://chapters.theprimetimersww.com/stlouis/  \n 
URL:https://chapters.theprimetimersww.com/stlouis/event/friday-afternoon-ice-cream-social-with-an-optional-bb-stay-over/
LOCATION:St. James Evangelical Church\, 4310 Highway E\, New Haven\, 63068\, United States
ATTACH;FMTTYPE=image/png:https://chapters.theprimetimersww.com/stlouis/wp-content/uploads/2025/03/Ice-Cream-Machines.png
END:VEVENT
BEGIN:VEVENT
DTSTART;TZID=America/Chicago:20250720T123000
DTEND;TZID=America/Chicago:20250720T140000
DTSTAMP:20260419T125358
CREATED:20250205T000545Z
LAST-MODIFIED:20250715T041621Z
UID:10000674-1753014600-1753020000@chapters.theprimetimersww.com
SUMMARY:Sunday Brunch at Molly's Restaurant Soulard - THIS EVENT IS FULL.
DESCRIPTION:NOTE:  This event is full. No more reservations\, please.\nPlease join us for Sunday Brunch at Molly’s Restaurant\, 816 Geyer Avenue\, St. Louis MO 63104. \nDate: July 20\, 2025 \nTime: 12:30pm to 2:00pm \nNOTE:  There is a limit of 12 persons at this event (due to restaurant restrictions) \nPlease email us so that we know if you will attend rsvp@primetimersstl.org \n  \n 
URL:https://chapters.theprimetimersww.com/stlouis/event/sunday-brunch-at-mollys-restaurant-soulard/
LOCATION:Molly’s in Soulard\, 816 Geyer Ave.\, St. Louis\, MO\, 63104\, United States
ATTACH;FMTTYPE=image/png:https://chapters.theprimetimersww.com/stlouis/wp-content/uploads/2024/06/Mollys-in-Soulard.png
END:VEVENT
BEGIN:VEVENT
DTSTART;TZID=America/Chicago:20250721T170000
DTEND;TZID=America/Chicago:20250721T210000
DTSTAMP:20260419T125358
CREATED:20250516T004413Z
LAST-MODIFIED:20250516T005428Z
UID:10000770-1753117200-1753131600@chapters.theprimetimersww.com
SUMMARY:It's Birthday Monday at Just John Club
DESCRIPTION:Just John Birthday Monday takes place on the third Monday of each month from 5:00pm to 9:00pm. \nAll patrons with birthdays this month are gifted a bucket of domestic beer or a bottle of sparkling white wine with champagne glasses. \nWhether you’re celebrating your birthday or just joining in\, come out to enjoy a fantastic time and share in our friendship! \nThis is generally a NO Cards and NO Gifts open event\, but you are free to create a grand\, reserved space & table affair with consent from the establishment. \nCheers\, Eric Johnson \nJust John Club\, 4112 Manchester Ave.\, St. Louis\, MO 63110 \nNote: Check out the Prime Timers St. Louis website for all the fun social events on their calendar and other information. \nhttps://chapters.theprimetimersww.com/stlouis/?post_type=tribe_events&eventDisplay=month \n 
URL:https://chapters.theprimetimersww.com/stlouis/event/its-birthday-monday-at-just-john-club/2025-07-21/
LOCATION:Just John Club\, 4112 Manchester Ave\, St. Louis\, 63110\, United States
ATTACH;FMTTYPE=image/jpeg:https://chapters.theprimetimersww.com/stlouis/wp-content/uploads/2025/05/Just-John-Club.jpg
END:VEVENT
BEGIN:VEVENT
DTSTART;TZID=America/Chicago:20250724T120000
DTEND;TZID=America/Chicago:20250725T170000
DTSTAMP:20260419T125358
CREATED:20250624T230651Z
LAST-MODIFIED:20250624T231003Z
UID:10000841-1753358400-1753462800@chapters.theprimetimersww.com
SUMMARY:Classic Route 66 Motel Stay and Onondaga Cave Tour
DESCRIPTION:Join us for a COOL overnight adventure! \nTime is of the essence!  A limited number of tickets are available for the cave tour! \nBook your tour and motel NOW\, and let me know so I can make dining arrangements and keep you updated. \nIf you are interested in the cave tour only\, check the Doug Schneider entry in the PTSL calendar for July 25. \nWhen: Thursday\, July 24 (overnight stay and dinner) and Friday\, July 25 (tour and lunch) \nThursday night stay: The Wagon Wheel Motel\, 901 E Washington St.\, Cuba\, MO 65453 https://www.wagonwheel66cuba.com/ \nMitch and I are booked for the night of Thursday\, July 24\, and we’ll have breakfast the next morning before the cave tour. \nThis is an opportunity to experience a refurbished blast from the past roadside motel. \nTour: Friday\, July 25\, book the 10:00 AM TOUR – Senior tickets are $20.00 + tax \nWhen given a choice between a Tour and a Group Tour\, choose the Tour.  \nI suggest\, Do NOT select [continue as a guest]. Go ahead and register with a password\, taking your time with each step. Click “Sign Up Now!”  \nhttps://icampmo.usedirect.com/MSPWeb/Activities/ProgramsAndTours.aspx?place_id=5 \nOnondaga Cave Tour  \nOnondaga Cave is a spectacular registered National Natural Landmark. Trained guides will lead us over electrically lit paved walkways and explain its history. Besides the many geologic wonders\, there is also a river flowing through the cave. \nOnondaga Cave tours leave from the visitor center. They are walking tours\, just less than 1 mile long\, and last about one hour and 15 minutes. \nThe cave’s temperature is 57ºF (13ºC) year-round\, so bring a jacket and comfortable shoes. Please arrive ten minutes before the tour start time. \nYou deserve an adventure\, so come join us! \nEric Johnson & Mitch Millner \nejohnson10316@yahoo.com  \nSpecial request: If you take photos\, Doug Schneider asks that you send copies to him for a future PTSL newsletter.   314-221-6381    ParadiseDouglas@gmail.com \nNote: Check out the Prime Timers St. Louis website for the calendar and other information.   https://chapters.theprimetimersww.com/stlouis/
URL:https://chapters.theprimetimersww.com/stlouis/event/classic-route-66-motel-stay-and-onondaga-cave-tour/
LOCATION:Wagon Wheel Motel\, 901 E Washington St\, Cuba\, 65453\, United States
ATTACH;FMTTYPE=image/png:https://chapters.theprimetimersww.com/stlouis/wp-content/uploads/2025/06/Wagon-Wheel-Neon.png
END:VEVENT
BEGIN:VEVENT
DTSTART;TZID=America/Chicago:20250725T084500
DTEND;TZID=America/Chicago:20250725T134500
DTSTAMP:20260419T125358
CREATED:20250623T002433Z
LAST-MODIFIED:20250623T002433Z
UID:10000840-1753433100-1753451100@chapters.theprimetimersww.com
SUMMARY:VISIT TO ONONDAGA CAVE STATE PARK
DESCRIPTION:Onondaga Cave is a natural cave (as opposed to a show cave like Meramec Caverns).  With an interesting history and a river flowing through the cave\, Onondaga Cave is a registered National Natural Landmark.  They offer hour-and-a-half tours that descend into a world of towering stalagmites\, dripping stalactites\, and active flowstones. The cost for a senior ticket is $20.00 plus tax.  The cave is near Leasburg\, Missouri. \n  \nSTART POINT: We will be CARPOOLING to the cave from the parking lot of Cheap Pricks\, 932 Meramec Station Rd Suite H\, Valley Park MO.  We will be going on the 10:00 AM cave tour.  Afterwards\, lunch at Skippy’s Route 66 Restaurant in Leasburg\, which has a 4.5 stars rating out of 5 stars on Yelp. \n  \nPlease tell Doug Schneider (ParadiseDouglas@gmail.com) that you have bought a ticket\, so he can expect you. \n  \nNOTE: Tours are limited to 15 people\, so buy your ticket soon. \n  \nHere is the best way to BUY A TICKET on the Onondaga Cave State Park website:  When given a choice of “Tour” or “Group Tour”\, choose “Tour”.  When you have selected the date of July 25 and the time of 10:00 AM\, DO NOT CLICK ON CONTINUE AS A GUEST.  Instead\, go ahead\, register with a password and take your time with each step.  Click “Sign Up Now!”
URL:https://chapters.theprimetimersww.com/stlouis/event/visit-to-onondaga-cave-state-park/
ATTACH;FMTTYPE=image/jpeg:https://chapters.theprimetimersww.com/stlouis/wp-content/uploads/2025/06/OnondagaCave-WithNamejpg.jpg
END:VEVENT
BEGIN:VEVENT
DTSTART;TZID=America/Chicago:20250726T180000
DTEND;TZID=America/Chicago:20250726T210000
DTSTAMP:20260419T125358
CREATED:20250717T022725Z
LAST-MODIFIED:20250818T020901Z
UID:10000845-1753552800-1753563600@chapters.theprimetimersww.com
SUMMARY:PTSL Saturday Night Out
DESCRIPTION:Can’t make it to Just John Happy Hour because it’s on a Monday night? This new event might be for you!  PTSL Board Member-at-Large Joe Tumblin is hosting PTSL Saturday Night Out so we can revisit our past experiences and enjoy a night on the town. \nThe event will take place on the last Saturday of each month at 6:00pm. RSVP directly to me\, Joe Tumblin\, at josephtumblin@gmail.com so I can have a headcount\, plan accordingly\, and let you know the location. \nLet’s recapture some of the energy of our youth and patronize some of the gay bars like we used to!
URL:https://chapters.theprimetimersww.com/stlouis/event/just-john-happy-hour-last-saturday-of-each-month/2025-07-26/
LOCATION:Just John\, 4112 Manchester Avenue\, St. Louis\, MO\, 63110\, United States
ATTACH;FMTTYPE=image/jpeg:https://chapters.theprimetimersww.com/stlouis/wp-content/uploads/2025/07/Saturday-Night.jpg
END:VEVENT
END:VCALENDAR