BEGIN:VCALENDAR
VERSION:2.0
PRODID:-//Prime Timers St. Louis - ECPv6.15.20//NONSGML v1.0//EN
CALSCALE:GREGORIAN
METHOD:PUBLISH
X-WR-CALNAME:Prime Timers St. Louis
X-ORIGINAL-URL:https://chapters.theprimetimersww.com/stlouis
X-WR-CALDESC:Events for Prime Timers St. Louis
REFRESH-INTERVAL;VALUE=DURATION:PT1H
X-Robots-Tag:noindex
X-PUBLISHED-TTL:PT1H
BEGIN:VTIMEZONE
TZID:America/Chicago
BEGIN:DAYLIGHT
TZOFFSETFROM:-0600
TZOFFSETTO:-0500
TZNAME:CDT
DTSTART:20230312T080000
END:DAYLIGHT
BEGIN:STANDARD
TZOFFSETFROM:-0500
TZOFFSETTO:-0600
TZNAME:CST
DTSTART:20231105T070000
END:STANDARD
BEGIN:DAYLIGHT
TZOFFSETFROM:-0600
TZOFFSETTO:-0500
TZNAME:CDT
DTSTART:20240310T080000
END:DAYLIGHT
BEGIN:STANDARD
TZOFFSETFROM:-0500
TZOFFSETTO:-0600
TZNAME:CST
DTSTART:20241103T070000
END:STANDARD
BEGIN:DAYLIGHT
TZOFFSETFROM:-0600
TZOFFSETTO:-0500
TZNAME:CDT
DTSTART:20250309T080000
END:DAYLIGHT
BEGIN:STANDARD
TZOFFSETFROM:-0500
TZOFFSETTO:-0600
TZNAME:CST
DTSTART:20251102T070000
END:STANDARD
END:VTIMEZONE
BEGIN:VEVENT
DTSTART;TZID=America/Chicago:20240828T180000
DTEND;TZID=America/Chicago:20240828T213000
DTSTAMP:20260423T164935
CREATED:20240802T002113Z
LAST-MODIFIED:20240802T002113Z
UID:10000339-1724868000-1724880600@chapters.theprimetimersww.com
SUMMARY:Black Tulip Chorale "Cabaret Soiree" Gala Event
DESCRIPTION:The next Black Tulip Chorale performance\, “Caberet Soiree”\, BTC’s annual gala event\, will be held Wednesday\, August 28th\, at the Blue Strawberry\, 364 N. Boyle. Doors open at 6:00pm\, Showtime 7:00pm to 9:30. Cost is $45.00 a ticket.
URL:https://chapters.theprimetimersww.com/stlouis/event/black-tulip-chorale-cabaret-soiree-gala-event/
LOCATION:Blue Strawberry\, 364 N. Boyle\, St. Louis\, 63108\, United States
ATTACH;FMTTYPE=image/png:https://chapters.theprimetimersww.com/stlouis/wp-content/uploads/2024/03/Black-Tulip-Chorale.png
END:VEVENT
END:VCALENDAR