BEGIN:VCALENDAR
VERSION:2.0
PRODID:-//Prime Timers St. Louis - ECPv6.15.20//NONSGML v1.0//EN
CALSCALE:GREGORIAN
METHOD:PUBLISH
X-WR-CALNAME:Prime Timers St. Louis
X-ORIGINAL-URL:https://chapters.theprimetimersww.com/stlouis
X-WR-CALDESC:Events for Prime Timers St. Louis
REFRESH-INTERVAL;VALUE=DURATION:PT1H
X-Robots-Tag:noindex
X-PUBLISHED-TTL:PT1H
BEGIN:VTIMEZONE
TZID:America/Chicago
BEGIN:DAYLIGHT
TZOFFSETFROM:-0600
TZOFFSETTO:-0500
TZNAME:CDT
DTSTART:20280312T080000
END:DAYLIGHT
BEGIN:STANDARD
TZOFFSETFROM:-0500
TZOFFSETTO:-0600
TZNAME:CST
DTSTART:20281105T070000
END:STANDARD
BEGIN:DAYLIGHT
TZOFFSETFROM:-0600
TZOFFSETTO:-0500
TZNAME:CDT
DTSTART:20290311T080000
END:DAYLIGHT
BEGIN:STANDARD
TZOFFSETFROM:-0500
TZOFFSETTO:-0600
TZNAME:CST
DTSTART:20291104T070000
END:STANDARD
BEGIN:DAYLIGHT
TZOFFSETFROM:-0600
TZOFFSETTO:-0500
TZNAME:CDT
DTSTART:20300310T080000
END:DAYLIGHT
BEGIN:STANDARD
TZOFFSETFROM:-0500
TZOFFSETTO:-0600
TZNAME:CST
DTSTART:20301103T070000
END:STANDARD
BEGIN:DAYLIGHT
TZOFFSETFROM:-0600
TZOFFSETTO:-0500
TZNAME:CDT
DTSTART:20310309T080000
END:DAYLIGHT
BEGIN:STANDARD
TZOFFSETFROM:-0500
TZOFFSETTO:-0600
TZNAME:CST
DTSTART:20311102T070000
END:STANDARD
END:VTIMEZONE
BEGIN:VEVENT
DTSTART;TZID=America/Chicago:20290526T180000
DTEND;TZID=America/Chicago:20290526T210000
DTSTAMP:20260424T105059
CREATED:20250717T022725Z
LAST-MODIFIED:20250818T020901Z
UID:10000891-1874512800-1874523600@chapters.theprimetimersww.com
SUMMARY:PTSL Saturday Night Out
DESCRIPTION:Can’t make it to Just John Happy Hour because it’s on a Monday night? This new event might be for you!  PTSL Board Member-at-Large Joe Tumblin is hosting PTSL Saturday Night Out so we can revisit our past experiences and enjoy a night on the town. \nThe event will take place on the last Saturday of each month at 6:00pm. RSVP directly to me\, Joe Tumblin\, at josephtumblin@gmail.com so I can have a headcount\, plan accordingly\, and let you know the location. \nLet’s recapture some of the energy of our youth and patronize some of the gay bars like we used to!
URL:https://chapters.theprimetimersww.com/stlouis/event/just-john-happy-hour-last-saturday-of-each-month/2029-05-26/
LOCATION:Just John\, 4112 Manchester Avenue\, St. Louis\, MO\, 63110\, United States
ATTACH;FMTTYPE=image/jpeg:https://chapters.theprimetimersww.com/stlouis/wp-content/uploads/2025/07/Saturday-Night.jpg
END:VEVENT
BEGIN:VEVENT
DTSTART;TZID=America/Chicago:20290630T180000
DTEND;TZID=America/Chicago:20290630T210000
DTSTAMP:20260424T105059
CREATED:20250717T022725Z
LAST-MODIFIED:20250818T020901Z
UID:10000892-1877536800-1877547600@chapters.theprimetimersww.com
SUMMARY:PTSL Saturday Night Out
DESCRIPTION:Can’t make it to Just John Happy Hour because it’s on a Monday night? This new event might be for you!  PTSL Board Member-at-Large Joe Tumblin is hosting PTSL Saturday Night Out so we can revisit our past experiences and enjoy a night on the town. \nThe event will take place on the last Saturday of each month at 6:00pm. RSVP directly to me\, Joe Tumblin\, at josephtumblin@gmail.com so I can have a headcount\, plan accordingly\, and let you know the location. \nLet’s recapture some of the energy of our youth and patronize some of the gay bars like we used to!
URL:https://chapters.theprimetimersww.com/stlouis/event/just-john-happy-hour-last-saturday-of-each-month/2029-06-30/
LOCATION:Just John\, 4112 Manchester Avenue\, St. Louis\, MO\, 63110\, United States
ATTACH;FMTTYPE=image/jpeg:https://chapters.theprimetimersww.com/stlouis/wp-content/uploads/2025/07/Saturday-Night.jpg
END:VEVENT
BEGIN:VEVENT
DTSTART;TZID=America/Chicago:20290728T180000
DTEND;TZID=America/Chicago:20290728T210000
DTSTAMP:20260424T105059
CREATED:20250717T022725Z
LAST-MODIFIED:20250818T020901Z
UID:10000893-1879956000-1879966800@chapters.theprimetimersww.com
SUMMARY:PTSL Saturday Night Out
DESCRIPTION:Can’t make it to Just John Happy Hour because it’s on a Monday night? This new event might be for you!  PTSL Board Member-at-Large Joe Tumblin is hosting PTSL Saturday Night Out so we can revisit our past experiences and enjoy a night on the town. \nThe event will take place on the last Saturday of each month at 6:00pm. RSVP directly to me\, Joe Tumblin\, at josephtumblin@gmail.com so I can have a headcount\, plan accordingly\, and let you know the location. \nLet’s recapture some of the energy of our youth and patronize some of the gay bars like we used to!
URL:https://chapters.theprimetimersww.com/stlouis/event/just-john-happy-hour-last-saturday-of-each-month/2029-07-28/
LOCATION:Just John\, 4112 Manchester Avenue\, St. Louis\, MO\, 63110\, United States
ATTACH;FMTTYPE=image/jpeg:https://chapters.theprimetimersww.com/stlouis/wp-content/uploads/2025/07/Saturday-Night.jpg
END:VEVENT
BEGIN:VEVENT
DTSTART;TZID=America/Chicago:20290825T180000
DTEND;TZID=America/Chicago:20290825T210000
DTSTAMP:20260424T105059
CREATED:20250717T022725Z
LAST-MODIFIED:20250818T020901Z
UID:10000894-1882375200-1882386000@chapters.theprimetimersww.com
SUMMARY:PTSL Saturday Night Out
DESCRIPTION:Can’t make it to Just John Happy Hour because it’s on a Monday night? This new event might be for you!  PTSL Board Member-at-Large Joe Tumblin is hosting PTSL Saturday Night Out so we can revisit our past experiences and enjoy a night on the town. \nThe event will take place on the last Saturday of each month at 6:00pm. RSVP directly to me\, Joe Tumblin\, at josephtumblin@gmail.com so I can have a headcount\, plan accordingly\, and let you know the location. \nLet’s recapture some of the energy of our youth and patronize some of the gay bars like we used to!
URL:https://chapters.theprimetimersww.com/stlouis/event/just-john-happy-hour-last-saturday-of-each-month/2029-08-25/
LOCATION:Just John\, 4112 Manchester Avenue\, St. Louis\, MO\, 63110\, United States
ATTACH;FMTTYPE=image/jpeg:https://chapters.theprimetimersww.com/stlouis/wp-content/uploads/2025/07/Saturday-Night.jpg
END:VEVENT
BEGIN:VEVENT
DTSTART;TZID=America/Chicago:20290929T180000
DTEND;TZID=America/Chicago:20290929T210000
DTSTAMP:20260424T105059
CREATED:20250717T022725Z
LAST-MODIFIED:20250818T020901Z
UID:10000895-1885399200-1885410000@chapters.theprimetimersww.com
SUMMARY:PTSL Saturday Night Out
DESCRIPTION:Can’t make it to Just John Happy Hour because it’s on a Monday night? This new event might be for you!  PTSL Board Member-at-Large Joe Tumblin is hosting PTSL Saturday Night Out so we can revisit our past experiences and enjoy a night on the town. \nThe event will take place on the last Saturday of each month at 6:00pm. RSVP directly to me\, Joe Tumblin\, at josephtumblin@gmail.com so I can have a headcount\, plan accordingly\, and let you know the location. \nLet’s recapture some of the energy of our youth and patronize some of the gay bars like we used to!
URL:https://chapters.theprimetimersww.com/stlouis/event/just-john-happy-hour-last-saturday-of-each-month/2029-09-29/
LOCATION:Just John\, 4112 Manchester Avenue\, St. Louis\, MO\, 63110\, United States
ATTACH;FMTTYPE=image/jpeg:https://chapters.theprimetimersww.com/stlouis/wp-content/uploads/2025/07/Saturday-Night.jpg
END:VEVENT
BEGIN:VEVENT
DTSTART;TZID=America/Chicago:20291027T180000
DTEND;TZID=America/Chicago:20291027T210000
DTSTAMP:20260424T105059
CREATED:20250717T022725Z
LAST-MODIFIED:20250818T020901Z
UID:10000896-1887818400-1887829200@chapters.theprimetimersww.com
SUMMARY:PTSL Saturday Night Out
DESCRIPTION:Can’t make it to Just John Happy Hour because it’s on a Monday night? This new event might be for you!  PTSL Board Member-at-Large Joe Tumblin is hosting PTSL Saturday Night Out so we can revisit our past experiences and enjoy a night on the town. \nThe event will take place on the last Saturday of each month at 6:00pm. RSVP directly to me\, Joe Tumblin\, at josephtumblin@gmail.com so I can have a headcount\, plan accordingly\, and let you know the location. \nLet’s recapture some of the energy of our youth and patronize some of the gay bars like we used to!
URL:https://chapters.theprimetimersww.com/stlouis/event/just-john-happy-hour-last-saturday-of-each-month/2029-10-27/
LOCATION:Just John\, 4112 Manchester Avenue\, St. Louis\, MO\, 63110\, United States
ATTACH;FMTTYPE=image/jpeg:https://chapters.theprimetimersww.com/stlouis/wp-content/uploads/2025/07/Saturday-Night.jpg
END:VEVENT
BEGIN:VEVENT
DTSTART;TZID=America/Chicago:20291124T180000
DTEND;TZID=America/Chicago:20291124T210000
DTSTAMP:20260424T105059
CREATED:20250717T022725Z
LAST-MODIFIED:20250818T020901Z
UID:10000897-1890237600-1890248400@chapters.theprimetimersww.com
SUMMARY:PTSL Saturday Night Out
DESCRIPTION:Can’t make it to Just John Happy Hour because it’s on a Monday night? This new event might be for you!  PTSL Board Member-at-Large Joe Tumblin is hosting PTSL Saturday Night Out so we can revisit our past experiences and enjoy a night on the town. \nThe event will take place on the last Saturday of each month at 6:00pm. RSVP directly to me\, Joe Tumblin\, at josephtumblin@gmail.com so I can have a headcount\, plan accordingly\, and let you know the location. \nLet’s recapture some of the energy of our youth and patronize some of the gay bars like we used to!
URL:https://chapters.theprimetimersww.com/stlouis/event/just-john-happy-hour-last-saturday-of-each-month/2029-11-24/
LOCATION:Just John\, 4112 Manchester Avenue\, St. Louis\, MO\, 63110\, United States
ATTACH;FMTTYPE=image/jpeg:https://chapters.theprimetimersww.com/stlouis/wp-content/uploads/2025/07/Saturday-Night.jpg
END:VEVENT
BEGIN:VEVENT
DTSTART;TZID=America/Chicago:20291229T180000
DTEND;TZID=America/Chicago:20291229T210000
DTSTAMP:20260424T105059
CREATED:20250717T022725Z
LAST-MODIFIED:20250818T020901Z
UID:10000898-1893261600-1893272400@chapters.theprimetimersww.com
SUMMARY:PTSL Saturday Night Out
DESCRIPTION:Can’t make it to Just John Happy Hour because it’s on a Monday night? This new event might be for you!  PTSL Board Member-at-Large Joe Tumblin is hosting PTSL Saturday Night Out so we can revisit our past experiences and enjoy a night on the town. \nThe event will take place on the last Saturday of each month at 6:00pm. RSVP directly to me\, Joe Tumblin\, at josephtumblin@gmail.com so I can have a headcount\, plan accordingly\, and let you know the location. \nLet’s recapture some of the energy of our youth and patronize some of the gay bars like we used to!
URL:https://chapters.theprimetimersww.com/stlouis/event/just-john-happy-hour-last-saturday-of-each-month/2029-12-29/
LOCATION:Just John\, 4112 Manchester Avenue\, St. Louis\, MO\, 63110\, United States
ATTACH;FMTTYPE=image/jpeg:https://chapters.theprimetimersww.com/stlouis/wp-content/uploads/2025/07/Saturday-Night.jpg
END:VEVENT
BEGIN:VEVENT
DTSTART;TZID=America/Chicago:20300126T180000
DTEND;TZID=America/Chicago:20300126T210000
DTSTAMP:20260424T105059
CREATED:20250717T022725Z
LAST-MODIFIED:20250818T020901Z
UID:10000899-1895680800-1895691600@chapters.theprimetimersww.com
SUMMARY:PTSL Saturday Night Out
DESCRIPTION:Can’t make it to Just John Happy Hour because it’s on a Monday night? This new event might be for you!  PTSL Board Member-at-Large Joe Tumblin is hosting PTSL Saturday Night Out so we can revisit our past experiences and enjoy a night on the town. \nThe event will take place on the last Saturday of each month at 6:00pm. RSVP directly to me\, Joe Tumblin\, at josephtumblin@gmail.com so I can have a headcount\, plan accordingly\, and let you know the location. \nLet’s recapture some of the energy of our youth and patronize some of the gay bars like we used to!
URL:https://chapters.theprimetimersww.com/stlouis/event/just-john-happy-hour-last-saturday-of-each-month/2030-01-26/
LOCATION:Just John\, 4112 Manchester Avenue\, St. Louis\, MO\, 63110\, United States
ATTACH;FMTTYPE=image/jpeg:https://chapters.theprimetimersww.com/stlouis/wp-content/uploads/2025/07/Saturday-Night.jpg
END:VEVENT
BEGIN:VEVENT
DTSTART;TZID=America/Chicago:20300223T180000
DTEND;TZID=America/Chicago:20300223T210000
DTSTAMP:20260424T105059
CREATED:20250717T022725Z
LAST-MODIFIED:20250818T020901Z
UID:10000900-1898100000-1898110800@chapters.theprimetimersww.com
SUMMARY:PTSL Saturday Night Out
DESCRIPTION:Can’t make it to Just John Happy Hour because it’s on a Monday night? This new event might be for you!  PTSL Board Member-at-Large Joe Tumblin is hosting PTSL Saturday Night Out so we can revisit our past experiences and enjoy a night on the town. \nThe event will take place on the last Saturday of each month at 6:00pm. RSVP directly to me\, Joe Tumblin\, at josephtumblin@gmail.com so I can have a headcount\, plan accordingly\, and let you know the location. \nLet’s recapture some of the energy of our youth and patronize some of the gay bars like we used to!
URL:https://chapters.theprimetimersww.com/stlouis/event/just-john-happy-hour-last-saturday-of-each-month/2030-02-23/
LOCATION:Just John\, 4112 Manchester Avenue\, St. Louis\, MO\, 63110\, United States
ATTACH;FMTTYPE=image/jpeg:https://chapters.theprimetimersww.com/stlouis/wp-content/uploads/2025/07/Saturday-Night.jpg
END:VEVENT
BEGIN:VEVENT
DTSTART;TZID=America/Chicago:20300330T180000
DTEND;TZID=America/Chicago:20300330T210000
DTSTAMP:20260424T105059
CREATED:20250717T022725Z
LAST-MODIFIED:20250818T020901Z
UID:10000901-1901124000-1901134800@chapters.theprimetimersww.com
SUMMARY:PTSL Saturday Night Out
DESCRIPTION:Can’t make it to Just John Happy Hour because it’s on a Monday night? This new event might be for you!  PTSL Board Member-at-Large Joe Tumblin is hosting PTSL Saturday Night Out so we can revisit our past experiences and enjoy a night on the town. \nThe event will take place on the last Saturday of each month at 6:00pm. RSVP directly to me\, Joe Tumblin\, at josephtumblin@gmail.com so I can have a headcount\, plan accordingly\, and let you know the location. \nLet’s recapture some of the energy of our youth and patronize some of the gay bars like we used to!
URL:https://chapters.theprimetimersww.com/stlouis/event/just-john-happy-hour-last-saturday-of-each-month/2030-03-30/
LOCATION:Just John\, 4112 Manchester Avenue\, St. Louis\, MO\, 63110\, United States
ATTACH;FMTTYPE=image/jpeg:https://chapters.theprimetimersww.com/stlouis/wp-content/uploads/2025/07/Saturday-Night.jpg
END:VEVENT
BEGIN:VEVENT
DTSTART;TZID=America/Chicago:20300427T180000
DTEND;TZID=America/Chicago:20300427T210000
DTSTAMP:20260424T105059
CREATED:20250717T022725Z
LAST-MODIFIED:20250818T020901Z
UID:10000902-1903543200-1903554000@chapters.theprimetimersww.com
SUMMARY:PTSL Saturday Night Out
DESCRIPTION:Can’t make it to Just John Happy Hour because it’s on a Monday night? This new event might be for you!  PTSL Board Member-at-Large Joe Tumblin is hosting PTSL Saturday Night Out so we can revisit our past experiences and enjoy a night on the town. \nThe event will take place on the last Saturday of each month at 6:00pm. RSVP directly to me\, Joe Tumblin\, at josephtumblin@gmail.com so I can have a headcount\, plan accordingly\, and let you know the location. \nLet’s recapture some of the energy of our youth and patronize some of the gay bars like we used to!
URL:https://chapters.theprimetimersww.com/stlouis/event/just-john-happy-hour-last-saturday-of-each-month/2030-04-27/
LOCATION:Just John\, 4112 Manchester Avenue\, St. Louis\, MO\, 63110\, United States
ATTACH;FMTTYPE=image/jpeg:https://chapters.theprimetimersww.com/stlouis/wp-content/uploads/2025/07/Saturday-Night.jpg
END:VEVENT
BEGIN:VEVENT
DTSTART;TZID=America/Chicago:20300525T180000
DTEND;TZID=America/Chicago:20300525T210000
DTSTAMP:20260424T105059
CREATED:20250717T022725Z
LAST-MODIFIED:20250818T020901Z
UID:10000903-1905962400-1905973200@chapters.theprimetimersww.com
SUMMARY:PTSL Saturday Night Out
DESCRIPTION:Can’t make it to Just John Happy Hour because it’s on a Monday night? This new event might be for you!  PTSL Board Member-at-Large Joe Tumblin is hosting PTSL Saturday Night Out so we can revisit our past experiences and enjoy a night on the town. \nThe event will take place on the last Saturday of each month at 6:00pm. RSVP directly to me\, Joe Tumblin\, at josephtumblin@gmail.com so I can have a headcount\, plan accordingly\, and let you know the location. \nLet’s recapture some of the energy of our youth and patronize some of the gay bars like we used to!
URL:https://chapters.theprimetimersww.com/stlouis/event/just-john-happy-hour-last-saturday-of-each-month/2030-05-25/
LOCATION:Just John\, 4112 Manchester Avenue\, St. Louis\, MO\, 63110\, United States
ATTACH;FMTTYPE=image/jpeg:https://chapters.theprimetimersww.com/stlouis/wp-content/uploads/2025/07/Saturday-Night.jpg
END:VEVENT
BEGIN:VEVENT
DTSTART;TZID=America/Chicago:20300629T180000
DTEND;TZID=America/Chicago:20300629T210000
DTSTAMP:20260424T105059
CREATED:20250717T022725Z
LAST-MODIFIED:20250818T020901Z
UID:10000904-1908986400-1908997200@chapters.theprimetimersww.com
SUMMARY:PTSL Saturday Night Out
DESCRIPTION:Can’t make it to Just John Happy Hour because it’s on a Monday night? This new event might be for you!  PTSL Board Member-at-Large Joe Tumblin is hosting PTSL Saturday Night Out so we can revisit our past experiences and enjoy a night on the town. \nThe event will take place on the last Saturday of each month at 6:00pm. RSVP directly to me\, Joe Tumblin\, at josephtumblin@gmail.com so I can have a headcount\, plan accordingly\, and let you know the location. \nLet’s recapture some of the energy of our youth and patronize some of the gay bars like we used to!
URL:https://chapters.theprimetimersww.com/stlouis/event/just-john-happy-hour-last-saturday-of-each-month/2030-06-29/
LOCATION:Just John\, 4112 Manchester Avenue\, St. Louis\, MO\, 63110\, United States
ATTACH;FMTTYPE=image/jpeg:https://chapters.theprimetimersww.com/stlouis/wp-content/uploads/2025/07/Saturday-Night.jpg
END:VEVENT
BEGIN:VEVENT
DTSTART;TZID=America/Chicago:20300727T180000
DTEND;TZID=America/Chicago:20300727T210000
DTSTAMP:20260424T105059
CREATED:20250717T022725Z
LAST-MODIFIED:20250818T020901Z
UID:10000908-1911405600-1911416400@chapters.theprimetimersww.com
SUMMARY:PTSL Saturday Night Out
DESCRIPTION:Can’t make it to Just John Happy Hour because it’s on a Monday night? This new event might be for you!  PTSL Board Member-at-Large Joe Tumblin is hosting PTSL Saturday Night Out so we can revisit our past experiences and enjoy a night on the town. \nThe event will take place on the last Saturday of each month at 6:00pm. RSVP directly to me\, Joe Tumblin\, at josephtumblin@gmail.com so I can have a headcount\, plan accordingly\, and let you know the location. \nLet’s recapture some of the energy of our youth and patronize some of the gay bars like we used to!
URL:https://chapters.theprimetimersww.com/stlouis/event/just-john-happy-hour-last-saturday-of-each-month/2030-07-27/
LOCATION:Just John\, 4112 Manchester Avenue\, St. Louis\, MO\, 63110\, United States
ATTACH;FMTTYPE=image/jpeg:https://chapters.theprimetimersww.com/stlouis/wp-content/uploads/2025/07/Saturday-Night.jpg
END:VEVENT
END:VCALENDAR