BEGIN:VCALENDAR
VERSION:2.0
PRODID:-//Prime Timers St. Louis - ECPv6.15.20//NONSGML v1.0//EN
CALSCALE:GREGORIAN
METHOD:PUBLISH
X-WR-CALNAME:Prime Timers St. Louis
X-ORIGINAL-URL:https://chapters.theprimetimersww.com/stlouis
X-WR-CALDESC:Events for Prime Timers St. Louis
REFRESH-INTERVAL;VALUE=DURATION:PT1H
X-Robots-Tag:noindex
X-PUBLISHED-TTL:PT1H
BEGIN:VTIMEZONE
TZID:America/Chicago
BEGIN:DAYLIGHT
TZOFFSETFROM:-0600
TZOFFSETTO:-0500
TZNAME:CDT
DTSTART:20250309T080000
END:DAYLIGHT
BEGIN:STANDARD
TZOFFSETFROM:-0500
TZOFFSETTO:-0600
TZNAME:CST
DTSTART:20251102T070000
END:STANDARD
BEGIN:DAYLIGHT
TZOFFSETFROM:-0600
TZOFFSETTO:-0500
TZNAME:CDT
DTSTART:20260308T080000
END:DAYLIGHT
BEGIN:STANDARD
TZOFFSETFROM:-0500
TZOFFSETTO:-0600
TZNAME:CST
DTSTART:20261101T070000
END:STANDARD
BEGIN:DAYLIGHT
TZOFFSETFROM:-0600
TZOFFSETTO:-0500
TZNAME:CDT
DTSTART:20270314T080000
END:DAYLIGHT
BEGIN:STANDARD
TZOFFSETFROM:-0500
TZOFFSETTO:-0600
TZNAME:CST
DTSTART:20271107T070000
END:STANDARD
END:VTIMEZONE
BEGIN:VEVENT
DTSTART;TZID=America/Chicago:20260207T140000
DTEND;TZID=America/Chicago:20260207T170000
DTSTAMP:20260422T040318
CREATED:20251125T051638Z
LAST-MODIFIED:20260106T031021Z
UID:10000933-1770472800-1770483600@chapters.theprimetimersww.com
SUMMARY:PTSL Lunch at Pierce Creek
DESCRIPTION:PTSL Lunch at Pierce Creek \nBreak out of your winter doldrums with dining\, visiting\, and shopping! Join PTSL at this new destination fast-casual style restaurant\, featuring an on-site bakery\, deli\, market\, restaurant\, and bar\, on Saturday\, February 7\, 2026\, at 2:00pm. Enjoy delicious\, highly-acclaimed\, and reasonably-priced food; made with fresh and locally sourced ingredients; ordered from the counter\, and brought to your table. \nAmple parking and spacious seating combine with Midwestern hospitality to create a warm and inviting experience. \nRSVP number of people in your party to rsvp@primetimersstl.org by the end of Thursday\, February 5. \nCheck out the website at https://www.piercecreekstl.com/ \nPierce Creek \n10405 Old Olive Street Rd. \nCreve Coeur\, MO 63141
URL:https://chapters.theprimetimersww.com/stlouis/event/ptsl-lunch-at-pierce-creek/
LOCATION:Pierce Creek\, 10405 Old Olive\, Creve Coeur\, 63141\, United States
ATTACH;FMTTYPE=image/jpeg:https://chapters.theprimetimersww.com/stlouis/wp-content/uploads/2025/11/Pierce-Creek-Restaurant-1.jpg
END:VEVENT
END:VCALENDAR