BEGIN:VCALENDAR
VERSION:2.0
PRODID:-//Prime Timers St. Louis - ECPv6.15.20//NONSGML v1.0//EN
CALSCALE:GREGORIAN
METHOD:PUBLISH
X-ORIGINAL-URL:https://chapters.theprimetimersww.com/stlouis
X-WR-CALDESC:Events for Prime Timers St. Louis
REFRESH-INTERVAL;VALUE=DURATION:PT1H
X-Robots-Tag:noindex
X-PUBLISHED-TTL:PT1H
BEGIN:VTIMEZONE
TZID:America/Chicago
BEGIN:DAYLIGHT
TZOFFSETFROM:-0600
TZOFFSETTO:-0500
TZNAME:CDT
DTSTART:20240310T080000
END:DAYLIGHT
BEGIN:STANDARD
TZOFFSETFROM:-0500
TZOFFSETTO:-0600
TZNAME:CST
DTSTART:20241103T070000
END:STANDARD
BEGIN:DAYLIGHT
TZOFFSETFROM:-0600
TZOFFSETTO:-0500
TZNAME:CDT
DTSTART:20250309T080000
END:DAYLIGHT
BEGIN:STANDARD
TZOFFSETFROM:-0500
TZOFFSETTO:-0600
TZNAME:CST
DTSTART:20251102T070000
END:STANDARD
BEGIN:DAYLIGHT
TZOFFSETFROM:-0600
TZOFFSETTO:-0500
TZNAME:CDT
DTSTART:20260308T080000
END:DAYLIGHT
BEGIN:STANDARD
TZOFFSETFROM:-0500
TZOFFSETTO:-0600
TZNAME:CST
DTSTART:20261101T070000
END:STANDARD
END:VTIMEZONE
BEGIN:VEVENT
DTSTART;TZID=America/Chicago:20250809T120000
DTEND;TZID=America/Chicago:20250809T170000
DTSTAMP:20260423T163506
CREATED:20250108T192703Z
LAST-MODIFIED:20250729T193621Z
UID:10000654-1754740800-1754758800@chapters.theprimetimersww.com
SUMMARY:PTSL Pool Party and Potluck at SIRenity Farms
DESCRIPTION:Enjoy a delicious potluck brunch with your fellow Prime Timers and their guests at this charming clothing-optional resort. SIRenity farms is a gay\, male only clothing optional campground about an hour outside of Saint Louis in Sullivan\, Missouri.  On Saturday\, August 9th at 12:00 noon we will be hosting the potluck in the main barn. There is a kitchen area included. They have multiple bathroom facilities as well. You can bring your own liquor and they also have a store where you can buy beer and alcohol as well. They have two heated pools as well as many hot tubs available for the guests to use. The campground would be open to the public during this event so there will be other men there as well outside of Prime Timers members. \nSIRenity Farms address is 3400 Lollar Branch Road\, Sullivan\, Missouri 63080\, United States. \nTo visit SIRenity Farms\, you will need to purchase an annual membership which costs $20 for new members\, and a day pass which is $25.00 on the weekends. These fees\, totaling $45.00\, are paid at the gate as you enter SIRenity Farms. You can pay with cash or credit card. \nThey have a lot of different lodging options available as well. If you stay in one of their lodging options\, the day pass is included in the price. Gary and Isaac will be camping there Thursday\, August 7th through Sunday August 10th in one of their duplex suites. \nOn their website\, you can find the pricing for the different options that they have available. If you plan on wanting to stay there\, we would suggest calling them and reserving your rooms as soon as possible because they sell out pretty early in the season. \nSIRenity Farms \nThey do all their reservations by phone. You can call Troy at (636) 364-8811. \nRSVP (accepts only) by Thursday\, August 7 and tell us what potluck side dish\, appetizer\, salad or dessert you will bring. Soda and water will be provided compliments of PTSL. \nPrime Timers has been to SIRenity Farms many times. They have an incredible staff there that do a fantastic job at making sure their guests have the best time possible there. \nQuestions?  Email POC Isaac Benner at isaacbsoccer@gmail.com.
URL:https://chapters.theprimetimersww.com/stlouis/event/ptsl-pool-party-at-sirenity-farms/
LOCATION:SIRenity Farms\, 3400 Lollar Branch Rd\, Sullivan\, 63080\, United States
ATTACH;FMTTYPE=image/jpeg:https://chapters.theprimetimersww.com/stlouis/wp-content/uploads/2025/01/SIRenity-Farms.jpg
END:VEVENT
END:VCALENDAR