BEGIN:VCALENDAR
VERSION:2.0
PRODID:-//Prime Timers St. Louis - ECPv6.15.20//NONSGML v1.0//EN
CALSCALE:GREGORIAN
METHOD:PUBLISH
X-ORIGINAL-URL:https://chapters.theprimetimersww.com/stlouis
X-WR-CALDESC:Events for Prime Timers St. Louis
REFRESH-INTERVAL;VALUE=DURATION:PT1H
X-Robots-Tag:noindex
X-PUBLISHED-TTL:PT1H
BEGIN:VTIMEZONE
TZID:America/Chicago
BEGIN:DAYLIGHT
TZOFFSETFROM:-0600
TZOFFSETTO:-0500
TZNAME:CDT
DTSTART:20240310T080000
END:DAYLIGHT
BEGIN:STANDARD
TZOFFSETFROM:-0500
TZOFFSETTO:-0600
TZNAME:CST
DTSTART:20241103T070000
END:STANDARD
BEGIN:DAYLIGHT
TZOFFSETFROM:-0600
TZOFFSETTO:-0500
TZNAME:CDT
DTSTART:20250309T080000
END:DAYLIGHT
BEGIN:STANDARD
TZOFFSETFROM:-0500
TZOFFSETTO:-0600
TZNAME:CST
DTSTART:20251102T070000
END:STANDARD
BEGIN:DAYLIGHT
TZOFFSETFROM:-0600
TZOFFSETTO:-0500
TZNAME:CDT
DTSTART:20260308T080000
END:DAYLIGHT
BEGIN:STANDARD
TZOFFSETFROM:-0500
TZOFFSETTO:-0600
TZNAME:CST
DTSTART:20261101T070000
END:STANDARD
END:VTIMEZONE
BEGIN:VEVENT
DTSTART;TZID=America/Chicago:20250504T140000
DTEND;TZID=America/Chicago:20250504T150000
DTSTAMP:20260420T102931
CREATED:20250403T040616Z
LAST-MODIFIED:20250403T041541Z
UID:10000695-1746367200-1746370800@chapters.theprimetimersww.com
SUMMARY:Architect Gunny Harboe\, "Preserving Wright's Legacy in Saint Louis: Rooflines and Beyond"
DESCRIPTION:May 4\, 2025  2:00pm – 3:00pm \nArchitect Gunny Harboe will provide insight into preserving one of St. Louis’s architectural treasures—the Frank Lloyd Wright House in Ebsworth Park—a Frank Lloyd Wright “Usonian” design located in Kirkwood. Learn how a conservation management plan is guiding the restoration of its distinctive roof and how it will inform future preservation. \nThis partnership program is the Joanne and Alan Kohn Lecture presented by the Frank Lloyd Wright House in Ebsworth Park. \nIf you would like to attend\, our Treasurer Keith Raibley is organizing a group. Please email keith.raibley@gmail.com to let him know you are attending. \nTickets for this program are free and may be reserved in person at the Museum’s welcome desks or through MetroTix. All tickets reserved through MetroTix incur a $3 service charge; the service charge is waived for tickets reserved at the Museum. \n 
URL:https://chapters.theprimetimersww.com/stlouis/event/architect-gunny-harboe-preserving-wrights-legacy-in-saint-louis-rooflines-and-beyond/
LOCATION:St. Louis Art Museum\, 1 Fine Arts Dr\, St. Louis\, 63110\, United States
ATTACH;FMTTYPE=image/png:https://chapters.theprimetimersww.com/stlouis/wp-content/uploads/2025/04/Frank-Lloyd-Wright-Lecture.png
END:VEVENT
BEGIN:VEVENT
DTSTART;TZID=America/Chicago:20250117T101500
DTEND;TZID=America/Chicago:20250117T123000
DTSTAMP:20260420T102931
CREATED:20241224T223756Z
LAST-MODIFIED:20241224T224115Z
UID:10000435-1737108900-1737117000@chapters.theprimetimersww.com
SUMMARY:Narrative Wisdom and African Arts at St. Louis Art Museum
DESCRIPTION:  \nThe exhibit NARRATIVE WISDOM AND AFRICAN ARTS explores historical and contemporary African arts. \n  \nThe exhibition acknowledges the intersections between certain historical arts and oral traditions and places historical works made by artists across sub-Saharan Africa during the 13th to 20th centuries in conversation with contemporary works by African artists working around the globe.  Drawing from public and private collections in North America and Europe\, the exhibition features an extensive array of media\, including sculpture in wood\, ivory\, and metal\, textiles\, works on paper\, photography\, painting\, and time-based works. \n  \nThe PTSL event coordinator is Doug Schneider\, who lived in sub-Saharan Africa for 6 years. \n  \nFriday\, January 17\, 2025\, at 10:15 AM.  This is a ticketed exhibit; the exhibit is free on Fridays.  The suggestion is to get your free ticket soon. \nGo to https://www.metrotix.com/events/detail/narrative-wisdom-and-african-arts.  NOTE: If you don’t have a MetroTix account\, they will help you set one up.  Although the ticket is free\, everyone will have to pay a $3 service fee. \n  \nOptional lunch in the Art Museum’s café afterwards.  Please let Doug know that you are attending the event: ParadiseDouglas@gmail.com.  He will then send you details about the event. \n 
URL:https://chapters.theprimetimersww.com/stlouis/event/narrative-wisdom-and-african-arts-at-st-louis-art-museum/
LOCATION:St. Louis Art Museum\, 1 Fine Arts Dr\, St. Louis\, 63110\, United States
ATTACH;FMTTYPE=image/jpeg:https://chapters.theprimetimersww.com/stlouis/wp-content/uploads/2024/12/AfricanArts.jpeg
END:VEVENT
END:VCALENDAR