BEGIN:VCALENDAR
VERSION:2.0
PRODID:-//Prime Timers St. Louis - ECPv6.15.20//NONSGML v1.0//EN
CALSCALE:GREGORIAN
METHOD:PUBLISH
X-WR-CALNAME:Prime Timers St. Louis
X-ORIGINAL-URL:https://chapters.theprimetimersww.com/stlouis
X-WR-CALDESC:Events for Prime Timers St. Louis
REFRESH-INTERVAL;VALUE=DURATION:PT1H
X-Robots-Tag:noindex
X-PUBLISHED-TTL:PT1H
BEGIN:VTIMEZONE
TZID:America/Chicago
BEGIN:DAYLIGHT
TZOFFSETFROM:-0600
TZOFFSETTO:-0500
TZNAME:CDT
DTSTART:20250309T080000
END:DAYLIGHT
BEGIN:STANDARD
TZOFFSETFROM:-0500
TZOFFSETTO:-0600
TZNAME:CST
DTSTART:20251102T070000
END:STANDARD
BEGIN:DAYLIGHT
TZOFFSETFROM:-0600
TZOFFSETTO:-0500
TZNAME:CDT
DTSTART:20260308T080000
END:DAYLIGHT
BEGIN:STANDARD
TZOFFSETFROM:-0500
TZOFFSETTO:-0600
TZNAME:CST
DTSTART:20261101T070000
END:STANDARD
BEGIN:DAYLIGHT
TZOFFSETFROM:-0600
TZOFFSETTO:-0500
TZNAME:CDT
DTSTART:20270314T080000
END:DAYLIGHT
BEGIN:STANDARD
TZOFFSETFROM:-0500
TZOFFSETTO:-0600
TZNAME:CST
DTSTART:20271107T070000
END:STANDARD
END:VTIMEZONE
BEGIN:VEVENT
DTSTART;TZID=America/Chicago:20260508T103000
DTEND;TZID=America/Chicago:20260508T130000
DTSTAMP:20260420T053313
CREATED:20260322T030253Z
LAST-MODIFIED:20260322T030253Z
UID:10001088-1778236200-1778245200@chapters.theprimetimersww.com
SUMMARY:PTSL Trip to the Art Museum
DESCRIPTION:PTSL Trip to the Art Museum \nAncient Splendor-Roman Art in the Time of Trajan \nKeith Raibley is hosting a field trip to the St. Louis Art Museum on Friday\, May 8\, at 10:30 am to see “Ancient Splendor-Roman Art in the Time of Trajan”. \nAdmittance is free on Fridays. Meet in the main lobby near the Panorama Restaurant/ticket counter/gift shop at 10:30 am. Museum breaks visitors into 10 person groups\, so if a bunch show up\, we might get broken into 2 or more groups. Any questions\, contact Keith Raibley at keith.raibley@gmail.com \nEnjoy optional lunch afterwards at Panorama Restaurant\, at the museum\, at 1pm. \nCheck out the menu online. \nRSVP to Keith Raibley at keith.raibley@gmail.com if you plan on meeting for lunch\, so that Keith can make a reservation.
URL:https://chapters.theprimetimersww.com/stlouis/event/ptsl-trip-to-the-art-museum/
LOCATION:St. Louis Art Museum\, 1 Fine Arts Dr\, St. Louis\, 63110\, United States
ATTACH;FMTTYPE=image/jpeg:https://chapters.theprimetimersww.com/stlouis/wp-content/uploads/2026/03/St._Louis_Art_Museum-scaled.jpg
END:VEVENT
END:VCALENDAR