BEGIN:VCALENDAR
VERSION:2.0
PRODID:-//Wichita Prime Timers - ECPv6.15.20//NONSGML v1.0//EN
CALSCALE:GREGORIAN
METHOD:PUBLISH
X-WR-CALNAME:Wichita Prime Timers
X-ORIGINAL-URL:https://chapters.theprimetimersww.com/wichita
X-WR-CALDESC:Events for Wichita Prime Timers
REFRESH-INTERVAL;VALUE=DURATION:PT1H
X-Robots-Tag:noindex
X-PUBLISHED-TTL:PT1H
BEGIN:VTIMEZONE
TZID:America/Chicago
BEGIN:DAYLIGHT
TZOFFSETFROM:-0600
TZOFFSETTO:-0500
TZNAME:CDT
DTSTART:20250309T080000
END:DAYLIGHT
BEGIN:STANDARD
TZOFFSETFROM:-0500
TZOFFSETTO:-0600
TZNAME:CST
DTSTART:20251102T070000
END:STANDARD
BEGIN:DAYLIGHT
TZOFFSETFROM:-0600
TZOFFSETTO:-0500
TZNAME:CDT
DTSTART:20260308T080000
END:DAYLIGHT
BEGIN:STANDARD
TZOFFSETFROM:-0500
TZOFFSETTO:-0600
TZNAME:CST
DTSTART:20261101T070000
END:STANDARD
BEGIN:DAYLIGHT
TZOFFSETFROM:-0600
TZOFFSETTO:-0500
TZNAME:CDT
DTSTART:20270314T080000
END:DAYLIGHT
BEGIN:STANDARD
TZOFFSETFROM:-0500
TZOFFSETTO:-0600
TZNAME:CST
DTSTART:20271107T070000
END:STANDARD
END:VTIMEZONE
BEGIN:VEVENT
DTSTART;VALUE=DATE:20260401
DTEND;VALUE=DATE:20260402
DTSTAMP:20260422T210223
CREATED:20260328T200003Z
LAST-MODIFIED:20260328T200003Z
UID:6138-1775001600-1775087999@chapters.theprimetimersww.com
SUMMARY:April Fool's Day
DESCRIPTION:This is going to be a full day of wonderful activities.  As far as I am aware\, this is the first full day ever planned and the most activities ever attempted in one 24-hour period.  We will start off at 7am at the Sedgwick Co. Zoo.  I have arranged for us to be able to assist the veterinary dentists clean the lion’s teeth\, followed  by pooper scooping the elephant exhibit.  Then it’s off the the Wichita Skateboard park for an hour of skateboarding.  Please bring your own knee pads and helmets. We will break for lunch before heading to Jabara Airport for some skydiving.  Then\, we move back to downtown\, where we will have races to the top floor of the Epic Center via the stairs.  It will be permissible for people with mobility issues to use the elevator back down to the ground floor. Or you can choose to repel from the outside.  Bring your own ropes!  Before dinner\, I say let’s go to South Ridge lake for some waterskiing and tubing.  There is a $75 person charge for boat rental\, and it’s first come\, first served for the only two life preservers.  So don’t be late.  Then it’s dinner time at the newly remodeled Diarrhea Diner.  You can dine in or get yours to go\, go\, go. After dinner\, we will need to work some calories\, so back downtown to the YMCA for racing around the walking track with 100 pound backpacks\, 75 pound for those over the age of 72.  Then what better way to finish the day than going to the new Gilley’s Nightclub/Casino where we will each chuck 5 tequila shots and then ride the mechanical bull.  Rest assured that medical help will be available at most of the events and that the local EMS have been advised of our schedule.  Pick and choose but I really hope that many will at least attempt all of today’s events\, Scott.
URL:https://chapters.theprimetimersww.com/wichita/event/april-fools-day-2/
END:VEVENT
BEGIN:VEVENT
DTSTART;TZID=America/Chicago:20260401T100000
DTEND;TZID=America/Chicago:20260401T113000
DTSTAMP:20260422T210223
CREATED:20260328T200644Z
LAST-MODIFIED:20260328T200644Z
UID:6140-1775037600-1775043000@chapters.theprimetimersww.com
SUMMARY:Senior Wednesday at the Wichita Art Museum\, 1400 Museum Boulevard
DESCRIPTION:$2 Admission for non-WAM members.   Donna Rae Pearson will present A More Joyful Place: Black Recreation and Leisure in Wichita at mid century.  https://wam.org/event/senior-wednesday-april-206.  Complimentary coffee and bagels at 10 AM\, and lecture starts at 10:30 AM
URL:https://chapters.theprimetimersww.com/wichita/event/senior-wednesday-at-the-wichita-art-museum-1400-museum-boulevard/
ATTACH;FMTTYPE=image/jpeg:https://chapters.theprimetimersww.com/wichita/wp-content/uploads/Wichita-art-Museum-1.jpg
END:VEVENT
BEGIN:VEVENT
DTSTART;TZID=America/Chicago:20260401T133000
DTEND;TZID=America/Chicago:20260401T143000
DTSTAMP:20260422T210223
CREATED:20260328T201109Z
LAST-MODIFIED:20260328T201109Z
UID:6142-1775050200-1775053800@chapters.theprimetimersww.com
SUMMARY:Senior Wednesday at the Museum of World Treasures\, 835 E. First
DESCRIPTION:Admission is $4 for non MOWT members.  Dr. Scott McIntosh will talk on  Russian Arctic Exploration.  Light refreshments are provided.  https://worldtreasures.org/events/calendar/senior-wednesday-russian-arctic-exploration.
URL:https://chapters.theprimetimersww.com/wichita/event/senior-wednesday-at-the-museum-of-world-treasures-835-e-first/
ATTACH;FMTTYPE=image/jpeg:https://chapters.theprimetimersww.com/wichita/wp-content/uploads/Museum-of-world-treasurers.jpg
END:VEVENT
END:VCALENDAR