BEGIN:VCALENDAR
VERSION:2.0
PRODID:-//Wichita Prime Timers - ECPv6.15.20//NONSGML v1.0//EN
CALSCALE:GREGORIAN
METHOD:PUBLISH
X-WR-CALNAME:Wichita Prime Timers
X-ORIGINAL-URL:https://chapters.theprimetimersww.com/wichita
X-WR-CALDESC:Events for Wichita Prime Timers
REFRESH-INTERVAL;VALUE=DURATION:PT1H
X-Robots-Tag:noindex
X-PUBLISHED-TTL:PT1H
BEGIN:VTIMEZONE
TZID:America/Chicago
BEGIN:DAYLIGHT
TZOFFSETFROM:-0600
TZOFFSETTO:-0500
TZNAME:CDT
DTSTART:20250309T080000
END:DAYLIGHT
BEGIN:STANDARD
TZOFFSETFROM:-0500
TZOFFSETTO:-0600
TZNAME:CST
DTSTART:20251102T070000
END:STANDARD
BEGIN:DAYLIGHT
TZOFFSETFROM:-0600
TZOFFSETTO:-0500
TZNAME:CDT
DTSTART:20260308T080000
END:DAYLIGHT
BEGIN:STANDARD
TZOFFSETFROM:-0500
TZOFFSETTO:-0600
TZNAME:CST
DTSTART:20261101T070000
END:STANDARD
BEGIN:DAYLIGHT
TZOFFSETFROM:-0600
TZOFFSETTO:-0500
TZNAME:CDT
DTSTART:20270314T080000
END:DAYLIGHT
BEGIN:STANDARD
TZOFFSETFROM:-0500
TZOFFSETTO:-0600
TZNAME:CST
DTSTART:20271107T070000
END:STANDARD
END:VTIMEZONE
BEGIN:VEVENT
DTSTART;TZID=America/Chicago:20260418T100000
DTEND;TZID=America/Chicago:20260418T180000
DTSTAMP:20260420T053155
CREATED:20260329T031816Z
LAST-MODIFIED:20260329T031816Z
UID:6175-1776506400-1776535200@chapters.theprimetimersww.com
SUMMARY:Renaissance Faire at Sedgwick Co. Park 6501 West 21st St N by the Zoo.
DESCRIPTION:Admission is $13 if you buy your ticket online at Online Ticket Purchasing For The Great Plains Renaissance Festival – The Great Plains Renaissance Festival or it’s $17 at the gate. There’ll be jousts and jests\, knights and knaves\, bagpipes and blacksmiths\, fire breathers\, pirates\, fairies\, camel rides\, Scottish Highland games and more! Many that attend will be in at least partial costume\, but not required. Great time to break out your armor or kilt. Don’t have one\, Scott has a few extra kilts if you are close to his size.
URL:https://chapters.theprimetimersww.com/wichita/event/renaissance-faire-at-sedgwick-co-park-6501-west-21st-st-n-by-the-zoo/
ATTACH;FMTTYPE=image/jpeg:https://chapters.theprimetimersww.com/wichita/wp-content/uploads/renaissaznce-festival.jpg
END:VEVENT
BEGIN:VEVENT
DTSTART;TZID=America/Chicago:20260418T183000
DTEND;TZID=America/Chicago:20260418T200000
DTSTAMP:20260420T053155
CREATED:20260329T032330Z
LAST-MODIFIED:20260329T032330Z
UID:6177-1776537000-1776542400@chapters.theprimetimersww.com
SUMMARY:Potluck/Business Meeting at Wichita United Church of Christ\, 5200 E. 31st St. S.
DESCRIPTION:It’s Husband Appreciation Day\, whether you have or had or wish you have a husband\, come out and enjoy our great buff et of favorite foods. We’ll\nbe celebrating National Food Month\, National BLT Sandwich Month\, National Grilled Cheese Month\, or National Garden Month\, like National Fresh Celery Month. Retired Rev. Jackie Carter will be our guest speaker\, and will tell us about Camp Sunflower.
URL:https://chapters.theprimetimersww.com/wichita/event/potluck-business-meeting-at-wichita-united-church-of-christ-5200-e-31st-st-s-6/
ATTACH;FMTTYPE=image/jpeg:https://chapters.theprimetimersww.com/wichita/wp-content/uploads/pot-luck.jpg
END:VEVENT
END:VCALENDAR