BEGIN:VCALENDAR
VERSION:2.0
PRODID:-//Wichita Prime Timers - ECPv6.15.20//NONSGML v1.0//EN
CALSCALE:GREGORIAN
METHOD:PUBLISH
X-ORIGINAL-URL:https://chapters.theprimetimersww.com/wichita
X-WR-CALDESC:Events for Wichita Prime Timers
REFRESH-INTERVAL;VALUE=DURATION:PT1H
X-Robots-Tag:noindex
X-PUBLISHED-TTL:PT1H
BEGIN:VTIMEZONE
TZID:America/Chicago
BEGIN:DAYLIGHT
TZOFFSETFROM:-0600
TZOFFSETTO:-0500
TZNAME:CDT
DTSTART:20180311T080000
END:DAYLIGHT
BEGIN:STANDARD
TZOFFSETFROM:-0500
TZOFFSETTO:-0600
TZNAME:CST
DTSTART:20181104T070000
END:STANDARD
BEGIN:DAYLIGHT
TZOFFSETFROM:-0600
TZOFFSETTO:-0500
TZNAME:CDT
DTSTART:20190310T080000
END:DAYLIGHT
BEGIN:STANDARD
TZOFFSETFROM:-0500
TZOFFSETTO:-0600
TZNAME:CST
DTSTART:20191103T070000
END:STANDARD
BEGIN:DAYLIGHT
TZOFFSETFROM:-0600
TZOFFSETTO:-0500
TZNAME:CDT
DTSTART:20200308T080000
END:DAYLIGHT
BEGIN:STANDARD
TZOFFSETFROM:-0500
TZOFFSETTO:-0600
TZNAME:CST
DTSTART:20201101T070000
END:STANDARD
END:VTIMEZONE
BEGIN:VEVENT
DTSTART;TZID=America/Chicago:20190913T113000
DTEND;TZID=America/Chicago:20190913T130000
DTSTAMP:20260422T013636
CREATED:20190827T150242Z
LAST-MODIFIED:20190827T150242Z
UID:539-1568374200-1568379600@chapters.theprimetimersww.com
SUMMARY:11:30 AM - Lunch With The Boys @ Cheddars West
DESCRIPTION:It’s Defy Superstition Day and Blame Someone Else Day\, that must be why Cheddars doesn’t take reservations or call ahead seating.  It’s on a first come\, first serve basis\, so get there early.  Let’s try the new Cheddars on the west side.  Mike & Joe say that Cheddars is not that expensive; they have lunch combos that start at $5.99.  You can see their menu at:  https://cheddars.com/view-menus.  Let’s just hope that they’re not celebrating Kids Take Over The Kitchen Day.
URL:https://chapters.theprimetimersww.com/wichita/event/1130-am-lunch-with-the-boys-cheddars-west/
LOCATION:Chedders\, 535 S. Ridge Rd\, Wichita\, KS\, KS\, United States
END:VEVENT
END:VCALENDAR