BEGIN:VCALENDAR
VERSION:2.0
PRODID:-//Wichita Prime Timers - ECPv6.15.20//NONSGML v1.0//EN
CALSCALE:GREGORIAN
METHOD:PUBLISH
X-ORIGINAL-URL:https://chapters.theprimetimersww.com/wichita
X-WR-CALDESC:Events for Wichita Prime Timers
REFRESH-INTERVAL;VALUE=DURATION:PT1H
X-Robots-Tag:noindex
X-PUBLISHED-TTL:PT1H
BEGIN:VTIMEZONE
TZID:America/Chicago
BEGIN:DAYLIGHT
TZOFFSETFROM:-0600
TZOFFSETTO:-0500
TZNAME:CDT
DTSTART:20190310T080000
END:DAYLIGHT
BEGIN:STANDARD
TZOFFSETFROM:-0500
TZOFFSETTO:-0600
TZNAME:CST
DTSTART:20191103T070000
END:STANDARD
BEGIN:DAYLIGHT
TZOFFSETFROM:-0600
TZOFFSETTO:-0500
TZNAME:CDT
DTSTART:20200308T080000
END:DAYLIGHT
BEGIN:STANDARD
TZOFFSETFROM:-0500
TZOFFSETTO:-0600
TZNAME:CST
DTSTART:20201101T070000
END:STANDARD
BEGIN:DAYLIGHT
TZOFFSETFROM:-0600
TZOFFSETTO:-0500
TZNAME:CDT
DTSTART:20210314T080000
END:DAYLIGHT
BEGIN:STANDARD
TZOFFSETFROM:-0500
TZOFFSETTO:-0600
TZNAME:CST
DTSTART:20211107T070000
END:STANDARD
BEGIN:DAYLIGHT
TZOFFSETFROM:-0600
TZOFFSETTO:-0500
TZNAME:CDT
DTSTART:20220313T080000
END:DAYLIGHT
BEGIN:STANDARD
TZOFFSETFROM:-0500
TZOFFSETTO:-0600
TZNAME:CST
DTSTART:20221106T070000
END:STANDARD
BEGIN:DAYLIGHT
TZOFFSETFROM:-0600
TZOFFSETTO:-0500
TZNAME:CDT
DTSTART:20230312T080000
END:DAYLIGHT
BEGIN:STANDARD
TZOFFSETFROM:-0500
TZOFFSETTO:-0600
TZNAME:CST
DTSTART:20231105T070000
END:STANDARD
END:VTIMEZONE
BEGIN:VEVENT
DTSTART;TZID=America/Chicago:20220214T063000
DTEND;TZID=America/Chicago:20220214T200000
DTSTAMP:20260422T082612
CREATED:20220127T164921Z
LAST-MODIFIED:20220128T150040Z
UID:2604-1644820200-1644868800@chapters.theprimetimersww.com
SUMMARY:Board Meeting @ Country Cafe 2804 S. Seneca
DESCRIPTION:February 14th\, Monday\, Board Meeting\, 6:30 PM at Country Cafe\, 2804 S. Seneca. Reserved. On this Valentine’s Day\, your board is working hard to bring about the activities and events that you’re sure to love. Join us for a meal and to discuss or suggest future group activities. Here’s a couple of valentine videos for you: Sam & Harry – The Thing About Harry: www.youtube.com/watch?v=_Ol8cDfTr5w and Eric Dane and Bradley Cooper in Valentine’s Day: www.youtube.com/watch?v=6EAjrENSoSA.
URL:https://chapters.theprimetimersww.com/wichita/event/board-meeting-test-event/
LOCATION:Country Cafe\, 2804 S Seneca St.\, Wichita\, KS\, 67217\, United States
END:VEVENT
BEGIN:VEVENT
DTSTART;TZID=America/Chicago:20200604T183000
DTEND;TZID=America/Chicago:20200604T200000
DTSTAMP:20260422T082612
CREATED:20200530T194802Z
LAST-MODIFIED:20200531T033107Z
UID:1145-1591295400-1591300800@chapters.theprimetimersww.com
SUMMARY:Celebrations Country Cafe\, 2804 S. Seneca
DESCRIPTION:Just because It’s Old Maid’s Day\, instead of celebrating Cognac Day just a little too much\, and playing with your pussy on\nHug Your Cat Day\, join us in celebrating June Birthday Boys and Anniversary Couples. And while we’re at it\, let’s catch up with our missed April and May Birthday Boys and Anniversary Couples as well!
URL:https://chapters.theprimetimersww.com/wichita/event/celebrations/
LOCATION:Country Cafe\, 2804 S Seneca St.\, Wichita\, KS\, 67217\, United States
ATTACH;FMTTYPE=image/jpeg:https://chapters.theprimetimersww.com/wichita/wp-content/uploads/Country-Cafe.jpg
ORGANIZER;CN="":MAILTO:mendozamdm@aol.com
END:VEVENT
END:VCALENDAR