BEGIN:VCALENDAR
VERSION:2.0
PRODID:-//Wichita Prime Timers - ECPv6.15.20//NONSGML v1.0//EN
CALSCALE:GREGORIAN
METHOD:PUBLISH
X-WR-CALNAME:Wichita Prime Timers
X-ORIGINAL-URL:https://chapters.theprimetimersww.com/wichita
X-WR-CALDESC:Events for Wichita Prime Timers
REFRESH-INTERVAL;VALUE=DURATION:PT1H
X-Robots-Tag:noindex
X-PUBLISHED-TTL:PT1H
BEGIN:VTIMEZONE
TZID:America/Chicago
BEGIN:DAYLIGHT
TZOFFSETFROM:-0600
TZOFFSETTO:-0500
TZNAME:CDT
DTSTART:20180311T080000
END:DAYLIGHT
BEGIN:STANDARD
TZOFFSETFROM:-0500
TZOFFSETTO:-0600
TZNAME:CST
DTSTART:20181104T070000
END:STANDARD
BEGIN:DAYLIGHT
TZOFFSETFROM:-0600
TZOFFSETTO:-0500
TZNAME:CDT
DTSTART:20190310T080000
END:DAYLIGHT
BEGIN:STANDARD
TZOFFSETFROM:-0500
TZOFFSETTO:-0600
TZNAME:CST
DTSTART:20191103T070000
END:STANDARD
BEGIN:DAYLIGHT
TZOFFSETFROM:-0600
TZOFFSETTO:-0500
TZNAME:CDT
DTSTART:20200308T080000
END:DAYLIGHT
BEGIN:STANDARD
TZOFFSETFROM:-0500
TZOFFSETTO:-0600
TZNAME:CST
DTSTART:20201101T070000
END:STANDARD
END:VTIMEZONE
BEGIN:VEVENT
DTSTART;TZID=America/Chicago:20190909T100000
DTEND;TZID=America/Chicago:20190909T150000
DTSTAMP:20260423T054637
CREATED:20190827T152108Z
LAST-MODIFIED:20190827T152108Z
UID:551-1568023200-1568041200@chapters.theprimetimersww.com
SUMMARY:10 AM - State Fair Dollar Day Carpool
DESCRIPTION:Car pool from our house\, 921 N. Amidon.  On World Weirdos Day\, we’re going to the state fair.  Bring your Dillon’s card for free admission or pay a buck at the gate.  It’s also Weinerschnitzel Day so bring money for your lunch and snacks and wear comfortable shoes.  We’ll walk the midway\, tour the buildings\, and stuff as much freebies as we can in our bags before returning home about 3 o’clock.  It’s like Trick of Treat for seniors.  Oh\, and we have to stop in at the Poultry Division and admire Lewis’ big ol’ prize winning cock.  If it was any bigger it would be in the side show.  It’s so big\, we can take a group picture with it.
URL:https://chapters.theprimetimersww.com/wichita/event/10-am-state-fair-dollar-day-carpool/
LOCATION:Kansas State Fair\, Hutchinson\, KS\, United States
END:VEVENT
END:VCALENDAR