BEGIN:VCALENDAR
VERSION:2.0
PRODID:-//Wichita Prime Timers - ECPv6.15.20//NONSGML v1.0//EN
CALSCALE:GREGORIAN
METHOD:PUBLISH
X-ORIGINAL-URL:https://chapters.theprimetimersww.com/wichita
X-WR-CALDESC:Events for Wichita Prime Timers
REFRESH-INTERVAL;VALUE=DURATION:PT1H
X-Robots-Tag:noindex
X-PUBLISHED-TTL:PT1H
BEGIN:VTIMEZONE
TZID:America/Chicago
BEGIN:DAYLIGHT
TZOFFSETFROM:-0600
TZOFFSETTO:-0500
TZNAME:CDT
DTSTART:20180311T080000
END:DAYLIGHT
BEGIN:STANDARD
TZOFFSETFROM:-0500
TZOFFSETTO:-0600
TZNAME:CST
DTSTART:20181104T070000
END:STANDARD
BEGIN:DAYLIGHT
TZOFFSETFROM:-0600
TZOFFSETTO:-0500
TZNAME:CDT
DTSTART:20190310T080000
END:DAYLIGHT
BEGIN:STANDARD
TZOFFSETFROM:-0500
TZOFFSETTO:-0600
TZNAME:CST
DTSTART:20191103T070000
END:STANDARD
BEGIN:DAYLIGHT
TZOFFSETFROM:-0600
TZOFFSETTO:-0500
TZNAME:CDT
DTSTART:20200308T080000
END:DAYLIGHT
BEGIN:STANDARD
TZOFFSETFROM:-0500
TZOFFSETTO:-0600
TZNAME:CST
DTSTART:20201101T070000
END:STANDARD
END:VTIMEZONE
BEGIN:VEVENT
DTSTART;TZID=America/Chicago:20191003T183000
DTEND;TZID=America/Chicago:20191003T200000
DTSTAMP:20260422T221138
CREATED:20190930T023920Z
LAST-MODIFIED:20191002T160024Z
UID:621-1570127400-1570132800@chapters.theprimetimersww.com
SUMMARY:6:30 PM - Celebrations @ Ourrs Family Restaurant 1606 S. Georgetown St.
DESCRIPTION:October 3rd\, Thursday\, Celebrations\, 6:30 PM at\nOurrs Family Restaurant\, 1606 S. Georgetown St. Why is\nBoyfriends Day and Virus Appreciation Day on the same day?\nWhat does that say about your boyfriend? What does your\npartner say about your boyfriend? In fact\, what does everyone\nsay about your boyfriend’s virus\, like its any of their business.\nCome out and help us celebrate October Birthday Boys\nand Anniversary couples\, and talk about their boyfriends’\nviruses.
URL:https://chapters.theprimetimersww.com/wichita/event/630-pm-celebrations-ourrs-family-restaurant-1606-s-georgetown-st/
LOCATION:Ours Family Restaurant\, 1606 S Georgetown St\, Wichita\, KS\, 67218\, United States
ORGANIZER;CN="":MAILTO:mendozamdm@aol.com
END:VEVENT
END:VCALENDAR