BEGIN:VCALENDAR
VERSION:2.0
PRODID:-//Wichita Prime Timers - ECPv6.15.20//NONSGML v1.0//EN
CALSCALE:GREGORIAN
METHOD:PUBLISH
X-ORIGINAL-URL:https://chapters.theprimetimersww.com/wichita
X-WR-CALDESC:Events for Wichita Prime Timers
REFRESH-INTERVAL;VALUE=DURATION:PT1H
X-Robots-Tag:noindex
X-PUBLISHED-TTL:PT1H
BEGIN:VTIMEZONE
TZID:America/Chicago
BEGIN:DAYLIGHT
TZOFFSETFROM:-0600
TZOFFSETTO:-0500
TZNAME:CDT
DTSTART:20180311T080000
END:DAYLIGHT
BEGIN:STANDARD
TZOFFSETFROM:-0500
TZOFFSETTO:-0600
TZNAME:CST
DTSTART:20181104T070000
END:STANDARD
BEGIN:DAYLIGHT
TZOFFSETFROM:-0600
TZOFFSETTO:-0500
TZNAME:CDT
DTSTART:20190310T080000
END:DAYLIGHT
BEGIN:STANDARD
TZOFFSETFROM:-0500
TZOFFSETTO:-0600
TZNAME:CST
DTSTART:20191103T070000
END:STANDARD
BEGIN:DAYLIGHT
TZOFFSETFROM:-0600
TZOFFSETTO:-0500
TZNAME:CDT
DTSTART:20200308T080000
END:DAYLIGHT
BEGIN:STANDARD
TZOFFSETFROM:-0500
TZOFFSETTO:-0600
TZNAME:CST
DTSTART:20201101T070000
END:STANDARD
END:VTIMEZONE
BEGIN:VEVENT
DTSTART;TZID=America/Chicago:20191002T190000
DTEND;TZID=America/Chicago:20191002T220000
DTSTAMP:20260422T042827
CREATED:20190930T022813Z
LAST-MODIFIED:20190930T031503Z
UID:618-1570042800-1570053600@chapters.theprimetimersww.com
SUMMARY:7 PM - Pitch Night at Mike & Joe's
DESCRIPTION:October 2nd\, Wednesday\, Pitch Night \, 7 PM at Mike & Joe’s. I think we tried to celebrate International Day of Non-\nViolence on a Pitch Night last year; yeah\, that didn’t go over too well. This year\, we’ll celebrate Name Your Car Day. What\nis your favorite pet name for your car? (And Piece of Shit Money Sucker doesn’t count. ) October is also Pizza Month\nin case you’re wondering what to bring to add to our favorite snacks and beverages bar.
URL:https://chapters.theprimetimersww.com/wichita/event/7-pm-pitch-night-at-mike-joes/
LOCATION:Pitch Night\, Wichita\, KS
ATTACH;FMTTYPE=image/jpeg:https://chapters.theprimetimersww.com/wichita/wp-content/uploads/group-card-game.jpg
ORGANIZER;CN="":MAILTO:mendozamdm@aol.com
END:VEVENT
BEGIN:VEVENT
DTSTART;TZID=America/Chicago:20190918T190000
DTEND;TZID=America/Chicago:20190918T220000
DTSTAMP:20260422T042827
CREATED:20190827T152424Z
LAST-MODIFIED:20190831T153333Z
UID:553-1568833200-1568844000@chapters.theprimetimersww.com
SUMMARY:7 PM - Pitch Night @ Mike & Joe's
DESCRIPTION:It’s Wild Life Day\, or so it would seem the way these guys play cards.  Just kidding.  And if you’re wondering what to bring to add to our favorite snacks and beverages bar\, it’s also Macadamia Nut Day.  Contact 573-9934 or 737-2694 for address.
URL:https://chapters.theprimetimersww.com/wichita/event/7-pm-pitch-night-mike-joes/
LOCATION:Pitch Night\, Wichita\, KS
ATTACH;FMTTYPE=image/jpeg:https://chapters.theprimetimersww.com/wichita/wp-content/uploads/group-card-game.jpg
ORGANIZER;CN="":MAILTO:mendozamdm@aol.com
END:VEVENT
END:VCALENDAR