BEGIN:VCALENDAR
VERSION:2.0
PRODID:-//Wichita Prime Timers - ECPv6.15.20//NONSGML v1.0//EN
CALSCALE:GREGORIAN
METHOD:PUBLISH
X-WR-CALNAME:Wichita Prime Timers
X-ORIGINAL-URL:https://chapters.theprimetimersww.com/wichita
X-WR-CALDESC:Events for Wichita Prime Timers
REFRESH-INTERVAL;VALUE=DURATION:PT1H
X-Robots-Tag:noindex
X-PUBLISHED-TTL:PT1H
BEGIN:VTIMEZONE
TZID:America/Chicago
BEGIN:DAYLIGHT
TZOFFSETFROM:-0600
TZOFFSETTO:-0500
TZNAME:CDT
DTSTART:20180311T080000
END:DAYLIGHT
BEGIN:STANDARD
TZOFFSETFROM:-0500
TZOFFSETTO:-0600
TZNAME:CST
DTSTART:20181104T070000
END:STANDARD
BEGIN:DAYLIGHT
TZOFFSETFROM:-0600
TZOFFSETTO:-0500
TZNAME:CDT
DTSTART:20190310T080000
END:DAYLIGHT
BEGIN:STANDARD
TZOFFSETFROM:-0500
TZOFFSETTO:-0600
TZNAME:CST
DTSTART:20191103T070000
END:STANDARD
BEGIN:DAYLIGHT
TZOFFSETFROM:-0600
TZOFFSETTO:-0500
TZNAME:CDT
DTSTART:20200308T080000
END:DAYLIGHT
BEGIN:STANDARD
TZOFFSETFROM:-0500
TZOFFSETTO:-0600
TZNAME:CST
DTSTART:20201101T070000
END:STANDARD
BEGIN:DAYLIGHT
TZOFFSETFROM:-0600
TZOFFSETTO:-0500
TZNAME:CDT
DTSTART:20210314T080000
END:DAYLIGHT
BEGIN:STANDARD
TZOFFSETFROM:-0500
TZOFFSETTO:-0600
TZNAME:CST
DTSTART:20211107T070000
END:STANDARD
END:VTIMEZONE
BEGIN:VEVENT
DTSTART;TZID=America/Chicago:20200606T090000
DTEND;TZID=America/Chicago:20200606T100000
DTSTAMP:20260422T124852
CREATED:20200530T194907Z
LAST-MODIFIED:20200531T033323Z
UID:1147-1591434000-1591437600@chapters.theprimetimersww.com
SUMMARY:Breakfast Boys Club at Village Inn\, 7020 W. Central
DESCRIPTION:Before you get started gardening on Gardening Exercise Day or hit the dusty trails for Trails Day\, start the day with a good hot breakfast. VI doesn’t take reservations\, so whoever gets there first\, ask for a table for eight.
URL:https://chapters.theprimetimersww.com/wichita/event/breakfast-boys-club/
LOCATION:Village Inn\, 7020 W Central\, Wichita\, KS\, KS\, United States
ATTACH;FMTTYPE=image/jpeg:https://chapters.theprimetimersww.com/wichita/wp-content/uploads/Village-Inn.jpg
ORGANIZER;CN="":MAILTO:mendozamdm@aol.com
END:VEVENT
BEGIN:VEVENT
DTSTART;TZID=America/Chicago:20190911T100000
DTEND;TZID=America/Chicago:20190911T110000
DTSTAMP:20260422T124852
CREATED:20190827T144932Z
LAST-MODIFIED:20190827T145453Z
UID:536-1568196000-1568199600@chapters.theprimetimersww.com
SUMMARY:10 AM - Coffee With The Boys @ Village Inn West Central
DESCRIPTION:Since we went to the East VI the last time\, we’re going to the West VI this time. September\nis Village Inn Anniversary. Last year VI offered All You Can Eat Pancakes\, however\, they haven’t announced such a offer yet.\nBut even if they don’t\, so we’ll be there on a Wednesday to get free pie.
URL:https://chapters.theprimetimersww.com/wichita/event/10-am-coffee-with-the-boys-village-inn-west-central/
LOCATION:Village Inn\, 7020 W Central\, Wichita\, KS\, KS\, United States
ATTACH;FMTTYPE=image/jpeg:https://chapters.theprimetimersww.com/wichita/wp-content/uploads/Village-Inn.jpg
END:VEVENT
END:VCALENDAR